BEGIN:VCALENDAR
VERSION:2.0
PRODID:-//National Alliance on Mental Illness | NAMI Franklin County - ECPv6.15.20//NONSGML v1.0//EN
CALSCALE:GREGORIAN
METHOD:PUBLISH
X-WR-CALNAME:National Alliance on Mental Illness | NAMI Franklin County
X-ORIGINAL-URL:https://namifranklincounty.org
X-WR-CALDESC:Events for National Alliance on Mental Illness | NAMI Franklin County
REFRESH-INTERVAL;VALUE=DURATION:PT1H
X-Robots-Tag:noindex
X-PUBLISHED-TTL:PT1H
BEGIN:VTIMEZONE
TZID:UTC
BEGIN:STANDARD
TZOFFSETFROM:+0000
TZOFFSETTO:+0000
TZNAME:UTC
DTSTART:20240101T000000
END:STANDARD
END:VTIMEZONE
BEGIN:VEVENT
DTSTART;TZID=UTC:20251030T180000
DTEND;TZID=UTC:20251030T203000
DTSTAMP:20260419T214532
CREATED:20250815T160311Z
LAST-MODIFIED:20250815T160311Z
UID:10004819-1761847200-1761856200@namifranklincounty.org
SUMMARY:NAMI Family-to-Family Education Program
DESCRIPTION:NAMI Family-to-Family Education Program—This eight-week program is for family members\, caregivers\, and partners of individuals living with a mental health condition. Contact Karen Cousins\, (614) 501-6264\, (9:00 a.m.–5:00 p.m.\, Monday-Friday) or email karen@namifc.org.
URL:https://namifranklincounty.org/calendar/nami-family-to-family-education-program-2/2025-10-30/
LOCATION:Zoom—Meeting ID and Passcode will be emailed after registration and before class begins .
END:VEVENT
BEGIN:VEVENT
DTSTART;TZID=UTC:20251030T183000
DTEND;TZID=UTC:20251030T200000
DTSTAMP:20260419T214532
CREATED:20250219T064056Z
LAST-MODIFIED:20250710T191052Z
UID:10004234-1761849000-1761854400@namifranklincounty.org
SUMMARY:NAMI Connection Every Thursday
DESCRIPTION:NAMI Connection Every Thursday – A recovery support group for adults living with a mental health condition. The support group is facilitated by those in recovery. “Talk with someone who understands\, someone just like you. \nZoom meeting ID: 824-479-7473 https://us06web.zoom.us/j/8244797473.\nContact Regina Hillman (614) 501-6264\, (9:00 a.m.-5:00 p.m.\, Monday-Friday) or email regina@namifc.org for more information.
URL:https://namifranklincounty.org/calendar/nami-connection-every-thursday-6/2025-10-30/
LOCATION:Zoom Meeting
END:VEVENT
END:VCALENDAR