BEGIN:VCALENDAR
VERSION:2.0
PRODID:-//National Alliance on Mental Illness | NAMI Franklin County - ECPv6.15.20//NONSGML v1.0//EN
CALSCALE:GREGORIAN
METHOD:PUBLISH
X-ORIGINAL-URL:https://namifranklincounty.org
X-WR-CALDESC:Events for National Alliance on Mental Illness | NAMI Franklin County
REFRESH-INTERVAL;VALUE=DURATION:PT1H
X-Robots-Tag:noindex
X-PUBLISHED-TTL:PT1H
BEGIN:VTIMEZONE
TZID:UTC
BEGIN:STANDARD
TZOFFSETFROM:+0000
TZOFFSETTO:+0000
TZNAME:UTC
DTSTART:20250101T000000
END:STANDARD
END:VTIMEZONE
BEGIN:VEVENT
DTSTART;TZID=UTC:20260720T180000
DTEND;TZID=UTC:20260720T193000
DTSTAMP:20260419T181618
CREATED:20260331T164658Z
LAST-MODIFIED:20260331T170522Z
UID:10005177-1784570400-1784575800@namifranklincounty.org
SUMMARY:Men's Connection Recovery Support Group 3rd Wednesday of each month
DESCRIPTION:Men’s Connection Recovery Support Group 3rd Wednesday– A recovery support group for men living with a mental health condition. The support group is facilitated by those in recovery. \n\n\n\nZoom Meeting ID: 666-903-2784 https://us06web.zoom.us/j/6669032784. \nContact Daniel Fall (614) 501-6264\, Monday-Friday (9:00 a.m.-5:00 p.m.)\, or email dan@namifc.org for more information.
URL:https://namifranklincounty.org/calendar/mens-connection-recovery-support-group-3rd-wednesday-of-each-month/2026-07-20/
LOCATION:Zoom Meeting
END:VEVENT
BEGIN:VEVENT
DTSTART;TZID=UTC:20260720T183000
DTEND;TZID=UTC:20260720T200000
DTSTAMP:20260419T181618
CREATED:20250219T063456Z
LAST-MODIFIED:20250710T185545Z
UID:10004011-1784572200-1784577600@namifranklincounty.org
SUMMARY:NAMI Connection Every Monday
DESCRIPTION:NAMI Connection Every Monday – A recovery support group for adults living with a mental health condition. The support group is facilitated by those in recovery. “Talk with someone who understands\, someone just like you.” \nNew Birth Christian Ministries\, 3475 Refugee Road\, Columbus\, Ohio 43232\, Room 206. Note: If the support group falls on a holiday\, the building is closed\, or there is inclement weather\, the support group will be held on Zoom  \nZoom meeting ID: 824-479-7473 https://us06web.zoom.us/j/8244797473. \nContact Laurita Barber (614) 530-4554\, Monday-Friday (9:00 a.m.-5:00 p.m.)\, or email laurita.barber@namifc.org for more information. \n 
URL:https://namifranklincounty.org/calendar/nami-connection-every-monday-6/2026-07-20/
LOCATION:New Birth Christian Ministries\, 3475 Refugee Rd\, Columbus\, OH\, 43232\, United States
END:VEVENT
END:VCALENDAR