BEGIN:VCALENDAR
VERSION:2.0
PRODID:-//National Alliance on Mental Illness | NAMI Franklin County - ECPv6.15.20//NONSGML v1.0//EN
CALSCALE:GREGORIAN
METHOD:PUBLISH
X-ORIGINAL-URL:https://namifranklincounty.org
X-WR-CALDESC:Events for National Alliance on Mental Illness | NAMI Franklin County
REFRESH-INTERVAL;VALUE=DURATION:PT1H
X-Robots-Tag:noindex
X-PUBLISHED-TTL:PT1H
BEGIN:VTIMEZONE
TZID:UTC
BEGIN:STANDARD
TZOFFSETFROM:+0000
TZOFFSETTO:+0000
TZNAME:UTC
DTSTART:20240101T000000
END:STANDARD
END:VTIMEZONE
BEGIN:VEVENT
DTSTART;TZID=UTC:20250630T183000
DTEND;TZID=UTC:20250630T200000
DTSTAMP:20260420T075054
CREATED:20250219T063456Z
LAST-MODIFIED:20250710T185545Z
UID:10003956-1751308200-1751313600@namifranklincounty.org
SUMMARY:NAMI Connection Every Monday
DESCRIPTION:NAMI Connection Every Monday – A recovery support group for adults living with a mental health condition. The support group is facilitated by those in recovery. “Talk with someone who understands\, someone just like you.” \nNew Birth Christian Ministries\, 3475 Refugee Road\, Columbus\, Ohio 43232\, Room 206. Note: If the support group falls on a holiday\, the building is closed\, or there is inclement weather\, the support group will be held on Zoom  \nZoom meeting ID: 824-479-7473 https://us06web.zoom.us/j/8244797473. \nContact Laurita Barber (614) 530-4554\, Monday-Friday (9:00 a.m.-5:00 p.m.)\, or email laurita.barber@namifc.org for more information. \n 
URL:https://namifranklincounty.org/calendar/nami-connection-every-monday-6/2025-06-30/
LOCATION:New Birth Christian Ministries\, 3475 Refugee Rd\, Columbus\, OH\, 43232\, United States
END:VEVENT
BEGIN:VEVENT
DTSTART;TZID=UTC:20250701T180000
DTEND;TZID=UTC:20250701T200000
DTSTAMP:20260420T075054
CREATED:20250710T181353Z
LAST-MODIFIED:20250710T190336Z
UID:10003916-1751392800-1751400000@namifranklincounty.org
SUMMARY:NAMI Peer-to-Peer Recovery Program
DESCRIPTION:NAMI Peer-to-Peer Recovery Program–This eight-week\, unique\, experiential recovery program is for people living with a mental health condition\, interested in establishing and maintaining their wellness and recovery. Contact Laurita Barber (614) 530-4554 (9:00 a.m.-5:00 p.m. Monday-Friday) or email laurita.barber@namifc.org.
URL:https://namifranklincounty.org/calendar/nami-peer-to-peer-recovery-program/2025-07-01/
LOCATION:Zoom Meeting
END:VEVENT
BEGIN:VEVENT
DTSTART;TZID=UTC:20250703T180000
DTEND;TZID=UTC:20250703T203000
DTSTAMP:20260420T075054
CREATED:20250710T181205Z
LAST-MODIFIED:20250710T182556Z
UID:10003906-1751565600-1751574600@namifranklincounty.org
SUMMARY:NAMI Family-to-Family Education Program
DESCRIPTION:NAMI Family-to-Family Education Program—This eight-week program is for family members\, caregivers\, and partners of individuals living with a mental health condition. Contact Karen Cousins\, (614) 501-6264\, (9:00 a.m.–5:00 p.m.\, Monday-Friday) or email karen@namifc.org.
URL:https://namifranklincounty.org/calendar/nami-family-to-family-education-program/2025-07-03/
LOCATION:Hybrid – NAMI Office and Zoom
END:VEVENT
BEGIN:VEVENT
DTSTART;TZID=UTC:20250705T120000
DTEND;TZID=UTC:20250705T133000
DTSTAMP:20260420T075054
CREATED:20250226T181416Z
LAST-MODIFIED:20250710T190055Z
UID:10003518-1751716800-1751722200@namifranklincounty.org
SUMMARY:NAMI Connection Every Saturday
DESCRIPTION:NAMI Connection Every Saturday – A recovery support group for adults living with a mental health condition. The support group is facilitated by those in recovery. “Talk with someone who understands\, someone just like you. \nZoom meeting ID: 824-479-7473 https://us06web.zoom.us/j/8244797473.\nContact Regina Hillman (614) 501-6264\, (9:00 a.m.-5:00 p.m.\, Monday-Friday) or email regina@namifc.org for more information.
URL:https://namifranklincounty.org/calendar/nami-connection-every-saturday-2/2025-07-05/
LOCATION:Zoom Meeting
END:VEVENT
BEGIN:VEVENT
DTSTART;TZID=UTC:20250707T183000
DTEND;TZID=UTC:20250707T200000
DTSTAMP:20260420T075054
CREATED:20250219T063456Z
LAST-MODIFIED:20250710T185545Z
UID:10003957-1751913000-1751918400@namifranklincounty.org
SUMMARY:NAMI Connection Every Monday
DESCRIPTION:NAMI Connection Every Monday – A recovery support group for adults living with a mental health condition. The support group is facilitated by those in recovery. “Talk with someone who understands\, someone just like you.” \nNew Birth Christian Ministries\, 3475 Refugee Road\, Columbus\, Ohio 43232\, Room 206. Note: If the support group falls on a holiday\, the building is closed\, or there is inclement weather\, the support group will be held on Zoom  \nZoom meeting ID: 824-479-7473 https://us06web.zoom.us/j/8244797473. \nContact Laurita Barber (614) 530-4554\, Monday-Friday (9:00 a.m.-5:00 p.m.)\, or email laurita.barber@namifc.org for more information. \n 
URL:https://namifranklincounty.org/calendar/nami-connection-every-monday-6/2025-07-07/
LOCATION:New Birth Christian Ministries\, 3475 Refugee Rd\, Columbus\, OH\, 43232\, United States
END:VEVENT
BEGIN:VEVENT
DTSTART;TZID=UTC:20250708T180000
DTEND;TZID=UTC:20250708T200000
DTSTAMP:20260420T075054
CREATED:20250710T181353Z
LAST-MODIFIED:20250710T190336Z
UID:10003917-1751997600-1752004800@namifranklincounty.org
SUMMARY:NAMI Peer-to-Peer Recovery Program
DESCRIPTION:NAMI Peer-to-Peer Recovery Program–This eight-week\, unique\, experiential recovery program is for people living with a mental health condition\, interested in establishing and maintaining their wellness and recovery. Contact Laurita Barber (614) 530-4554 (9:00 a.m.-5:00 p.m. Monday-Friday) or email laurita.barber@namifc.org.
URL:https://namifranklincounty.org/calendar/nami-peer-to-peer-recovery-program/2025-07-08/
LOCATION:Zoom Meeting
END:VEVENT
BEGIN:VEVENT
DTSTART;TZID=UTC:20250709T173000
DTEND;TZID=UTC:20250709T190000
DTSTAMP:20260420T075054
CREATED:20250428T210031Z
LAST-MODIFIED:20250428T212525Z
UID:10002762-1752082200-1752087600@namifranklincounty.org
SUMMARY:Family Support Groups 2nd Wednesday of each month
DESCRIPTION:Family Support Groups – Support for adult caregivers\, family members\, and partners caring for loved ones with a mental health condition. \n\n\n\nThis is an in-person and Zoom meeting. In-person support group meets at 1225 Dublin Road\, Ste. 050 (park and enter at the rear of the building).\nMeeting ID: 960-308-8915 https://us06web.zoom.us/j/9603088915.  Contact Laurita Barber (614) 530-4554\, Monday-Friday (9:00 a.m.-5:00 p.m.)\, or email laurita.barber@namifc.org for more information.
URL:https://namifranklincounty.org/calendar/family-support-groups-2nd-wednesday-of-each-month-4/
LOCATION:Hybrid – NAMI Office and Zoom
END:VEVENT
BEGIN:VEVENT
DTSTART;TZID=UTC:20250710T180000
DTEND;TZID=UTC:20250710T203000
DTSTAMP:20260420T075054
CREATED:20250710T181205Z
LAST-MODIFIED:20250710T182556Z
UID:10003907-1752170400-1752179400@namifranklincounty.org
SUMMARY:NAMI Family-to-Family Education Program
DESCRIPTION:NAMI Family-to-Family Education Program—This eight-week program is for family members\, caregivers\, and partners of individuals living with a mental health condition. Contact Karen Cousins\, (614) 501-6264\, (9:00 a.m.–5:00 p.m.\, Monday-Friday) or email karen@namifc.org.
URL:https://namifranklincounty.org/calendar/nami-family-to-family-education-program/2025-07-10/
LOCATION:Hybrid – NAMI Office and Zoom
END:VEVENT
BEGIN:VEVENT
DTSTART;TZID=UTC:20250712T100000
DTEND;TZID=UTC:20250712T163000
DTSTAMP:20260420T075054
CREATED:20250710T183133Z
LAST-MODIFIED:20250710T184944Z
UID:10003938-1752314400-1752337800@namifranklincounty.org
SUMMARY:Youth Mental Health First Aid Training (MHFA)
DESCRIPTION:Youth MHFA is designed to teach parents\, family members\, caregivers\, teachers\, school staff\, neighbors\, health and human services workers\, and other caring citizens how to help an adolescent (age 12-18) who is experiencing a mental health or addictions challenge or is in crisis. Youth Mental Health First Aid is primarily designed for adults who regularly interact with young people. The course introduces common mental health challenges for youth\, reviews typical adolescent development\, and teaches a 5-step action plan for how to help young people in both crisis and non-crisis situations. Topics covered include anxiety\, depression\, substance use\, disorders in which psychosis may occur\, disruptive behavior disorders (including AD/HD)\, and eating disorders.  Follow this link for information and registration\, click here https://namifranklincounty.org/mental-health-first-aid-connect/.  Registration and online pre-work is required.  For more information contact Laurita Barber (614) 530-4554\, Monday-Friday (9:00 a.m.-5:00 p.m.)\, or email laurita.barber@namifc.org.
URL:https://namifranklincounty.org/calendar/mental-health-first-aid-training-mhfa/
LOCATION:Zoom Meeting
END:VEVENT
BEGIN:VEVENT
DTSTART;TZID=UTC:20250712T120000
DTEND;TZID=UTC:20250712T133000
DTSTAMP:20260420T075054
CREATED:20250226T181416Z
LAST-MODIFIED:20250710T190055Z
UID:10003519-1752321600-1752327000@namifranklincounty.org
SUMMARY:NAMI Connection Every Saturday
DESCRIPTION:NAMI Connection Every Saturday – A recovery support group for adults living with a mental health condition. The support group is facilitated by those in recovery. “Talk with someone who understands\, someone just like you. \nZoom meeting ID: 824-479-7473 https://us06web.zoom.us/j/8244797473.\nContact Regina Hillman (614) 501-6264\, (9:00 a.m.-5:00 p.m.\, Monday-Friday) or email regina@namifc.org for more information.
URL:https://namifranklincounty.org/calendar/nami-connection-every-saturday-2/2025-07-12/
LOCATION:Zoom Meeting
END:VEVENT
BEGIN:VEVENT
DTSTART;TZID=UTC:20250714T183000
DTEND;TZID=UTC:20250714T200000
DTSTAMP:20260420T075054
CREATED:20250219T063456Z
LAST-MODIFIED:20250710T185545Z
UID:10003958-1752517800-1752523200@namifranklincounty.org
SUMMARY:NAMI Connection Every Monday
DESCRIPTION:NAMI Connection Every Monday – A recovery support group for adults living with a mental health condition. The support group is facilitated by those in recovery. “Talk with someone who understands\, someone just like you.” \nNew Birth Christian Ministries\, 3475 Refugee Road\, Columbus\, Ohio 43232\, Room 206. Note: If the support group falls on a holiday\, the building is closed\, or there is inclement weather\, the support group will be held on Zoom  \nZoom meeting ID: 824-479-7473 https://us06web.zoom.us/j/8244797473. \nContact Laurita Barber (614) 530-4554\, Monday-Friday (9:00 a.m.-5:00 p.m.)\, or email laurita.barber@namifc.org for more information. \n 
URL:https://namifranklincounty.org/calendar/nami-connection-every-monday-6/2025-07-14/
LOCATION:New Birth Christian Ministries\, 3475 Refugee Rd\, Columbus\, OH\, 43232\, United States
END:VEVENT
BEGIN:VEVENT
DTSTART;TZID=UTC:20250715T180000
DTEND;TZID=UTC:20250715T193000
DTSTAMP:20260420T075054
CREATED:20250219T062747Z
LAST-MODIFIED:20260331T170417Z
UID:10003165-1752602400-1752607800@namifranklincounty.org
SUMMARY:Men’s Family Support Group 3rd Tuesday of each month
DESCRIPTION:Men’s Family Support Group 3rd Tuesday of each month – Support for male caregivers\, family members\, and partners caring for loved ones with a mental health condition. \n\n\n\nZoom Meeting ID: 666-903-2784 https://us06web.zoom.us/j/6669032784. \nContact Daniel Fall (614) 501-6264\, Monday-Friday (9:00 a.m.-5:00 p.m.)\, or email dan@namifc.org for more information.
URL:https://namifranklincounty.org/calendar/mens-family-support-group-3rd-tuesday-of-each-month-2/2025-07-15/
LOCATION:Zoom Meeting
END:VEVENT
BEGIN:VEVENT
DTSTART;TZID=UTC:20250715T180000
DTEND;TZID=UTC:20250715T200000
DTSTAMP:20260420T075054
CREATED:20250710T181353Z
LAST-MODIFIED:20250710T190336Z
UID:10003918-1752602400-1752609600@namifranklincounty.org
SUMMARY:NAMI Peer-to-Peer Recovery Program
DESCRIPTION:NAMI Peer-to-Peer Recovery Program–This eight-week\, unique\, experiential recovery program is for people living with a mental health condition\, interested in establishing and maintaining their wellness and recovery. Contact Laurita Barber (614) 530-4554 (9:00 a.m.-5:00 p.m. Monday-Friday) or email laurita.barber@namifc.org.
URL:https://namifranklincounty.org/calendar/nami-peer-to-peer-recovery-program/2025-07-15/
LOCATION:Zoom Meeting
END:VEVENT
BEGIN:VEVENT
DTSTART;TZID=UTC:20250717T180000
DTEND;TZID=UTC:20250717T203000
DTSTAMP:20260420T075054
CREATED:20250710T181205Z
LAST-MODIFIED:20250710T182556Z
UID:10003908-1752775200-1752784200@namifranklincounty.org
SUMMARY:NAMI Family-to-Family Education Program
DESCRIPTION:NAMI Family-to-Family Education Program—This eight-week program is for family members\, caregivers\, and partners of individuals living with a mental health condition. Contact Karen Cousins\, (614) 501-6264\, (9:00 a.m.–5:00 p.m.\, Monday-Friday) or email karen@namifc.org.
URL:https://namifranklincounty.org/calendar/nami-family-to-family-education-program/2025-07-17/
LOCATION:Hybrid – NAMI Office and Zoom
END:VEVENT
BEGIN:VEVENT
DTSTART;TZID=UTC:20250717T183000
DTEND;TZID=UTC:20250717T200000
DTSTAMP:20260420T075054
CREATED:20250219T064056Z
LAST-MODIFIED:20250710T191052Z
UID:10004219-1752777000-1752782400@namifranklincounty.org
SUMMARY:NAMI Connection Every Thursday
DESCRIPTION:NAMI Connection Every Thursday – A recovery support group for adults living with a mental health condition. The support group is facilitated by those in recovery. “Talk with someone who understands\, someone just like you. \nZoom meeting ID: 824-479-7473 https://us06web.zoom.us/j/8244797473.\nContact Regina Hillman (614) 501-6264\, (9:00 a.m.-5:00 p.m.\, Monday-Friday) or email regina@namifc.org for more information.
URL:https://namifranklincounty.org/calendar/nami-connection-every-thursday-6/2025-07-17/
LOCATION:Zoom Meeting
END:VEVENT
BEGIN:VEVENT
DTSTART;TZID=UTC:20250719T120000
DTEND;TZID=UTC:20250719T133000
DTSTAMP:20260420T075054
CREATED:20250226T181416Z
LAST-MODIFIED:20250710T190055Z
UID:10003520-1752926400-1752931800@namifranklincounty.org
SUMMARY:NAMI Connection Every Saturday
DESCRIPTION:NAMI Connection Every Saturday – A recovery support group for adults living with a mental health condition. The support group is facilitated by those in recovery. “Talk with someone who understands\, someone just like you. \nZoom meeting ID: 824-479-7473 https://us06web.zoom.us/j/8244797473.\nContact Regina Hillman (614) 501-6264\, (9:00 a.m.-5:00 p.m.\, Monday-Friday) or email regina@namifc.org for more information.
URL:https://namifranklincounty.org/calendar/nami-connection-every-saturday-2/2025-07-19/
LOCATION:Zoom Meeting
END:VEVENT
BEGIN:VEVENT
DTSTART;TZID=UTC:20250721T183000
DTEND;TZID=UTC:20250721T200000
DTSTAMP:20260420T075054
CREATED:20250219T063456Z
LAST-MODIFIED:20250710T185545Z
UID:10003959-1753122600-1753128000@namifranklincounty.org
SUMMARY:NAMI Connection Every Monday
DESCRIPTION:NAMI Connection Every Monday – A recovery support group for adults living with a mental health condition. The support group is facilitated by those in recovery. “Talk with someone who understands\, someone just like you.” \nNew Birth Christian Ministries\, 3475 Refugee Road\, Columbus\, Ohio 43232\, Room 206. Note: If the support group falls on a holiday\, the building is closed\, or there is inclement weather\, the support group will be held on Zoom  \nZoom meeting ID: 824-479-7473 https://us06web.zoom.us/j/8244797473. \nContact Laurita Barber (614) 530-4554\, Monday-Friday (9:00 a.m.-5:00 p.m.)\, or email laurita.barber@namifc.org for more information. \n 
URL:https://namifranklincounty.org/calendar/nami-connection-every-monday-6/2025-07-21/
LOCATION:New Birth Christian Ministries\, 3475 Refugee Rd\, Columbus\, OH\, 43232\, United States
END:VEVENT
BEGIN:VEVENT
DTSTART;TZID=UTC:20250722T180000
DTEND;TZID=UTC:20250722T200000
DTSTAMP:20260420T075054
CREATED:20250710T181353Z
LAST-MODIFIED:20250710T190336Z
UID:10003919-1753207200-1753214400@namifranklincounty.org
SUMMARY:NAMI Peer-to-Peer Recovery Program
DESCRIPTION:NAMI Peer-to-Peer Recovery Program–This eight-week\, unique\, experiential recovery program is for people living with a mental health condition\, interested in establishing and maintaining their wellness and recovery. Contact Laurita Barber (614) 530-4554 (9:00 a.m.-5:00 p.m. Monday-Friday) or email laurita.barber@namifc.org.
URL:https://namifranklincounty.org/calendar/nami-peer-to-peer-recovery-program/2025-07-22/
LOCATION:Zoom Meeting
END:VEVENT
BEGIN:VEVENT
DTSTART;TZID=UTC:20250723T173000
DTEND;TZID=UTC:20250723T190000
DTSTAMP:20260420T075054
CREATED:20250428T212715Z
LAST-MODIFIED:20250428T212715Z
UID:10002770-1753291800-1753297200@namifranklincounty.org
SUMMARY:Family Support Groups 4th Wednesday of each month
DESCRIPTION:Family Support Groups – Support for adult caregivers\, family members\, and partners caring for loved ones with a mental health condition. \n\n\n\nThis is an in-person and Zoom meeting. In-person support group meets at Southeast Healthcare–Merion Village\n1455 South 4th Street—Free parking on siteMeeting ID: 960-308-8915 https://us06web.zoom.us/j/9603088915.  Contact Laurita Barber (614) 530-4554 or Omenuko Davis (614) 702-3956\, Monday-Friday (9:00 a.m.-5:00 p.m.)\, or email laurita.barber@namifc.org for more information.
URL:https://namifranklincounty.org/calendar/family-support-groups-4th-wednesday-of-each-month-4/
LOCATION:Hybrid – Southeast Healthcare and Zoom
END:VEVENT
BEGIN:VEVENT
DTSTART;TZID=UTC:20250724T180000
DTEND;TZID=UTC:20250724T203000
DTSTAMP:20260420T075054
CREATED:20250710T181205Z
LAST-MODIFIED:20250710T182556Z
UID:10003909-1753380000-1753389000@namifranklincounty.org
SUMMARY:NAMI Family-to-Family Education Program
DESCRIPTION:NAMI Family-to-Family Education Program—This eight-week program is for family members\, caregivers\, and partners of individuals living with a mental health condition. Contact Karen Cousins\, (614) 501-6264\, (9:00 a.m.–5:00 p.m.\, Monday-Friday) or email karen@namifc.org.
URL:https://namifranklincounty.org/calendar/nami-family-to-family-education-program/2025-07-24/
LOCATION:Hybrid – NAMI Office and Zoom
END:VEVENT
BEGIN:VEVENT
DTSTART;TZID=UTC:20250724T183000
DTEND;TZID=UTC:20250724T200000
DTSTAMP:20260420T075054
CREATED:20250219T064056Z
LAST-MODIFIED:20250710T191052Z
UID:10004220-1753381800-1753387200@namifranklincounty.org
SUMMARY:NAMI Connection Every Thursday
DESCRIPTION:NAMI Connection Every Thursday – A recovery support group for adults living with a mental health condition. The support group is facilitated by those in recovery. “Talk with someone who understands\, someone just like you. \nZoom meeting ID: 824-479-7473 https://us06web.zoom.us/j/8244797473.\nContact Regina Hillman (614) 501-6264\, (9:00 a.m.-5:00 p.m.\, Monday-Friday) or email regina@namifc.org for more information.
URL:https://namifranklincounty.org/calendar/nami-connection-every-thursday-6/2025-07-24/
LOCATION:Zoom Meeting
END:VEVENT
BEGIN:VEVENT
DTSTART;TZID=UTC:20250726T120000
DTEND;TZID=UTC:20250726T133000
DTSTAMP:20260420T075054
CREATED:20250226T181416Z
LAST-MODIFIED:20250710T190055Z
UID:10003521-1753531200-1753536600@namifranklincounty.org
SUMMARY:NAMI Connection Every Saturday
DESCRIPTION:NAMI Connection Every Saturday – A recovery support group for adults living with a mental health condition. The support group is facilitated by those in recovery. “Talk with someone who understands\, someone just like you. \nZoom meeting ID: 824-479-7473 https://us06web.zoom.us/j/8244797473.\nContact Regina Hillman (614) 501-6264\, (9:00 a.m.-5:00 p.m.\, Monday-Friday) or email regina@namifc.org for more information.
URL:https://namifranklincounty.org/calendar/nami-connection-every-saturday-2/2025-07-26/
LOCATION:Zoom Meeting
END:VEVENT
BEGIN:VEVENT
DTSTART;TZID=UTC:20250728T183000
DTEND;TZID=UTC:20250728T200000
DTSTAMP:20260420T075054
CREATED:20250219T063456Z
LAST-MODIFIED:20250710T185545Z
UID:10003960-1753727400-1753732800@namifranklincounty.org
SUMMARY:NAMI Connection Every Monday
DESCRIPTION:NAMI Connection Every Monday – A recovery support group for adults living with a mental health condition. The support group is facilitated by those in recovery. “Talk with someone who understands\, someone just like you.” \nNew Birth Christian Ministries\, 3475 Refugee Road\, Columbus\, Ohio 43232\, Room 206. Note: If the support group falls on a holiday\, the building is closed\, or there is inclement weather\, the support group will be held on Zoom  \nZoom meeting ID: 824-479-7473 https://us06web.zoom.us/j/8244797473. \nContact Laurita Barber (614) 530-4554\, Monday-Friday (9:00 a.m.-5:00 p.m.)\, or email laurita.barber@namifc.org for more information. \n 
URL:https://namifranklincounty.org/calendar/nami-connection-every-monday-6/2025-07-28/
LOCATION:New Birth Christian Ministries\, 3475 Refugee Rd\, Columbus\, OH\, 43232\, United States
END:VEVENT
BEGIN:VEVENT
DTSTART;TZID=UTC:20250729T180000
DTEND;TZID=UTC:20250729T200000
DTSTAMP:20260420T075054
CREATED:20250710T181353Z
LAST-MODIFIED:20250710T190336Z
UID:10003920-1753812000-1753819200@namifranklincounty.org
SUMMARY:NAMI Peer-to-Peer Recovery Program
DESCRIPTION:NAMI Peer-to-Peer Recovery Program–This eight-week\, unique\, experiential recovery program is for people living with a mental health condition\, interested in establishing and maintaining their wellness and recovery. Contact Laurita Barber (614) 530-4554 (9:00 a.m.-5:00 p.m. Monday-Friday) or email laurita.barber@namifc.org.
URL:https://namifranklincounty.org/calendar/nami-peer-to-peer-recovery-program/2025-07-29/
LOCATION:Zoom Meeting
END:VEVENT
BEGIN:VEVENT
DTSTART;TZID=UTC:20250731T180000
DTEND;TZID=UTC:20250731T203000
DTSTAMP:20260420T075054
CREATED:20250710T181205Z
LAST-MODIFIED:20250710T182556Z
UID:10003910-1753984800-1753993800@namifranklincounty.org
SUMMARY:NAMI Family-to-Family Education Program
DESCRIPTION:NAMI Family-to-Family Education Program—This eight-week program is for family members\, caregivers\, and partners of individuals living with a mental health condition. Contact Karen Cousins\, (614) 501-6264\, (9:00 a.m.–5:00 p.m.\, Monday-Friday) or email karen@namifc.org.
URL:https://namifranklincounty.org/calendar/nami-family-to-family-education-program/2025-07-31/
LOCATION:Hybrid – NAMI Office and Zoom
END:VEVENT
BEGIN:VEVENT
DTSTART;TZID=UTC:20250731T183000
DTEND;TZID=UTC:20250731T200000
DTSTAMP:20260420T075054
CREATED:20250219T064056Z
LAST-MODIFIED:20250710T191052Z
UID:10004221-1753986600-1753992000@namifranklincounty.org
SUMMARY:NAMI Connection Every Thursday
DESCRIPTION:NAMI Connection Every Thursday – A recovery support group for adults living with a mental health condition. The support group is facilitated by those in recovery. “Talk with someone who understands\, someone just like you. \nZoom meeting ID: 824-479-7473 https://us06web.zoom.us/j/8244797473.\nContact Regina Hillman (614) 501-6264\, (9:00 a.m.-5:00 p.m.\, Monday-Friday) or email regina@namifc.org for more information.
URL:https://namifranklincounty.org/calendar/nami-connection-every-thursday-6/2025-07-31/
LOCATION:Zoom Meeting
END:VEVENT
BEGIN:VEVENT
DTSTART;TZID=UTC:20250802T120000
DTEND;TZID=UTC:20250802T133000
DTSTAMP:20260420T075054
CREATED:20250226T181416Z
LAST-MODIFIED:20250710T190055Z
UID:10003522-1754136000-1754141400@namifranklincounty.org
SUMMARY:NAMI Connection Every Saturday
DESCRIPTION:NAMI Connection Every Saturday – A recovery support group for adults living with a mental health condition. The support group is facilitated by those in recovery. “Talk with someone who understands\, someone just like you. \nZoom meeting ID: 824-479-7473 https://us06web.zoom.us/j/8244797473.\nContact Regina Hillman (614) 501-6264\, (9:00 a.m.-5:00 p.m.\, Monday-Friday) or email regina@namifc.org for more information.
URL:https://namifranklincounty.org/calendar/nami-connection-every-saturday-2/2025-08-02/
LOCATION:Zoom Meeting
END:VEVENT
BEGIN:VEVENT
DTSTART;TZID=UTC:20250804T183000
DTEND;TZID=UTC:20250804T200000
DTSTAMP:20260420T075054
CREATED:20250219T063456Z
LAST-MODIFIED:20250710T185545Z
UID:10003961-1754332200-1754337600@namifranklincounty.org
SUMMARY:NAMI Connection Every Monday
DESCRIPTION:NAMI Connection Every Monday – A recovery support group for adults living with a mental health condition. The support group is facilitated by those in recovery. “Talk with someone who understands\, someone just like you.” \nNew Birth Christian Ministries\, 3475 Refugee Road\, Columbus\, Ohio 43232\, Room 206. Note: If the support group falls on a holiday\, the building is closed\, or there is inclement weather\, the support group will be held on Zoom  \nZoom meeting ID: 824-479-7473 https://us06web.zoom.us/j/8244797473. \nContact Laurita Barber (614) 530-4554\, Monday-Friday (9:00 a.m.-5:00 p.m.)\, or email laurita.barber@namifc.org for more information. \n 
URL:https://namifranklincounty.org/calendar/nami-connection-every-monday-6/2025-08-04/
LOCATION:New Birth Christian Ministries\, 3475 Refugee Rd\, Columbus\, OH\, 43232\, United States
END:VEVENT
BEGIN:VEVENT
DTSTART;TZID=UTC:20250805T180000
DTEND;TZID=UTC:20250805T200000
DTSTAMP:20260420T075054
CREATED:20250710T181353Z
LAST-MODIFIED:20250710T190336Z
UID:10003921-1754416800-1754424000@namifranklincounty.org
SUMMARY:NAMI Peer-to-Peer Recovery Program
DESCRIPTION:NAMI Peer-to-Peer Recovery Program–This eight-week\, unique\, experiential recovery program is for people living with a mental health condition\, interested in establishing and maintaining their wellness and recovery. Contact Laurita Barber (614) 530-4554 (9:00 a.m.-5:00 p.m. Monday-Friday) or email laurita.barber@namifc.org.
URL:https://namifranklincounty.org/calendar/nami-peer-to-peer-recovery-program/2025-08-05/
LOCATION:Zoom Meeting
END:VEVENT
BEGIN:VEVENT
DTSTART;TZID=UTC:20250806T080000
DTEND;TZID=UTC:20250806T170000
DTSTAMP:20260420T075054
CREATED:20250710T180329Z
LAST-MODIFIED:20260401T144613Z
UID:10003844-1754467200-1754499600@namifranklincounty.org
SUMMARY:Parent Support Group 1st Wednesday of each month
DESCRIPTION:Patent Support Group – Support for parents\, caregivers\, and guardians of minor children (ages 22 and younger) living with behavioral difficulties and mental health challenges. \nZoom meeting ID: 678 970 3418 \nContact Laurita Barber\, (614) 530-4554\, Monday-Friday (9:00 a.m.-5:00 p.m.)\, or email laurita.barber@namifc.org for more information. \n 
URL:https://namifranklincounty.org/calendar/parent-support-group-1st-wednesday-of-each-month/2025-08-06/1/
LOCATION:Zoom Meeting
END:VEVENT
END:VCALENDAR