BEGIN:VCALENDAR
VERSION:2.0
PRODID:-//National Alliance on Mental Illness | NAMI Franklin County - ECPv6.15.20//NONSGML v1.0//EN
CALSCALE:GREGORIAN
METHOD:PUBLISH
X-WR-CALNAME:National Alliance on Mental Illness | NAMI Franklin County
X-ORIGINAL-URL:https://namifranklincounty.org
X-WR-CALDESC:Events for National Alliance on Mental Illness | NAMI Franklin County
REFRESH-INTERVAL;VALUE=DURATION:PT1H
X-Robots-Tag:noindex
X-PUBLISHED-TTL:PT1H
BEGIN:VTIMEZONE
TZID:UTC
BEGIN:STANDARD
TZOFFSETFROM:+0000
TZOFFSETTO:+0000
TZNAME:UTC
DTSTART:20240101T000000
END:STANDARD
END:VTIMEZONE
BEGIN:VEVENT
DTSTART;TZID=UTC:20250227T100000
DTEND;TZID=UTC:20250227T113000
DTSTAMP:20260421T053042
CREATED:20250219T065901Z
LAST-MODIFIED:20250219T065901Z
UID:10002756-1740650400-1740655800@namifranklincounty.org
SUMMARY:Grupo de Apoyo Amigas Latino Los Jueves 10am/7:30pm
DESCRIPTION:Grupo de Apoyo Amigas Latino—Apoyo a cuidadores y familiares que cuidan a sus seres queridos con enfermedades mentales. Por favor llame a Iliana Martínez at 614-272-7240\, para verificar fecha de la reunión. \n\n\n\nMartes Meeting ID: 833 9924 3033  \nPasscode: 726100 \nJueves Meeting ID:837 9500 8308 \nPasscode: 755456 \nJueves Meeting ID:851 4818 8653\n\n\n\nPasscode: 120616
URL:https://namifranklincounty.org/calendar/grupo-de-apoyo-amigas-latino-los-jueves-10am-730pm/
END:VEVENT
BEGIN:VEVENT
DTSTART;TZID=UTC:20250226T173000
DTEND;TZID=UTC:20250226T190000
DTSTAMP:20260421T053042
CREATED:20250219T062828Z
LAST-MODIFIED:20250226T175144Z
UID:10002738-1740591000-1740596400@namifranklincounty.org
SUMMARY:Family Support Groups 4th Wednesday of each month
DESCRIPTION:Family Support Groups – Support for adult caregivers\, family members\, and partners caring for loved ones with a mental health condition. \nGroup will begin at a new location on March 26th.  \nThis is an in-person and Zoom meeting. In-person support group meets at Southeast Healthcare–Merion Village\, 455 South 4th Street—Free parking on site.  Zoom Meeting ID: 960-308-8915 https://us06web.zoom.us/j/9603088915.  Contact Laurita Barber (614) 530-4554 or Omenuko Davis (614) 702-3956\, Monday-Friday (9:00 a.m.-5:00 p.m.)\, or email laurita.barber@namifc.org for more information. \n 
URL:https://namifranklincounty.org/calendar/family-support-groups-4th-wednesday-of-each-month/
END:VEVENT
BEGIN:VEVENT
DTSTART;TZID=UTC:20250225T193000
DTEND;TZID=UTC:20250225T210000
DTSTAMP:20260421T053042
CREATED:20250219T065606Z
LAST-MODIFIED:20250219T070002Z
UID:10002755-1740511800-1740517200@namifranklincounty.org
SUMMARY:Grupo de Apoyo Amigas Latino Los Martes 7:30pm
DESCRIPTION:Grupo de Apoyo Amigas Latino—Apoyo a cuidadores y familiares que cuidan a sus seres queridos con enfermedades mentales. Por favor llame a Iliana Martínez at 614-272-7240\, para verificar fecha de la reunión. \n\n\n\nMartes Meeting ID: 833 9924 3033  \nPasscode: 726100 \nJueves Meeting ID:837 9500 8308 \nPasscode: 755456 \nJueves Meeting ID:851 4818 8653\n\n\n\nPasscode: 120616
URL:https://namifranklincounty.org/calendar/grupo-de-apoyo-amigas-latino-los-martes-y-jueves-am-pm/
END:VEVENT
BEGIN:VEVENT
DTSTART;TZID=UTC:20250224T183000
DTEND;TZID=UTC:20250224T200000
DTSTAMP:20260421T053042
CREATED:20250219T063057Z
LAST-MODIFIED:20250710T190617Z
UID:10002741-1740421800-1740427200@namifranklincounty.org
SUMMARY:NAMI Connection Every Monday
DESCRIPTION:NAMI Connection Every Monday – A recovery support group for adults living with a mental health condition. The support group is facilitated by those in recovery. “Talk with someone who understands\, someone just like you.” \n\n\n\nNew Birth Christian Ministries\, 3475 Refugee Road\, Columbus\, Ohio 43232\, Room 206. Contact Laurita Barber (614) 530-4554\, Monday-Friday (9:00 a.m.-5:00 p.m.)\, or email laurita.barber@namifc.org for more information. Note: If support group falls on a holiday\, use the Zoom Meeting ID below.
URL:https://namifranklincounty.org/calendar/nami-connection-every-monday/
LOCATION:Zoom Meeting
END:VEVENT
BEGIN:VEVENT
DTSTART;TZID=UTC:20250222T120000
DTEND;TZID=UTC:20250222T133000
DTSTAMP:20260421T053042
CREATED:20250219T064349Z
LAST-MODIFIED:20250219T064349Z
UID:10002753-1740225600-1740231000@namifranklincounty.org
SUMMARY:NAMI Connection Every Saturday
DESCRIPTION:NAMI Connection Every Saturday – A recovery support group for adults living with a mental health condition. The support group is facilitated by those in recovery. “Talk with someone who understands\, someone just like you. \n”Zoom meeting ID: 824-479-7473\nContact Regina Hillman (614) 501-6264\, (9:00 a.m.-5:00 p.m.\, Monday-Friday) or email regina@namifc.org for more information.
URL:https://namifranklincounty.org/calendar/nami-connection-every-saturday/
END:VEVENT
BEGIN:VEVENT
DTSTART;TZID=UTC:20250220T183000
DTEND;TZID=UTC:20250220T200000
DTSTAMP:20260421T053042
CREATED:20250219T063743Z
LAST-MODIFIED:20250219T064855Z
UID:10002747-1740076200-1740081600@namifranklincounty.org
SUMMARY:NAMI Connection Every Thursday
DESCRIPTION:NAMI Connection Every Thursday – A recovery support group for adults living with a mental health condition. The support group is facilitated by those in recovery. “Talk with someone who understands\, someone just like you. \n”Zoom meeting ID: 824-479-7473\nContact Regina Hillman (614) 501-6264\, (9:00 a.m.-5:00 p.m.\, Monday-Friday) or email regina@namifc.org for more information.
URL:https://namifranklincounty.org/calendar/nami-connection-every-thursday/
END:VEVENT
BEGIN:VEVENT
DTSTART;TZID=UTC:20250218T180000
DTEND;TZID=UTC:20250218T193000
DTSTAMP:20260421T053042
CREATED:20250219T062652Z
LAST-MODIFIED:20250219T062652Z
UID:10002739-1739901600-1739907000@namifranklincounty.org
SUMMARY:Men’s Family Support Group 3rd Tuesday of each month
DESCRIPTION:Men’s Family Support Group 3rd Tuesday of each month – Support for male caregivers\, family members\, and partners caring for loved ones with a mental health condition. \n\n\n\nZoom Meeting ID: 666-903-2784 \nContact Daniel Fall (614) 501-6264\, Monday-Friday (9:00 a.m.-5:00 p.m.)\, or email danielcfall@gmail.com for more information.
URL:https://namifranklincounty.org/calendar/mens-family-support-group-3rd-tuesday-of-each-month/
END:VEVENT
END:VCALENDAR