BEGIN:VCALENDAR
VERSION:2.0
PRODID:-//National Alliance on Mental Illness | NAMI Franklin County - ECPv6.15.20//NONSGML v1.0//EN
CALSCALE:GREGORIAN
METHOD:PUBLISH
X-WR-CALNAME:National Alliance on Mental Illness | NAMI Franklin County
X-ORIGINAL-URL:https://namifranklincounty.org
X-WR-CALDESC:Events for National Alliance on Mental Illness | NAMI Franklin County
REFRESH-INTERVAL;VALUE=DURATION:PT1H
X-Robots-Tag:noindex
X-PUBLISHED-TTL:PT1H
BEGIN:VTIMEZONE
TZID:UTC
BEGIN:STANDARD
TZOFFSETFROM:+0000
TZOFFSETTO:+0000
TZNAME:UTC
DTSTART:20270101T000000
END:STANDARD
END:VTIMEZONE
BEGIN:VEVENT
DTSTART;TZID=UTC:20280501T183000
DTEND;TZID=UTC:20280501T200000
DTSTAMP:20260423T165616
CREATED:20250219T063456Z
LAST-MODIFIED:20250710T185545Z
UID:10004104-1840818600-1840824000@namifranklincounty.org
SUMMARY:NAMI Connection Every Monday
DESCRIPTION:NAMI Connection Every Monday – A recovery support group for adults living with a mental health condition. The support group is facilitated by those in recovery. “Talk with someone who understands\, someone just like you.” \nNew Birth Christian Ministries\, 3475 Refugee Road\, Columbus\, Ohio 43232\, Room 206. Note: If the support group falls on a holiday\, the building is closed\, or there is inclement weather\, the support group will be held on Zoom  \nZoom meeting ID: 824-479-7473 https://us06web.zoom.us/j/8244797473. \nContact Laurita Barber (614) 530-4554\, Monday-Friday (9:00 a.m.-5:00 p.m.)\, or email laurita.barber@namifc.org for more information. \n 
URL:https://namifranklincounty.org/calendar/nami-connection-every-monday-6/2028-05-01/
LOCATION:New Birth Christian Ministries\, 3475 Refugee Rd\, Columbus\, OH\, 43232\, United States
END:VEVENT
BEGIN:VEVENT
DTSTART;TZID=UTC:20280503T180000
DTEND;TZID=UTC:20280503T193000
DTSTAMP:20260423T165616
CREATED:20250710T180329Z
LAST-MODIFIED:20260401T144613Z
UID:10003878-1840989600-1840995000@namifranklincounty.org
SUMMARY:Parent Support Group 1st Wednesday of each month
DESCRIPTION:Patent Support Group – Support for parents\, caregivers\, and guardians of minor children (ages 22 and younger) living with behavioral difficulties and mental health challenges. \nZoom meeting ID: 678 970 3418 \nContact Laurita Barber\, (614) 530-4554\, Monday-Friday (9:00 a.m.-5:00 p.m.)\, or email laurita.barber@namifc.org for more information. \n 
URL:https://namifranklincounty.org/calendar/parent-support-group-1st-wednesday-of-each-month/2028-05-03/
LOCATION:Zoom Meeting
END:VEVENT
BEGIN:VEVENT
DTSTART;TZID=UTC:20280503T180000
DTEND;TZID=UTC:20280503T193000
DTSTAMP:20260423T165616
CREATED:20260331T164341Z
LAST-MODIFIED:20260331T170435Z
UID:10004982-1840989600-1840995000@namifranklincounty.org
SUMMARY:Men's Connection Recovery Support Group 1st Wednesday of each month
DESCRIPTION:Men’s Connection Recovery Support Group 1st Wednesday – A recovery support group for men living with a mental health condition. The support group is facilitated by those in recovery. \n\n\n\nZoom Meeting ID: 666-903-2784 https://us06web.zoom.us/j/6669032784. \nContact Daniel Fall (614) 501-6264\, Monday-Friday (9:00 a.m.-5:00 p.m.)\, or email dan@namifc.org for more information.\n\n\n\n 
URL:https://namifranklincounty.org/calendar/mens-connection-recovery-suppt-grp-1st-wednesday-of-each-month/2028-05-03/
LOCATION:Zoom Meeting
END:VEVENT
BEGIN:VEVENT
DTSTART;TZID=UTC:20280504T183000
DTEND;TZID=UTC:20280504T200000
DTSTAMP:20260423T165616
CREATED:20250219T064056Z
LAST-MODIFIED:20250710T191052Z
UID:10004365-1841077800-1841083200@namifranklincounty.org
SUMMARY:NAMI Connection Every Thursday
DESCRIPTION:NAMI Connection Every Thursday – A recovery support group for adults living with a mental health condition. The support group is facilitated by those in recovery. “Talk with someone who understands\, someone just like you. \nZoom meeting ID: 824-479-7473 https://us06web.zoom.us/j/8244797473.\nContact Regina Hillman (614) 501-6264\, (9:00 a.m.-5:00 p.m.\, Monday-Friday) or email regina@namifc.org for more information.
URL:https://namifranklincounty.org/calendar/nami-connection-every-thursday-6/2028-05-04/
LOCATION:Zoom Meeting
END:VEVENT
BEGIN:VEVENT
DTSTART;TZID=UTC:20280506T120000
DTEND;TZID=UTC:20280506T133000
DTSTAMP:20260423T165616
CREATED:20250226T181416Z
LAST-MODIFIED:20250710T190055Z
UID:10003666-1841227200-1841232600@namifranklincounty.org
SUMMARY:NAMI Connection Every Saturday
DESCRIPTION:NAMI Connection Every Saturday – A recovery support group for adults living with a mental health condition. The support group is facilitated by those in recovery. “Talk with someone who understands\, someone just like you. \nZoom meeting ID: 824-479-7473 https://us06web.zoom.us/j/8244797473.\nContact Regina Hillman (614) 501-6264\, (9:00 a.m.-5:00 p.m.\, Monday-Friday) or email regina@namifc.org for more information.
URL:https://namifranklincounty.org/calendar/nami-connection-every-saturday-2/2028-05-06/
LOCATION:Zoom Meeting
END:VEVENT
BEGIN:VEVENT
DTSTART;TZID=UTC:20280508T183000
DTEND;TZID=UTC:20280508T200000
DTSTAMP:20260423T165616
CREATED:20250219T063456Z
LAST-MODIFIED:20250710T185545Z
UID:10004105-1841423400-1841428800@namifranklincounty.org
SUMMARY:NAMI Connection Every Monday
DESCRIPTION:NAMI Connection Every Monday – A recovery support group for adults living with a mental health condition. The support group is facilitated by those in recovery. “Talk with someone who understands\, someone just like you.” \nNew Birth Christian Ministries\, 3475 Refugee Road\, Columbus\, Ohio 43232\, Room 206. Note: If the support group falls on a holiday\, the building is closed\, or there is inclement weather\, the support group will be held on Zoom  \nZoom meeting ID: 824-479-7473 https://us06web.zoom.us/j/8244797473. \nContact Laurita Barber (614) 530-4554\, Monday-Friday (9:00 a.m.-5:00 p.m.)\, or email laurita.barber@namifc.org for more information. \n 
URL:https://namifranklincounty.org/calendar/nami-connection-every-monday-6/2028-05-08/
LOCATION:New Birth Christian Ministries\, 3475 Refugee Rd\, Columbus\, OH\, 43232\, United States
END:VEVENT
BEGIN:VEVENT
DTSTART;TZID=UTC:20280510T173000
DTEND;TZID=UTC:20280510T190000
DTSTAMP:20260423T165616
CREATED:20250428T210603Z
LAST-MODIFIED:20250710T182433Z
UID:10003080-1841592600-1841598000@namifranklincounty.org
SUMMARY:Family Support Groups 2nd Wednesday of each month
DESCRIPTION:Family Support Groups – Support for adult caregivers\, family members\, and partners caring for loved ones with a mental health condition. \nThis is an in-person and Zoom Meeting.  In-person support group meets at 1225 Dublin Rd.\, Ste 050 (park and enter at the rear of the building). \nZoom Meeting ID: 960-308-8915 Contact Laurita Barber (614) 530-4554\, Monday-Friday (9:00 a.m.-5:00 p.m.)\, or email laurita.barber@namifc.org for more information. \n 
URL:https://namifranklincounty.org/calendar/family-support-groups-2nd-wednesday-of-each-month-9/2028-05-10/
LOCATION:Hybrid – NAMI Office and Zoom
END:VEVENT
BEGIN:VEVENT
DTSTART;TZID=UTC:20280511T183000
DTEND;TZID=UTC:20280511T200000
DTSTAMP:20260423T165616
CREATED:20250219T064056Z
LAST-MODIFIED:20250710T191052Z
UID:10004366-1841682600-1841688000@namifranklincounty.org
SUMMARY:NAMI Connection Every Thursday
DESCRIPTION:NAMI Connection Every Thursday – A recovery support group for adults living with a mental health condition. The support group is facilitated by those in recovery. “Talk with someone who understands\, someone just like you. \nZoom meeting ID: 824-479-7473 https://us06web.zoom.us/j/8244797473.\nContact Regina Hillman (614) 501-6264\, (9:00 a.m.-5:00 p.m.\, Monday-Friday) or email regina@namifc.org for more information.
URL:https://namifranklincounty.org/calendar/nami-connection-every-thursday-6/2028-05-11/
LOCATION:Zoom Meeting
END:VEVENT
BEGIN:VEVENT
DTSTART;TZID=UTC:20280513T120000
DTEND;TZID=UTC:20280513T133000
DTSTAMP:20260423T165616
CREATED:20250226T181416Z
LAST-MODIFIED:20250710T190055Z
UID:10003667-1841832000-1841837400@namifranklincounty.org
SUMMARY:NAMI Connection Every Saturday
DESCRIPTION:NAMI Connection Every Saturday – A recovery support group for adults living with a mental health condition. The support group is facilitated by those in recovery. “Talk with someone who understands\, someone just like you. \nZoom meeting ID: 824-479-7473 https://us06web.zoom.us/j/8244797473.\nContact Regina Hillman (614) 501-6264\, (9:00 a.m.-5:00 p.m.\, Monday-Friday) or email regina@namifc.org for more information.
URL:https://namifranklincounty.org/calendar/nami-connection-every-saturday-2/2028-05-13/
LOCATION:Zoom Meeting
END:VEVENT
BEGIN:VEVENT
DTSTART;TZID=UTC:20280515T183000
DTEND;TZID=UTC:20280515T200000
DTSTAMP:20260423T165616
CREATED:20250219T063456Z
LAST-MODIFIED:20250710T185545Z
UID:10004106-1842028200-1842033600@namifranklincounty.org
SUMMARY:NAMI Connection Every Monday
DESCRIPTION:NAMI Connection Every Monday – A recovery support group for adults living with a mental health condition. The support group is facilitated by those in recovery. “Talk with someone who understands\, someone just like you.” \nNew Birth Christian Ministries\, 3475 Refugee Road\, Columbus\, Ohio 43232\, Room 206. Note: If the support group falls on a holiday\, the building is closed\, or there is inclement weather\, the support group will be held on Zoom  \nZoom meeting ID: 824-479-7473 https://us06web.zoom.us/j/8244797473. \nContact Laurita Barber (614) 530-4554\, Monday-Friday (9:00 a.m.-5:00 p.m.)\, or email laurita.barber@namifc.org for more information. \n 
URL:https://namifranklincounty.org/calendar/nami-connection-every-monday-6/2028-05-15/
LOCATION:New Birth Christian Ministries\, 3475 Refugee Rd\, Columbus\, OH\, 43232\, United States
END:VEVENT
BEGIN:VEVENT
DTSTART;TZID=UTC:20280516T180000
DTEND;TZID=UTC:20280516T193000
DTSTAMP:20260423T165616
CREATED:20250219T062747Z
LAST-MODIFIED:20260331T170417Z
UID:10003199-1842112800-1842118200@namifranklincounty.org
SUMMARY:Men’s Family Support Group 3rd Tuesday of each month
DESCRIPTION:Men’s Family Support Group 3rd Tuesday of each month – Support for male caregivers\, family members\, and partners caring for loved ones with a mental health condition. \n\n\n\nZoom Meeting ID: 666-903-2784 https://us06web.zoom.us/j/6669032784. \nContact Daniel Fall (614) 501-6264\, Monday-Friday (9:00 a.m.-5:00 p.m.)\, or email dan@namifc.org for more information.
URL:https://namifranklincounty.org/calendar/mens-family-support-group-3rd-tuesday-of-each-month-2/2028-05-16/
LOCATION:Zoom Meeting
END:VEVENT
BEGIN:VEVENT
DTSTART;TZID=UTC:20280518T183000
DTEND;TZID=UTC:20280518T200000
DTSTAMP:20260423T165616
CREATED:20250219T064056Z
LAST-MODIFIED:20250710T191052Z
UID:10004367-1842287400-1842292800@namifranklincounty.org
SUMMARY:NAMI Connection Every Thursday
DESCRIPTION:NAMI Connection Every Thursday – A recovery support group for adults living with a mental health condition. The support group is facilitated by those in recovery. “Talk with someone who understands\, someone just like you. \nZoom meeting ID: 824-479-7473 https://us06web.zoom.us/j/8244797473.\nContact Regina Hillman (614) 501-6264\, (9:00 a.m.-5:00 p.m.\, Monday-Friday) or email regina@namifc.org for more information.
URL:https://namifranklincounty.org/calendar/nami-connection-every-thursday-6/2028-05-18/
LOCATION:Zoom Meeting
END:VEVENT
BEGIN:VEVENT
DTSTART;TZID=UTC:20280520T120000
DTEND;TZID=UTC:20280520T133000
DTSTAMP:20260423T165616
CREATED:20250226T181416Z
LAST-MODIFIED:20250710T190055Z
UID:10003668-1842436800-1842442200@namifranklincounty.org
SUMMARY:NAMI Connection Every Saturday
DESCRIPTION:NAMI Connection Every Saturday – A recovery support group for adults living with a mental health condition. The support group is facilitated by those in recovery. “Talk with someone who understands\, someone just like you. \nZoom meeting ID: 824-479-7473 https://us06web.zoom.us/j/8244797473.\nContact Regina Hillman (614) 501-6264\, (9:00 a.m.-5:00 p.m.\, Monday-Friday) or email regina@namifc.org for more information.
URL:https://namifranklincounty.org/calendar/nami-connection-every-saturday-2/2028-05-20/
LOCATION:Zoom Meeting
END:VEVENT
BEGIN:VEVENT
DTSTART;TZID=UTC:20280520T180000
DTEND;TZID=UTC:20280520T193000
DTSTAMP:20260423T165616
CREATED:20260331T164658Z
LAST-MODIFIED:20260331T170522Z
UID:10005197-1842458400-1842463800@namifranklincounty.org
SUMMARY:Men's Connection Recovery Support Group 3rd Wednesday of each month
DESCRIPTION:Men’s Connection Recovery Support Group 3rd Wednesday– A recovery support group for men living with a mental health condition. The support group is facilitated by those in recovery. \n\n\n\nZoom Meeting ID: 666-903-2784 https://us06web.zoom.us/j/6669032784. \nContact Daniel Fall (614) 501-6264\, Monday-Friday (9:00 a.m.-5:00 p.m.)\, or email dan@namifc.org for more information.
URL:https://namifranklincounty.org/calendar/mens-connection-recovery-support-group-3rd-wednesday-of-each-month/2028-05-20/
LOCATION:Zoom Meeting
END:VEVENT
BEGIN:VEVENT
DTSTART;TZID=UTC:20280522T183000
DTEND;TZID=UTC:20280522T200000
DTSTAMP:20260423T165616
CREATED:20250219T063456Z
LAST-MODIFIED:20250710T185545Z
UID:10004107-1842633000-1842638400@namifranklincounty.org
SUMMARY:NAMI Connection Every Monday
DESCRIPTION:NAMI Connection Every Monday – A recovery support group for adults living with a mental health condition. The support group is facilitated by those in recovery. “Talk with someone who understands\, someone just like you.” \nNew Birth Christian Ministries\, 3475 Refugee Road\, Columbus\, Ohio 43232\, Room 206. Note: If the support group falls on a holiday\, the building is closed\, or there is inclement weather\, the support group will be held on Zoom  \nZoom meeting ID: 824-479-7473 https://us06web.zoom.us/j/8244797473. \nContact Laurita Barber (614) 530-4554\, Monday-Friday (9:00 a.m.-5:00 p.m.)\, or email laurita.barber@namifc.org for more information. \n 
URL:https://namifranklincounty.org/calendar/nami-connection-every-monday-6/2028-05-22/
LOCATION:New Birth Christian Ministries\, 3475 Refugee Rd\, Columbus\, OH\, 43232\, United States
END:VEVENT
BEGIN:VEVENT
DTSTART;TZID=UTC:20280524T173000
DTEND;TZID=UTC:20280524T190000
DTSTAMP:20260423T165616
CREATED:20250428T213138Z
LAST-MODIFIED:20250710T174932Z
UID:10003136-1842802200-1842807600@namifranklincounty.org
SUMMARY:Family Support Groups 4th Wednesday of each month
DESCRIPTION:Family Support Groups – Support for adult caregivers\, family members\, and partners caring for loved ones with a mental health condition. \n\n\n\nThis is an in-person and Zoom meeting. In-person support group meets at Southeast Healthcare–Merion Village\n1455 South 4th Street—Free parking on siteMeeting ID: 960-308-8915 https://us06web.zoom.us/j/9603088915.  Contact Laurita Barber (614) 530-4554 or Omenuko Davis (614) 702-3956\, Monday-Friday (9:00 a.m.-5:00 p.m.)\, or email laurita.barber@namifc.org for more information.
URL:https://namifranklincounty.org/calendar/family-support-groups-4th-wednesday-of-each-month-8/2028-05-24/
LOCATION:Hybrid – Southeast Healthcare and Zoom
END:VEVENT
BEGIN:VEVENT
DTSTART;TZID=UTC:20280525T183000
DTEND;TZID=UTC:20280525T200000
DTSTAMP:20260423T165616
CREATED:20250219T064056Z
LAST-MODIFIED:20250710T191052Z
UID:10004368-1842892200-1842897600@namifranklincounty.org
SUMMARY:NAMI Connection Every Thursday
DESCRIPTION:NAMI Connection Every Thursday – A recovery support group for adults living with a mental health condition. The support group is facilitated by those in recovery. “Talk with someone who understands\, someone just like you. \nZoom meeting ID: 824-479-7473 https://us06web.zoom.us/j/8244797473.\nContact Regina Hillman (614) 501-6264\, (9:00 a.m.-5:00 p.m.\, Monday-Friday) or email regina@namifc.org for more information.
URL:https://namifranklincounty.org/calendar/nami-connection-every-thursday-6/2028-05-25/
LOCATION:Zoom Meeting
END:VEVENT
BEGIN:VEVENT
DTSTART;TZID=UTC:20280527T120000
DTEND;TZID=UTC:20280527T133000
DTSTAMP:20260423T165616
CREATED:20250226T181416Z
LAST-MODIFIED:20250710T190055Z
UID:10003669-1843041600-1843047000@namifranklincounty.org
SUMMARY:NAMI Connection Every Saturday
DESCRIPTION:NAMI Connection Every Saturday – A recovery support group for adults living with a mental health condition. The support group is facilitated by those in recovery. “Talk with someone who understands\, someone just like you. \nZoom meeting ID: 824-479-7473 https://us06web.zoom.us/j/8244797473.\nContact Regina Hillman (614) 501-6264\, (9:00 a.m.-5:00 p.m.\, Monday-Friday) or email regina@namifc.org for more information.
URL:https://namifranklincounty.org/calendar/nami-connection-every-saturday-2/2028-05-27/
LOCATION:Zoom Meeting
END:VEVENT
BEGIN:VEVENT
DTSTART;TZID=UTC:20280529T183000
DTEND;TZID=UTC:20280529T200000
DTSTAMP:20260423T165616
CREATED:20250219T063456Z
LAST-MODIFIED:20250710T185545Z
UID:10004108-1843237800-1843243200@namifranklincounty.org
SUMMARY:NAMI Connection Every Monday
DESCRIPTION:NAMI Connection Every Monday – A recovery support group for adults living with a mental health condition. The support group is facilitated by those in recovery. “Talk with someone who understands\, someone just like you.” \nNew Birth Christian Ministries\, 3475 Refugee Road\, Columbus\, Ohio 43232\, Room 206. Note: If the support group falls on a holiday\, the building is closed\, or there is inclement weather\, the support group will be held on Zoom  \nZoom meeting ID: 824-479-7473 https://us06web.zoom.us/j/8244797473. \nContact Laurita Barber (614) 530-4554\, Monday-Friday (9:00 a.m.-5:00 p.m.)\, or email laurita.barber@namifc.org for more information. \n 
URL:https://namifranklincounty.org/calendar/nami-connection-every-monday-6/2028-05-29/
LOCATION:New Birth Christian Ministries\, 3475 Refugee Rd\, Columbus\, OH\, 43232\, United States
END:VEVENT
BEGIN:VEVENT
DTSTART;TZID=UTC:20280601T183000
DTEND;TZID=UTC:20280601T200000
DTSTAMP:20260423T165616
CREATED:20250219T064056Z
LAST-MODIFIED:20250710T191052Z
UID:10004369-1843497000-1843502400@namifranklincounty.org
SUMMARY:NAMI Connection Every Thursday
DESCRIPTION:NAMI Connection Every Thursday – A recovery support group for adults living with a mental health condition. The support group is facilitated by those in recovery. “Talk with someone who understands\, someone just like you. \nZoom meeting ID: 824-479-7473 https://us06web.zoom.us/j/8244797473.\nContact Regina Hillman (614) 501-6264\, (9:00 a.m.-5:00 p.m.\, Monday-Friday) or email regina@namifc.org for more information.
URL:https://namifranklincounty.org/calendar/nami-connection-every-thursday-6/2028-06-01/
LOCATION:Zoom Meeting
END:VEVENT
BEGIN:VEVENT
DTSTART;TZID=UTC:20280603T120000
DTEND;TZID=UTC:20280603T133000
DTSTAMP:20260423T165616
CREATED:20250226T181416Z
LAST-MODIFIED:20250710T190055Z
UID:10003670-1843646400-1843651800@namifranklincounty.org
SUMMARY:NAMI Connection Every Saturday
DESCRIPTION:NAMI Connection Every Saturday – A recovery support group for adults living with a mental health condition. The support group is facilitated by those in recovery. “Talk with someone who understands\, someone just like you. \nZoom meeting ID: 824-479-7473 https://us06web.zoom.us/j/8244797473.\nContact Regina Hillman (614) 501-6264\, (9:00 a.m.-5:00 p.m.\, Monday-Friday) or email regina@namifc.org for more information.
URL:https://namifranklincounty.org/calendar/nami-connection-every-saturday-2/2028-06-03/
LOCATION:Zoom Meeting
END:VEVENT
BEGIN:VEVENT
DTSTART;TZID=UTC:20280605T183000
DTEND;TZID=UTC:20280605T200000
DTSTAMP:20260423T165616
CREATED:20250219T063456Z
LAST-MODIFIED:20250710T185545Z
UID:10004109-1843842600-1843848000@namifranklincounty.org
SUMMARY:NAMI Connection Every Monday
DESCRIPTION:NAMI Connection Every Monday – A recovery support group for adults living with a mental health condition. The support group is facilitated by those in recovery. “Talk with someone who understands\, someone just like you.” \nNew Birth Christian Ministries\, 3475 Refugee Road\, Columbus\, Ohio 43232\, Room 206. Note: If the support group falls on a holiday\, the building is closed\, or there is inclement weather\, the support group will be held on Zoom  \nZoom meeting ID: 824-479-7473 https://us06web.zoom.us/j/8244797473. \nContact Laurita Barber (614) 530-4554\, Monday-Friday (9:00 a.m.-5:00 p.m.)\, or email laurita.barber@namifc.org for more information. \n 
URL:https://namifranklincounty.org/calendar/nami-connection-every-monday-6/2028-06-05/
LOCATION:New Birth Christian Ministries\, 3475 Refugee Rd\, Columbus\, OH\, 43232\, United States
END:VEVENT
BEGIN:VEVENT
DTSTART;TZID=UTC:20280607T180000
DTEND;TZID=UTC:20280607T193000
DTSTAMP:20260423T165616
CREATED:20250710T180329Z
LAST-MODIFIED:20260401T144613Z
UID:10003879-1844013600-1844019000@namifranklincounty.org
SUMMARY:Parent Support Group 1st Wednesday of each month
DESCRIPTION:Patent Support Group – Support for parents\, caregivers\, and guardians of minor children (ages 22 and younger) living with behavioral difficulties and mental health challenges. \nZoom meeting ID: 678 970 3418 \nContact Laurita Barber\, (614) 530-4554\, Monday-Friday (9:00 a.m.-5:00 p.m.)\, or email laurita.barber@namifc.org for more information. \n 
URL:https://namifranklincounty.org/calendar/parent-support-group-1st-wednesday-of-each-month/2028-06-07/
LOCATION:Zoom Meeting
END:VEVENT
BEGIN:VEVENT
DTSTART;TZID=UTC:20280607T180000
DTEND;TZID=UTC:20280607T193000
DTSTAMP:20260423T165616
CREATED:20260331T164341Z
LAST-MODIFIED:20260331T170435Z
UID:10004983-1844013600-1844019000@namifranklincounty.org
SUMMARY:Men's Connection Recovery Support Group 1st Wednesday of each month
DESCRIPTION:Men’s Connection Recovery Support Group 1st Wednesday – A recovery support group for men living with a mental health condition. The support group is facilitated by those in recovery. \n\n\n\nZoom Meeting ID: 666-903-2784 https://us06web.zoom.us/j/6669032784. \nContact Daniel Fall (614) 501-6264\, Monday-Friday (9:00 a.m.-5:00 p.m.)\, or email dan@namifc.org for more information.\n\n\n\n 
URL:https://namifranklincounty.org/calendar/mens-connection-recovery-suppt-grp-1st-wednesday-of-each-month/2028-06-07/
LOCATION:Zoom Meeting
END:VEVENT
BEGIN:VEVENT
DTSTART;TZID=UTC:20280608T183000
DTEND;TZID=UTC:20280608T200000
DTSTAMP:20260423T165616
CREATED:20250219T064056Z
LAST-MODIFIED:20250710T191052Z
UID:10004370-1844101800-1844107200@namifranklincounty.org
SUMMARY:NAMI Connection Every Thursday
DESCRIPTION:NAMI Connection Every Thursday – A recovery support group for adults living with a mental health condition. The support group is facilitated by those in recovery. “Talk with someone who understands\, someone just like you. \nZoom meeting ID: 824-479-7473 https://us06web.zoom.us/j/8244797473.\nContact Regina Hillman (614) 501-6264\, (9:00 a.m.-5:00 p.m.\, Monday-Friday) or email regina@namifc.org for more information.
URL:https://namifranklincounty.org/calendar/nami-connection-every-thursday-6/2028-06-08/
LOCATION:Zoom Meeting
END:VEVENT
BEGIN:VEVENT
DTSTART;TZID=UTC:20280610T120000
DTEND;TZID=UTC:20280610T133000
DTSTAMP:20260423T165616
CREATED:20250226T181416Z
LAST-MODIFIED:20250710T190055Z
UID:10003671-1844251200-1844256600@namifranklincounty.org
SUMMARY:NAMI Connection Every Saturday
DESCRIPTION:NAMI Connection Every Saturday – A recovery support group for adults living with a mental health condition. The support group is facilitated by those in recovery. “Talk with someone who understands\, someone just like you. \nZoom meeting ID: 824-479-7473 https://us06web.zoom.us/j/8244797473.\nContact Regina Hillman (614) 501-6264\, (9:00 a.m.-5:00 p.m.\, Monday-Friday) or email regina@namifc.org for more information.
URL:https://namifranklincounty.org/calendar/nami-connection-every-saturday-2/2028-06-10/
LOCATION:Zoom Meeting
END:VEVENT
BEGIN:VEVENT
DTSTART;TZID=UTC:20280612T183000
DTEND;TZID=UTC:20280612T200000
DTSTAMP:20260423T165616
CREATED:20250219T063456Z
LAST-MODIFIED:20250710T185545Z
UID:10004110-1844447400-1844452800@namifranklincounty.org
SUMMARY:NAMI Connection Every Monday
DESCRIPTION:NAMI Connection Every Monday – A recovery support group for adults living with a mental health condition. The support group is facilitated by those in recovery. “Talk with someone who understands\, someone just like you.” \nNew Birth Christian Ministries\, 3475 Refugee Road\, Columbus\, Ohio 43232\, Room 206. Note: If the support group falls on a holiday\, the building is closed\, or there is inclement weather\, the support group will be held on Zoom  \nZoom meeting ID: 824-479-7473 https://us06web.zoom.us/j/8244797473. \nContact Laurita Barber (614) 530-4554\, Monday-Friday (9:00 a.m.-5:00 p.m.)\, or email laurita.barber@namifc.org for more information. \n 
URL:https://namifranklincounty.org/calendar/nami-connection-every-monday-6/2028-06-12/
LOCATION:New Birth Christian Ministries\, 3475 Refugee Rd\, Columbus\, OH\, 43232\, United States
END:VEVENT
BEGIN:VEVENT
DTSTART;TZID=UTC:20280614T173000
DTEND;TZID=UTC:20280614T190000
DTSTAMP:20260423T165616
CREATED:20250428T210603Z
LAST-MODIFIED:20250710T182433Z
UID:10003081-1844616600-1844622000@namifranklincounty.org
SUMMARY:Family Support Groups 2nd Wednesday of each month
DESCRIPTION:Family Support Groups – Support for adult caregivers\, family members\, and partners caring for loved ones with a mental health condition. \nThis is an in-person and Zoom Meeting.  In-person support group meets at 1225 Dublin Rd.\, Ste 050 (park and enter at the rear of the building). \nZoom Meeting ID: 960-308-8915 Contact Laurita Barber (614) 530-4554\, Monday-Friday (9:00 a.m.-5:00 p.m.)\, or email laurita.barber@namifc.org for more information. \n 
URL:https://namifranklincounty.org/calendar/family-support-groups-2nd-wednesday-of-each-month-9/2028-06-14/
LOCATION:Hybrid – NAMI Office and Zoom
END:VEVENT
BEGIN:VEVENT
DTSTART;TZID=UTC:20280615T183000
DTEND;TZID=UTC:20280615T200000
DTSTAMP:20260423T165616
CREATED:20250219T064056Z
LAST-MODIFIED:20250710T191052Z
UID:10004371-1844706600-1844712000@namifranklincounty.org
SUMMARY:NAMI Connection Every Thursday
DESCRIPTION:NAMI Connection Every Thursday – A recovery support group for adults living with a mental health condition. The support group is facilitated by those in recovery. “Talk with someone who understands\, someone just like you. \nZoom meeting ID: 824-479-7473 https://us06web.zoom.us/j/8244797473.\nContact Regina Hillman (614) 501-6264\, (9:00 a.m.-5:00 p.m.\, Monday-Friday) or email regina@namifc.org for more information.
URL:https://namifranklincounty.org/calendar/nami-connection-every-thursday-6/2028-06-15/
LOCATION:Zoom Meeting
END:VEVENT
BEGIN:VEVENT
DTSTART;TZID=UTC:20280617T120000
DTEND;TZID=UTC:20280617T133000
DTSTAMP:20260423T165616
CREATED:20250226T181416Z
LAST-MODIFIED:20250710T190055Z
UID:10003672-1844856000-1844861400@namifranklincounty.org
SUMMARY:NAMI Connection Every Saturday
DESCRIPTION:NAMI Connection Every Saturday – A recovery support group for adults living with a mental health condition. The support group is facilitated by those in recovery. “Talk with someone who understands\, someone just like you. \nZoom meeting ID: 824-479-7473 https://us06web.zoom.us/j/8244797473.\nContact Regina Hillman (614) 501-6264\, (9:00 a.m.-5:00 p.m.\, Monday-Friday) or email regina@namifc.org for more information.
URL:https://namifranklincounty.org/calendar/nami-connection-every-saturday-2/2028-06-17/
LOCATION:Zoom Meeting
END:VEVENT
END:VCALENDAR