BEGIN:VCALENDAR
VERSION:2.0
PRODID:-//National Alliance on Mental Illness | NAMI Franklin County - ECPv6.15.20//NONSGML v1.0//EN
CALSCALE:GREGORIAN
METHOD:PUBLISH
X-WR-CALNAME:National Alliance on Mental Illness | NAMI Franklin County
X-ORIGINAL-URL:https://namifranklincounty.org
X-WR-CALDESC:Events for National Alliance on Mental Illness | NAMI Franklin County
REFRESH-INTERVAL;VALUE=DURATION:PT1H
X-Robots-Tag:noindex
X-PUBLISHED-TTL:PT1H
BEGIN:VTIMEZONE
TZID:UTC
BEGIN:STANDARD
TZOFFSETFROM:+0000
TZOFFSETTO:+0000
TZNAME:UTC
DTSTART:20250101T000000
END:STANDARD
END:VTIMEZONE
BEGIN:VEVENT
DTSTART;TZID=UTC:20260519T180000
DTEND;TZID=UTC:20260519T193000
DTSTAMP:20260420T030957
CREATED:20250219T062747Z
LAST-MODIFIED:20260331T170417Z
UID:10003175-1779213600-1779219000@namifranklincounty.org
SUMMARY:Men’s Family Support Group 3rd Tuesday of each month
DESCRIPTION:Men’s Family Support Group 3rd Tuesday of each month – Support for male caregivers\, family members\, and partners caring for loved ones with a mental health condition. \n\n\n\nZoom Meeting ID: 666-903-2784 https://us06web.zoom.us/j/6669032784. \nContact Daniel Fall (614) 501-6264\, Monday-Friday (9:00 a.m.-5:00 p.m.)\, or email dan@namifc.org for more information.
URL:https://namifranklincounty.org/calendar/mens-family-support-group-3rd-tuesday-of-each-month-2/2026-05-19/
LOCATION:Zoom Meeting
END:VEVENT
BEGIN:VEVENT
DTSTART;TZID=UTC:20260519T180000
DTEND;TZID=UTC:20260519T200000
DTSTAMP:20260420T030957
CREATED:20251221T174807Z
LAST-MODIFIED:20251221T174909Z
UID:10004838-1779213600-1779220800@namifranklincounty.org
SUMMARY:NAMI Peer-to-Peer Recovery Program
DESCRIPTION:NAMI Peer-to-Peer Recovery Program–This eight-week\, unique\, experiential recovery program is for people living with a mental health condition\, interested in establishing and maintaining their wellness and recovery. Contact Laurita Barber (614) 530-4554 (9:00 a.m.-5:00 p.m. Monday-Friday) or email laurita.barber@namifc.org.
URL:https://namifranklincounty.org/calendar/nami-peer-to-peer-recovery-program-2/2026-05-19/
LOCATION:Zoom—Meeting ID and Passcode will be emailed after registration and before class begins .
END:VEVENT
BEGIN:VEVENT
DTSTART;TZID=UTC:20260520T180000
DTEND;TZID=UTC:20260520T193000
DTSTAMP:20260420T030957
CREATED:20260331T164658Z
LAST-MODIFIED:20260331T170522Z
UID:10005017-1779300000-1779305400@namifranklincounty.org
SUMMARY:Men's Connection Recovery Support Group 3rd Wednesday of each month
DESCRIPTION:Men’s Connection Recovery Support Group 3rd Wednesday– A recovery support group for men living with a mental health condition. The support group is facilitated by those in recovery. \n\n\n\nZoom Meeting ID: 666-903-2784 https://us06web.zoom.us/j/6669032784. \nContact Daniel Fall (614) 501-6264\, Monday-Friday (9:00 a.m.-5:00 p.m.)\, or email dan@namifc.org for more information.
URL:https://namifranklincounty.org/calendar/mens-connection-recovery-support-group-3rd-wednesday-of-each-month/2026-05-20/
LOCATION:Zoom Meeting
END:VEVENT
BEGIN:VEVENT
DTSTART;TZID=UTC:20260521T183000
DTEND;TZID=UTC:20260521T200000
DTSTAMP:20260420T030957
CREATED:20250219T064056Z
LAST-MODIFIED:20250710T191052Z
UID:10004263-1779388200-1779393600@namifranklincounty.org
SUMMARY:NAMI Connection Every Thursday
DESCRIPTION:NAMI Connection Every Thursday – A recovery support group for adults living with a mental health condition. The support group is facilitated by those in recovery. “Talk with someone who understands\, someone just like you. \nZoom meeting ID: 824-479-7473 https://us06web.zoom.us/j/8244797473.\nContact Regina Hillman (614) 501-6264\, (9:00 a.m.-5:00 p.m.\, Monday-Friday) or email regina@namifc.org for more information.
URL:https://namifranklincounty.org/calendar/nami-connection-every-thursday-6/2026-05-21/
LOCATION:Zoom Meeting
END:VEVENT
BEGIN:VEVENT
DTSTART;TZID=UTC:20260523T120000
DTEND;TZID=UTC:20260523T133000
DTSTAMP:20260420T030957
CREATED:20250226T181416Z
LAST-MODIFIED:20250710T190055Z
UID:10003564-1779537600-1779543000@namifranklincounty.org
SUMMARY:NAMI Connection Every Saturday
DESCRIPTION:NAMI Connection Every Saturday – A recovery support group for adults living with a mental health condition. The support group is facilitated by those in recovery. “Talk with someone who understands\, someone just like you. \nZoom meeting ID: 824-479-7473 https://us06web.zoom.us/j/8244797473.\nContact Regina Hillman (614) 501-6264\, (9:00 a.m.-5:00 p.m.\, Monday-Friday) or email regina@namifc.org for more information.
URL:https://namifranklincounty.org/calendar/nami-connection-every-saturday-2/2026-05-23/
LOCATION:Zoom Meeting
END:VEVENT
BEGIN:VEVENT
DTSTART;TZID=UTC:20260525T183000
DTEND;TZID=UTC:20260525T200000
DTSTAMP:20260420T030957
CREATED:20250219T063456Z
LAST-MODIFIED:20250710T185545Z
UID:10004003-1779733800-1779739200@namifranklincounty.org
SUMMARY:NAMI Connection Every Monday
DESCRIPTION:NAMI Connection Every Monday – A recovery support group for adults living with a mental health condition. The support group is facilitated by those in recovery. “Talk with someone who understands\, someone just like you.” \nNew Birth Christian Ministries\, 3475 Refugee Road\, Columbus\, Ohio 43232\, Room 206. Note: If the support group falls on a holiday\, the building is closed\, or there is inclement weather\, the support group will be held on Zoom  \nZoom meeting ID: 824-479-7473 https://us06web.zoom.us/j/8244797473. \nContact Laurita Barber (614) 530-4554\, Monday-Friday (9:00 a.m.-5:00 p.m.)\, or email laurita.barber@namifc.org for more information. \n 
URL:https://namifranklincounty.org/calendar/nami-connection-every-monday-6/2026-05-25/
LOCATION:New Birth Christian Ministries\, 3475 Refugee Rd\, Columbus\, OH\, 43232\, United States
END:VEVENT
BEGIN:VEVENT
DTSTART;TZID=UTC:20260527T173000
DTEND;TZID=UTC:20260527T190000
DTSTAMP:20260420T030957
CREATED:20250428T213138Z
LAST-MODIFIED:20250710T174932Z
UID:10003112-1779903000-1779908400@namifranklincounty.org
SUMMARY:Family Support Groups 4th Wednesday of each month
DESCRIPTION:Family Support Groups – Support for adult caregivers\, family members\, and partners caring for loved ones with a mental health condition. \n\n\n\nThis is an in-person and Zoom meeting. In-person support group meets at Southeast Healthcare–Merion Village\n1455 South 4th Street—Free parking on siteMeeting ID: 960-308-8915 https://us06web.zoom.us/j/9603088915.  Contact Laurita Barber (614) 530-4554 or Omenuko Davis (614) 702-3956\, Monday-Friday (9:00 a.m.-5:00 p.m.)\, or email laurita.barber@namifc.org for more information.
URL:https://namifranklincounty.org/calendar/family-support-groups-4th-wednesday-of-each-month-8/2026-05-27/
LOCATION:Hybrid – Southeast Healthcare and Zoom
END:VEVENT
BEGIN:VEVENT
DTSTART;TZID=UTC:20260528T183000
DTEND;TZID=UTC:20260528T200000
DTSTAMP:20260420T030957
CREATED:20250219T064056Z
LAST-MODIFIED:20250710T191052Z
UID:10004264-1779993000-1779998400@namifranklincounty.org
SUMMARY:NAMI Connection Every Thursday
DESCRIPTION:NAMI Connection Every Thursday – A recovery support group for adults living with a mental health condition. The support group is facilitated by those in recovery. “Talk with someone who understands\, someone just like you. \nZoom meeting ID: 824-479-7473 https://us06web.zoom.us/j/8244797473.\nContact Regina Hillman (614) 501-6264\, (9:00 a.m.-5:00 p.m.\, Monday-Friday) or email regina@namifc.org for more information.
URL:https://namifranklincounty.org/calendar/nami-connection-every-thursday-6/2026-05-28/
LOCATION:Zoom Meeting
END:VEVENT
BEGIN:VEVENT
DTSTART;TZID=UTC:20260530T120000
DTEND;TZID=UTC:20260530T133000
DTSTAMP:20260420T030957
CREATED:20250226T181416Z
LAST-MODIFIED:20250710T190055Z
UID:10003565-1780142400-1780147800@namifranklincounty.org
SUMMARY:NAMI Connection Every Saturday
DESCRIPTION:NAMI Connection Every Saturday – A recovery support group for adults living with a mental health condition. The support group is facilitated by those in recovery. “Talk with someone who understands\, someone just like you. \nZoom meeting ID: 824-479-7473 https://us06web.zoom.us/j/8244797473.\nContact Regina Hillman (614) 501-6264\, (9:00 a.m.-5:00 p.m.\, Monday-Friday) or email regina@namifc.org for more information.
URL:https://namifranklincounty.org/calendar/nami-connection-every-saturday-2/2026-05-30/
LOCATION:Zoom Meeting
END:VEVENT
BEGIN:VEVENT
DTSTART;TZID=UTC:20260601T183000
DTEND;TZID=UTC:20260601T200000
DTSTAMP:20260420T030958
CREATED:20250219T063456Z
LAST-MODIFIED:20250710T185545Z
UID:10004004-1780338600-1780344000@namifranklincounty.org
SUMMARY:NAMI Connection Every Monday
DESCRIPTION:NAMI Connection Every Monday – A recovery support group for adults living with a mental health condition. The support group is facilitated by those in recovery. “Talk with someone who understands\, someone just like you.” \nNew Birth Christian Ministries\, 3475 Refugee Road\, Columbus\, Ohio 43232\, Room 206. Note: If the support group falls on a holiday\, the building is closed\, or there is inclement weather\, the support group will be held on Zoom  \nZoom meeting ID: 824-479-7473 https://us06web.zoom.us/j/8244797473. \nContact Laurita Barber (614) 530-4554\, Monday-Friday (9:00 a.m.-5:00 p.m.)\, or email laurita.barber@namifc.org for more information. \n 
URL:https://namifranklincounty.org/calendar/nami-connection-every-monday-6/2026-06-01/
LOCATION:New Birth Christian Ministries\, 3475 Refugee Rd\, Columbus\, OH\, 43232\, United States
END:VEVENT
BEGIN:VEVENT
DTSTART;TZID=UTC:20260603T180000
DTEND;TZID=UTC:20260603T193000
DTSTAMP:20260420T030958
CREATED:20250710T180329Z
LAST-MODIFIED:20260401T144613Z
UID:10003855-1780509600-1780515000@namifranklincounty.org
SUMMARY:Parent Support Group 1st Wednesday of each month
DESCRIPTION:Patent Support Group – Support for parents\, caregivers\, and guardians of minor children (ages 22 and younger) living with behavioral difficulties and mental health challenges. \nZoom meeting ID: 678 970 3418 \nContact Laurita Barber\, (614) 530-4554\, Monday-Friday (9:00 a.m.-5:00 p.m.)\, or email laurita.barber@namifc.org for more information. \n 
URL:https://namifranklincounty.org/calendar/parent-support-group-1st-wednesday-of-each-month/2026-06-03/
LOCATION:Zoom Meeting
END:VEVENT
BEGIN:VEVENT
DTSTART;TZID=UTC:20260603T180000
DTEND;TZID=UTC:20260603T193000
DTSTAMP:20260420T030958
CREATED:20260331T164341Z
LAST-MODIFIED:20260331T170435Z
UID:10004959-1780509600-1780515000@namifranklincounty.org
SUMMARY:Men's Connection Recovery Support Group 1st Wednesday of each month
DESCRIPTION:Men’s Connection Recovery Support Group 1st Wednesday – A recovery support group for men living with a mental health condition. The support group is facilitated by those in recovery. \n\n\n\nZoom Meeting ID: 666-903-2784 https://us06web.zoom.us/j/6669032784. \nContact Daniel Fall (614) 501-6264\, Monday-Friday (9:00 a.m.-5:00 p.m.)\, or email dan@namifc.org for more information.\n\n\n\n 
URL:https://namifranklincounty.org/calendar/mens-connection-recovery-suppt-grp-1st-wednesday-of-each-month/2026-06-03/
LOCATION:Zoom Meeting
END:VEVENT
BEGIN:VEVENT
DTSTART;TZID=UTC:20260604T183000
DTEND;TZID=UTC:20260604T200000
DTSTAMP:20260420T030958
CREATED:20250219T064056Z
LAST-MODIFIED:20250710T191052Z
UID:10004265-1780597800-1780603200@namifranklincounty.org
SUMMARY:NAMI Connection Every Thursday
DESCRIPTION:NAMI Connection Every Thursday – A recovery support group for adults living with a mental health condition. The support group is facilitated by those in recovery. “Talk with someone who understands\, someone just like you. \nZoom meeting ID: 824-479-7473 https://us06web.zoom.us/j/8244797473.\nContact Regina Hillman (614) 501-6264\, (9:00 a.m.-5:00 p.m.\, Monday-Friday) or email regina@namifc.org for more information.
URL:https://namifranklincounty.org/calendar/nami-connection-every-thursday-6/2026-06-04/
LOCATION:Zoom Meeting
END:VEVENT
BEGIN:VEVENT
DTSTART;TZID=UTC:20260606T120000
DTEND;TZID=UTC:20260606T133000
DTSTAMP:20260420T030958
CREATED:20250226T181416Z
LAST-MODIFIED:20250710T190055Z
UID:10003566-1780747200-1780752600@namifranklincounty.org
SUMMARY:NAMI Connection Every Saturday
DESCRIPTION:NAMI Connection Every Saturday – A recovery support group for adults living with a mental health condition. The support group is facilitated by those in recovery. “Talk with someone who understands\, someone just like you. \nZoom meeting ID: 824-479-7473 https://us06web.zoom.us/j/8244797473.\nContact Regina Hillman (614) 501-6264\, (9:00 a.m.-5:00 p.m.\, Monday-Friday) or email regina@namifc.org for more information.
URL:https://namifranklincounty.org/calendar/nami-connection-every-saturday-2/2026-06-06/
LOCATION:Zoom Meeting
END:VEVENT
BEGIN:VEVENT
DTSTART;TZID=UTC:20260608T183000
DTEND;TZID=UTC:20260608T200000
DTSTAMP:20260420T030958
CREATED:20250219T063456Z
LAST-MODIFIED:20250710T185545Z
UID:10004005-1780943400-1780948800@namifranklincounty.org
SUMMARY:NAMI Connection Every Monday
DESCRIPTION:NAMI Connection Every Monday – A recovery support group for adults living with a mental health condition. The support group is facilitated by those in recovery. “Talk with someone who understands\, someone just like you.” \nNew Birth Christian Ministries\, 3475 Refugee Road\, Columbus\, Ohio 43232\, Room 206. Note: If the support group falls on a holiday\, the building is closed\, or there is inclement weather\, the support group will be held on Zoom  \nZoom meeting ID: 824-479-7473 https://us06web.zoom.us/j/8244797473. \nContact Laurita Barber (614) 530-4554\, Monday-Friday (9:00 a.m.-5:00 p.m.)\, or email laurita.barber@namifc.org for more information. \n 
URL:https://namifranklincounty.org/calendar/nami-connection-every-monday-6/2026-06-08/
LOCATION:New Birth Christian Ministries\, 3475 Refugee Rd\, Columbus\, OH\, 43232\, United States
END:VEVENT
BEGIN:VEVENT
DTSTART;TZID=UTC:20260610T173000
DTEND;TZID=UTC:20260610T190000
DTSTAMP:20260420T030958
CREATED:20250428T210603Z
LAST-MODIFIED:20250710T182433Z
UID:10003057-1781112600-1781118000@namifranklincounty.org
SUMMARY:Family Support Groups 2nd Wednesday of each month
DESCRIPTION:Family Support Groups – Support for adult caregivers\, family members\, and partners caring for loved ones with a mental health condition. \nThis is an in-person and Zoom Meeting.  In-person support group meets at 1225 Dublin Rd.\, Ste 050 (park and enter at the rear of the building). \nZoom Meeting ID: 960-308-8915 Contact Laurita Barber (614) 530-4554\, Monday-Friday (9:00 a.m.-5:00 p.m.)\, or email laurita.barber@namifc.org for more information. \n 
URL:https://namifranklincounty.org/calendar/family-support-groups-2nd-wednesday-of-each-month-9/2026-06-10/
LOCATION:Hybrid – NAMI Office and Zoom
END:VEVENT
BEGIN:VEVENT
DTSTART;TZID=UTC:20260611T183000
DTEND;TZID=UTC:20260611T200000
DTSTAMP:20260420T030958
CREATED:20250219T064056Z
LAST-MODIFIED:20250710T191052Z
UID:10004266-1781202600-1781208000@namifranklincounty.org
SUMMARY:NAMI Connection Every Thursday
DESCRIPTION:NAMI Connection Every Thursday – A recovery support group for adults living with a mental health condition. The support group is facilitated by those in recovery. “Talk with someone who understands\, someone just like you. \nZoom meeting ID: 824-479-7473 https://us06web.zoom.us/j/8244797473.\nContact Regina Hillman (614) 501-6264\, (9:00 a.m.-5:00 p.m.\, Monday-Friday) or email regina@namifc.org for more information.
URL:https://namifranklincounty.org/calendar/nami-connection-every-thursday-6/2026-06-11/
LOCATION:Zoom Meeting
END:VEVENT
BEGIN:VEVENT
DTSTART;TZID=UTC:20260613T120000
DTEND;TZID=UTC:20260613T133000
DTSTAMP:20260420T030958
CREATED:20250226T181416Z
LAST-MODIFIED:20250710T190055Z
UID:10003567-1781352000-1781357400@namifranklincounty.org
SUMMARY:NAMI Connection Every Saturday
DESCRIPTION:NAMI Connection Every Saturday – A recovery support group for adults living with a mental health condition. The support group is facilitated by those in recovery. “Talk with someone who understands\, someone just like you. \nZoom meeting ID: 824-479-7473 https://us06web.zoom.us/j/8244797473.\nContact Regina Hillman (614) 501-6264\, (9:00 a.m.-5:00 p.m.\, Monday-Friday) or email regina@namifc.org for more information.
URL:https://namifranklincounty.org/calendar/nami-connection-every-saturday-2/2026-06-13/
LOCATION:Zoom Meeting
END:VEVENT
BEGIN:VEVENT
DTSTART;TZID=UTC:20260615T183000
DTEND;TZID=UTC:20260615T200000
DTSTAMP:20260420T030958
CREATED:20250219T063456Z
LAST-MODIFIED:20250710T185545Z
UID:10004006-1781548200-1781553600@namifranklincounty.org
SUMMARY:NAMI Connection Every Monday
DESCRIPTION:NAMI Connection Every Monday – A recovery support group for adults living with a mental health condition. The support group is facilitated by those in recovery. “Talk with someone who understands\, someone just like you.” \nNew Birth Christian Ministries\, 3475 Refugee Road\, Columbus\, Ohio 43232\, Room 206. Note: If the support group falls on a holiday\, the building is closed\, or there is inclement weather\, the support group will be held on Zoom  \nZoom meeting ID: 824-479-7473 https://us06web.zoom.us/j/8244797473. \nContact Laurita Barber (614) 530-4554\, Monday-Friday (9:00 a.m.-5:00 p.m.)\, or email laurita.barber@namifc.org for more information. \n 
URL:https://namifranklincounty.org/calendar/nami-connection-every-monday-6/2026-06-15/
LOCATION:New Birth Christian Ministries\, 3475 Refugee Rd\, Columbus\, OH\, 43232\, United States
END:VEVENT
BEGIN:VEVENT
DTSTART;TZID=UTC:20260616T180000
DTEND;TZID=UTC:20260616T193000
DTSTAMP:20260420T030958
CREATED:20250219T062747Z
LAST-MODIFIED:20260331T170417Z
UID:10003176-1781632800-1781638200@namifranklincounty.org
SUMMARY:Men’s Family Support Group 3rd Tuesday of each month
DESCRIPTION:Men’s Family Support Group 3rd Tuesday of each month – Support for male caregivers\, family members\, and partners caring for loved ones with a mental health condition. \n\n\n\nZoom Meeting ID: 666-903-2784 https://us06web.zoom.us/j/6669032784. \nContact Daniel Fall (614) 501-6264\, Monday-Friday (9:00 a.m.-5:00 p.m.)\, or email dan@namifc.org for more information.
URL:https://namifranklincounty.org/calendar/mens-family-support-group-3rd-tuesday-of-each-month-2/2026-06-16/
LOCATION:Zoom Meeting
END:VEVENT
BEGIN:VEVENT
DTSTART;TZID=UTC:20260616T180000
DTEND;TZID=UTC:20260616T200000
DTSTAMP:20260420T030958
CREATED:20251221T175923Z
LAST-MODIFIED:20251221T175938Z
UID:10004847-1781632800-1781640000@namifranklincounty.org
SUMMARY:NAMI Peer-to-Peer Recovery Program
DESCRIPTION:NAMI Peer-to-Peer Recovery Program–This eight-week\, unique\, experiential recovery program is for people living with a mental health condition\, interested in establishing and maintaining their wellness and recovery. Contact Laurita Barber (614) 530-4554 (9:00 a.m.-5:00 p.m. Monday-Friday) or email laurita.barber@namifc.org.
URL:https://namifranklincounty.org/calendar/nami-peer-to-peer-recovery-program-4/2026-06-16/
LOCATION:Zoom—Meeting ID and Passcode will be emailed after registration and before class begins .
END:VEVENT
BEGIN:VEVENT
DTSTART;TZID=UTC:20260618T183000
DTEND;TZID=UTC:20260618T200000
DTSTAMP:20260420T030958
CREATED:20250219T064056Z
LAST-MODIFIED:20250710T191052Z
UID:10004267-1781807400-1781812800@namifranklincounty.org
SUMMARY:NAMI Connection Every Thursday
DESCRIPTION:NAMI Connection Every Thursday – A recovery support group for adults living with a mental health condition. The support group is facilitated by those in recovery. “Talk with someone who understands\, someone just like you. \nZoom meeting ID: 824-479-7473 https://us06web.zoom.us/j/8244797473.\nContact Regina Hillman (614) 501-6264\, (9:00 a.m.-5:00 p.m.\, Monday-Friday) or email regina@namifc.org for more information.
URL:https://namifranklincounty.org/calendar/nami-connection-every-thursday-6/2026-06-18/
LOCATION:Zoom Meeting
END:VEVENT
BEGIN:VEVENT
DTSTART;TZID=UTC:20260620T120000
DTEND;TZID=UTC:20260620T133000
DTSTAMP:20260420T030958
CREATED:20250226T181416Z
LAST-MODIFIED:20250710T190055Z
UID:10003568-1781956800-1781962200@namifranklincounty.org
SUMMARY:NAMI Connection Every Saturday
DESCRIPTION:NAMI Connection Every Saturday – A recovery support group for adults living with a mental health condition. The support group is facilitated by those in recovery. “Talk with someone who understands\, someone just like you. \nZoom meeting ID: 824-479-7473 https://us06web.zoom.us/j/8244797473.\nContact Regina Hillman (614) 501-6264\, (9:00 a.m.-5:00 p.m.\, Monday-Friday) or email regina@namifc.org for more information.
URL:https://namifranklincounty.org/calendar/nami-connection-every-saturday-2/2026-06-20/
LOCATION:Zoom Meeting
END:VEVENT
BEGIN:VEVENT
DTSTART;TZID=UTC:20260620T180000
DTEND;TZID=UTC:20260620T193000
DTSTAMP:20260420T030958
CREATED:20260331T164658Z
LAST-MODIFIED:20260331T170522Z
UID:10005176-1781978400-1781983800@namifranklincounty.org
SUMMARY:Men's Connection Recovery Support Group 3rd Wednesday of each month
DESCRIPTION:Men’s Connection Recovery Support Group 3rd Wednesday– A recovery support group for men living with a mental health condition. The support group is facilitated by those in recovery. \n\n\n\nZoom Meeting ID: 666-903-2784 https://us06web.zoom.us/j/6669032784. \nContact Daniel Fall (614) 501-6264\, Monday-Friday (9:00 a.m.-5:00 p.m.)\, or email dan@namifc.org for more information.
URL:https://namifranklincounty.org/calendar/mens-connection-recovery-support-group-3rd-wednesday-of-each-month/2026-06-20/
LOCATION:Zoom Meeting
END:VEVENT
BEGIN:VEVENT
DTSTART;TZID=UTC:20260622T183000
DTEND;TZID=UTC:20260622T200000
DTSTAMP:20260420T030958
CREATED:20250219T063456Z
LAST-MODIFIED:20250710T185545Z
UID:10004007-1782153000-1782158400@namifranklincounty.org
SUMMARY:NAMI Connection Every Monday
DESCRIPTION:NAMI Connection Every Monday – A recovery support group for adults living with a mental health condition. The support group is facilitated by those in recovery. “Talk with someone who understands\, someone just like you.” \nNew Birth Christian Ministries\, 3475 Refugee Road\, Columbus\, Ohio 43232\, Room 206. Note: If the support group falls on a holiday\, the building is closed\, or there is inclement weather\, the support group will be held on Zoom  \nZoom meeting ID: 824-479-7473 https://us06web.zoom.us/j/8244797473. \nContact Laurita Barber (614) 530-4554\, Monday-Friday (9:00 a.m.-5:00 p.m.)\, or email laurita.barber@namifc.org for more information. \n 
URL:https://namifranklincounty.org/calendar/nami-connection-every-monday-6/2026-06-22/
LOCATION:New Birth Christian Ministries\, 3475 Refugee Rd\, Columbus\, OH\, 43232\, United States
END:VEVENT
BEGIN:VEVENT
DTSTART;TZID=UTC:20260623T180000
DTEND;TZID=UTC:20260623T200000
DTSTAMP:20260420T030958
CREATED:20251221T175923Z
LAST-MODIFIED:20251221T175938Z
UID:10004848-1782237600-1782244800@namifranklincounty.org
SUMMARY:NAMI Peer-to-Peer Recovery Program
DESCRIPTION:NAMI Peer-to-Peer Recovery Program–This eight-week\, unique\, experiential recovery program is for people living with a mental health condition\, interested in establishing and maintaining their wellness and recovery. Contact Laurita Barber (614) 530-4554 (9:00 a.m.-5:00 p.m. Monday-Friday) or email laurita.barber@namifc.org.
URL:https://namifranklincounty.org/calendar/nami-peer-to-peer-recovery-program-4/2026-06-23/
LOCATION:Zoom—Meeting ID and Passcode will be emailed after registration and before class begins .
END:VEVENT
BEGIN:VEVENT
DTSTART;TZID=UTC:20260624T173000
DTEND;TZID=UTC:20260624T190000
DTSTAMP:20260420T030958
CREATED:20250428T213138Z
LAST-MODIFIED:20250710T174932Z
UID:10003113-1782322200-1782327600@namifranklincounty.org
SUMMARY:Family Support Groups 4th Wednesday of each month
DESCRIPTION:Family Support Groups – Support for adult caregivers\, family members\, and partners caring for loved ones with a mental health condition. \n\n\n\nThis is an in-person and Zoom meeting. In-person support group meets at Southeast Healthcare–Merion Village\n1455 South 4th Street—Free parking on siteMeeting ID: 960-308-8915 https://us06web.zoom.us/j/9603088915.  Contact Laurita Barber (614) 530-4554 or Omenuko Davis (614) 702-3956\, Monday-Friday (9:00 a.m.-5:00 p.m.)\, or email laurita.barber@namifc.org for more information.
URL:https://namifranklincounty.org/calendar/family-support-groups-4th-wednesday-of-each-month-8/2026-06-24/
LOCATION:Hybrid – Southeast Healthcare and Zoom
END:VEVENT
BEGIN:VEVENT
DTSTART;TZID=UTC:20260625T183000
DTEND;TZID=UTC:20260625T200000
DTSTAMP:20260420T030958
CREATED:20250219T064056Z
LAST-MODIFIED:20250710T191052Z
UID:10004268-1782412200-1782417600@namifranklincounty.org
SUMMARY:NAMI Connection Every Thursday
DESCRIPTION:NAMI Connection Every Thursday – A recovery support group for adults living with a mental health condition. The support group is facilitated by those in recovery. “Talk with someone who understands\, someone just like you. \nZoom meeting ID: 824-479-7473 https://us06web.zoom.us/j/8244797473.\nContact Regina Hillman (614) 501-6264\, (9:00 a.m.-5:00 p.m.\, Monday-Friday) or email regina@namifc.org for more information.
URL:https://namifranklincounty.org/calendar/nami-connection-every-thursday-6/2026-06-25/
LOCATION:Zoom Meeting
END:VEVENT
BEGIN:VEVENT
DTSTART;TZID=UTC:20260627T120000
DTEND;TZID=UTC:20260627T133000
DTSTAMP:20260420T030958
CREATED:20250226T181416Z
LAST-MODIFIED:20250710T190055Z
UID:10003569-1782561600-1782567000@namifranklincounty.org
SUMMARY:NAMI Connection Every Saturday
DESCRIPTION:NAMI Connection Every Saturday – A recovery support group for adults living with a mental health condition. The support group is facilitated by those in recovery. “Talk with someone who understands\, someone just like you. \nZoom meeting ID: 824-479-7473 https://us06web.zoom.us/j/8244797473.\nContact Regina Hillman (614) 501-6264\, (9:00 a.m.-5:00 p.m.\, Monday-Friday) or email regina@namifc.org for more information.
URL:https://namifranklincounty.org/calendar/nami-connection-every-saturday-2/2026-06-27/
LOCATION:Zoom Meeting
END:VEVENT
BEGIN:VEVENT
DTSTART;TZID=UTC:20260629T183000
DTEND;TZID=UTC:20260629T200000
DTSTAMP:20260420T030958
CREATED:20250219T063456Z
LAST-MODIFIED:20250710T185545Z
UID:10004008-1782757800-1782763200@namifranklincounty.org
SUMMARY:NAMI Connection Every Monday
DESCRIPTION:NAMI Connection Every Monday – A recovery support group for adults living with a mental health condition. The support group is facilitated by those in recovery. “Talk with someone who understands\, someone just like you.” \nNew Birth Christian Ministries\, 3475 Refugee Road\, Columbus\, Ohio 43232\, Room 206. Note: If the support group falls on a holiday\, the building is closed\, or there is inclement weather\, the support group will be held on Zoom  \nZoom meeting ID: 824-479-7473 https://us06web.zoom.us/j/8244797473. \nContact Laurita Barber (614) 530-4554\, Monday-Friday (9:00 a.m.-5:00 p.m.)\, or email laurita.barber@namifc.org for more information. \n 
URL:https://namifranklincounty.org/calendar/nami-connection-every-monday-6/2026-06-29/
LOCATION:New Birth Christian Ministries\, 3475 Refugee Rd\, Columbus\, OH\, 43232\, United States
END:VEVENT
END:VCALENDAR