BEGIN:VCALENDAR
VERSION:2.0
PRODID:-//National Alliance on Mental Illness | NAMI Franklin County - ECPv6.15.20//NONSGML v1.0//EN
CALSCALE:GREGORIAN
METHOD:PUBLISH
X-ORIGINAL-URL:https://namifranklincounty.org
X-WR-CALDESC:Events for National Alliance on Mental Illness | NAMI Franklin County
REFRESH-INTERVAL;VALUE=DURATION:PT1H
X-Robots-Tag:noindex
X-PUBLISHED-TTL:PT1H
BEGIN:VTIMEZONE
TZID:UTC
BEGIN:STANDARD
TZOFFSETFROM:+0000
TZOFFSETTO:+0000
TZNAME:UTC
DTSTART:20280101T000000
END:STANDARD
END:VTIMEZONE
BEGIN:VEVENT
DTSTART;TZID=UTC:20290305T183000
DTEND;TZID=UTC:20290305T200000
DTSTAMP:20260424T154450
CREATED:20250219T063456Z
LAST-MODIFIED:20250710T185545Z
UID:10004148-1867429800-1867435200@namifranklincounty.org
SUMMARY:NAMI Connection Every Monday
DESCRIPTION:NAMI Connection Every Monday – A recovery support group for adults living with a mental health condition. The support group is facilitated by those in recovery. “Talk with someone who understands\, someone just like you.” \nNew Birth Christian Ministries\, 3475 Refugee Road\, Columbus\, Ohio 43232\, Room 206. Note: If the support group falls on a holiday\, the building is closed\, or there is inclement weather\, the support group will be held on Zoom  \nZoom meeting ID: 824-479-7473 https://us06web.zoom.us/j/8244797473. \nContact Laurita Barber (614) 530-4554\, Monday-Friday (9:00 a.m.-5:00 p.m.)\, or email laurita.barber@namifc.org for more information. \n 
URL:https://namifranklincounty.org/calendar/nami-connection-every-monday-6/2029-03-05/
LOCATION:New Birth Christian Ministries\, 3475 Refugee Rd\, Columbus\, OH\, 43232\, United States
END:VEVENT
BEGIN:VEVENT
DTSTART;TZID=UTC:20290307T180000
DTEND;TZID=UTC:20290307T193000
DTSTAMP:20260424T154450
CREATED:20250710T180329Z
LAST-MODIFIED:20260401T144613Z
UID:10003888-1867600800-1867606200@namifranklincounty.org
SUMMARY:Parent Support Group 1st Wednesday of each month
DESCRIPTION:Patent Support Group – Support for parents\, caregivers\, and guardians of minor children (ages 22 and younger) living with behavioral difficulties and mental health challenges. \nZoom meeting ID: 678 970 3418 \nContact Laurita Barber\, (614) 530-4554\, Monday-Friday (9:00 a.m.-5:00 p.m.)\, or email laurita.barber@namifc.org for more information. \n 
URL:https://namifranklincounty.org/calendar/parent-support-group-1st-wednesday-of-each-month/2029-03-07/
LOCATION:Zoom Meeting
END:VEVENT
BEGIN:VEVENT
DTSTART;TZID=UTC:20290307T180000
DTEND;TZID=UTC:20290307T193000
DTSTAMP:20260424T154450
CREATED:20260331T164341Z
LAST-MODIFIED:20260331T170435Z
UID:10004992-1867600800-1867606200@namifranklincounty.org
SUMMARY:Men's Connection Recovery Support Group 1st Wednesday of each month
DESCRIPTION:Men’s Connection Recovery Support Group 1st Wednesday – A recovery support group for men living with a mental health condition. The support group is facilitated by those in recovery. \n\n\n\nZoom Meeting ID: 666-903-2784 https://us06web.zoom.us/j/6669032784. \nContact Daniel Fall (614) 501-6264\, Monday-Friday (9:00 a.m.-5:00 p.m.)\, or email dan@namifc.org for more information.\n\n\n\n 
URL:https://namifranklincounty.org/calendar/mens-connection-recovery-suppt-grp-1st-wednesday-of-each-month/2029-03-07/
LOCATION:Zoom Meeting
END:VEVENT
BEGIN:VEVENT
DTSTART;TZID=UTC:20290308T183000
DTEND;TZID=UTC:20290308T200000
DTSTAMP:20260424T154450
CREATED:20250219T064056Z
LAST-MODIFIED:20250710T191052Z
UID:10004409-1867689000-1867694400@namifranklincounty.org
SUMMARY:NAMI Connection Every Thursday
DESCRIPTION:NAMI Connection Every Thursday – A recovery support group for adults living with a mental health condition. The support group is facilitated by those in recovery. “Talk with someone who understands\, someone just like you. \nZoom meeting ID: 824-479-7473 https://us06web.zoom.us/j/8244797473.\nContact Regina Hillman (614) 501-6264\, (9:00 a.m.-5:00 p.m.\, Monday-Friday) or email regina@namifc.org for more information.
URL:https://namifranklincounty.org/calendar/nami-connection-every-thursday-6/2029-03-08/
LOCATION:Zoom Meeting
END:VEVENT
BEGIN:VEVENT
DTSTART;TZID=UTC:20290310T120000
DTEND;TZID=UTC:20290310T133000
DTSTAMP:20260424T154450
CREATED:20250226T181416Z
LAST-MODIFIED:20250710T190055Z
UID:10003710-1867838400-1867843800@namifranklincounty.org
SUMMARY:NAMI Connection Every Saturday
DESCRIPTION:NAMI Connection Every Saturday – A recovery support group for adults living with a mental health condition. The support group is facilitated by those in recovery. “Talk with someone who understands\, someone just like you. \nZoom meeting ID: 824-479-7473 https://us06web.zoom.us/j/8244797473.\nContact Regina Hillman (614) 501-6264\, (9:00 a.m.-5:00 p.m.\, Monday-Friday) or email regina@namifc.org for more information.
URL:https://namifranklincounty.org/calendar/nami-connection-every-saturday-2/2029-03-10/
LOCATION:Zoom Meeting
END:VEVENT
BEGIN:VEVENT
DTSTART;TZID=UTC:20290312T183000
DTEND;TZID=UTC:20290312T200000
DTSTAMP:20260424T154450
CREATED:20250219T063456Z
LAST-MODIFIED:20250710T185545Z
UID:10004149-1868034600-1868040000@namifranklincounty.org
SUMMARY:NAMI Connection Every Monday
DESCRIPTION:NAMI Connection Every Monday – A recovery support group for adults living with a mental health condition. The support group is facilitated by those in recovery. “Talk with someone who understands\, someone just like you.” \nNew Birth Christian Ministries\, 3475 Refugee Road\, Columbus\, Ohio 43232\, Room 206. Note: If the support group falls on a holiday\, the building is closed\, or there is inclement weather\, the support group will be held on Zoom  \nZoom meeting ID: 824-479-7473 https://us06web.zoom.us/j/8244797473. \nContact Laurita Barber (614) 530-4554\, Monday-Friday (9:00 a.m.-5:00 p.m.)\, or email laurita.barber@namifc.org for more information. \n 
URL:https://namifranklincounty.org/calendar/nami-connection-every-monday-6/2029-03-12/
LOCATION:New Birth Christian Ministries\, 3475 Refugee Rd\, Columbus\, OH\, 43232\, United States
END:VEVENT
BEGIN:VEVENT
DTSTART;TZID=UTC:20290314T173000
DTEND;TZID=UTC:20290314T190000
DTSTAMP:20260424T154450
CREATED:20250428T210603Z
LAST-MODIFIED:20250710T182433Z
UID:10003090-1868203800-1868209200@namifranklincounty.org
SUMMARY:Family Support Groups 2nd Wednesday of each month
DESCRIPTION:Family Support Groups – Support for adult caregivers\, family members\, and partners caring for loved ones with a mental health condition. \nThis is an in-person and Zoom Meeting.  In-person support group meets at 1225 Dublin Rd.\, Ste 050 (park and enter at the rear of the building). \nZoom Meeting ID: 960-308-8915 Contact Laurita Barber (614) 530-4554\, Monday-Friday (9:00 a.m.-5:00 p.m.)\, or email laurita.barber@namifc.org for more information. \n 
URL:https://namifranklincounty.org/calendar/family-support-groups-2nd-wednesday-of-each-month-9/2029-03-14/
LOCATION:Hybrid – NAMI Office and Zoom
END:VEVENT
BEGIN:VEVENT
DTSTART;TZID=UTC:20290315T183000
DTEND;TZID=UTC:20290315T200000
DTSTAMP:20260424T154450
CREATED:20250219T064056Z
LAST-MODIFIED:20250710T191052Z
UID:10004410-1868293800-1868299200@namifranklincounty.org
SUMMARY:NAMI Connection Every Thursday
DESCRIPTION:NAMI Connection Every Thursday – A recovery support group for adults living with a mental health condition. The support group is facilitated by those in recovery. “Talk with someone who understands\, someone just like you. \nZoom meeting ID: 824-479-7473 https://us06web.zoom.us/j/8244797473.\nContact Regina Hillman (614) 501-6264\, (9:00 a.m.-5:00 p.m.\, Monday-Friday) or email regina@namifc.org for more information.
URL:https://namifranklincounty.org/calendar/nami-connection-every-thursday-6/2029-03-15/
LOCATION:Zoom Meeting
END:VEVENT
BEGIN:VEVENT
DTSTART;TZID=UTC:20290317T120000
DTEND;TZID=UTC:20290317T133000
DTSTAMP:20260424T154450
CREATED:20250226T181416Z
LAST-MODIFIED:20250710T190055Z
UID:10003711-1868443200-1868448600@namifranklincounty.org
SUMMARY:NAMI Connection Every Saturday
DESCRIPTION:NAMI Connection Every Saturday – A recovery support group for adults living with a mental health condition. The support group is facilitated by those in recovery. “Talk with someone who understands\, someone just like you. \nZoom meeting ID: 824-479-7473 https://us06web.zoom.us/j/8244797473.\nContact Regina Hillman (614) 501-6264\, (9:00 a.m.-5:00 p.m.\, Monday-Friday) or email regina@namifc.org for more information.
URL:https://namifranklincounty.org/calendar/nami-connection-every-saturday-2/2029-03-17/
LOCATION:Zoom Meeting
END:VEVENT
BEGIN:VEVENT
DTSTART;TZID=UTC:20290319T183000
DTEND;TZID=UTC:20290319T200000
DTSTAMP:20260424T154450
CREATED:20250219T063456Z
LAST-MODIFIED:20250710T185545Z
UID:10004150-1868639400-1868644800@namifranklincounty.org
SUMMARY:NAMI Connection Every Monday
DESCRIPTION:NAMI Connection Every Monday – A recovery support group for adults living with a mental health condition. The support group is facilitated by those in recovery. “Talk with someone who understands\, someone just like you.” \nNew Birth Christian Ministries\, 3475 Refugee Road\, Columbus\, Ohio 43232\, Room 206. Note: If the support group falls on a holiday\, the building is closed\, or there is inclement weather\, the support group will be held on Zoom  \nZoom meeting ID: 824-479-7473 https://us06web.zoom.us/j/8244797473. \nContact Laurita Barber (614) 530-4554\, Monday-Friday (9:00 a.m.-5:00 p.m.)\, or email laurita.barber@namifc.org for more information. \n 
URL:https://namifranklincounty.org/calendar/nami-connection-every-monday-6/2029-03-19/
LOCATION:New Birth Christian Ministries\, 3475 Refugee Rd\, Columbus\, OH\, 43232\, United States
END:VEVENT
BEGIN:VEVENT
DTSTART;TZID=UTC:20290320T180000
DTEND;TZID=UTC:20290320T193000
DTSTAMP:20260424T154450
CREATED:20250219T062747Z
LAST-MODIFIED:20260331T170417Z
UID:10003209-1868724000-1868729400@namifranklincounty.org
SUMMARY:Men’s Family Support Group 3rd Tuesday of each month
DESCRIPTION:Men’s Family Support Group 3rd Tuesday of each month – Support for male caregivers\, family members\, and partners caring for loved ones with a mental health condition. \n\n\n\nZoom Meeting ID: 666-903-2784 https://us06web.zoom.us/j/6669032784. \nContact Daniel Fall (614) 501-6264\, Monday-Friday (9:00 a.m.-5:00 p.m.)\, or email dan@namifc.org for more information.
URL:https://namifranklincounty.org/calendar/mens-family-support-group-3rd-tuesday-of-each-month-2/2029-03-20/
LOCATION:Zoom Meeting
END:VEVENT
BEGIN:VEVENT
DTSTART;TZID=UTC:20290320T180000
DTEND;TZID=UTC:20290320T193000
DTSTAMP:20260424T154450
CREATED:20260331T164658Z
LAST-MODIFIED:20260331T170522Z
UID:10005205-1868724000-1868729400@namifranklincounty.org
SUMMARY:Men's Connection Recovery Support Group 3rd Wednesday of each month
DESCRIPTION:Men’s Connection Recovery Support Group 3rd Wednesday– A recovery support group for men living with a mental health condition. The support group is facilitated by those in recovery. \n\n\n\nZoom Meeting ID: 666-903-2784 https://us06web.zoom.us/j/6669032784. \nContact Daniel Fall (614) 501-6264\, Monday-Friday (9:00 a.m.-5:00 p.m.)\, or email dan@namifc.org for more information.
URL:https://namifranklincounty.org/calendar/mens-connection-recovery-support-group-3rd-wednesday-of-each-month/2029-03-20/
LOCATION:Zoom Meeting
END:VEVENT
BEGIN:VEVENT
DTSTART;TZID=UTC:20290322T183000
DTEND;TZID=UTC:20290322T200000
DTSTAMP:20260424T154450
CREATED:20250219T064056Z
LAST-MODIFIED:20250710T191052Z
UID:10004411-1868898600-1868904000@namifranklincounty.org
SUMMARY:NAMI Connection Every Thursday
DESCRIPTION:NAMI Connection Every Thursday – A recovery support group for adults living with a mental health condition. The support group is facilitated by those in recovery. “Talk with someone who understands\, someone just like you. \nZoom meeting ID: 824-479-7473 https://us06web.zoom.us/j/8244797473.\nContact Regina Hillman (614) 501-6264\, (9:00 a.m.-5:00 p.m.\, Monday-Friday) or email regina@namifc.org for more information.
URL:https://namifranklincounty.org/calendar/nami-connection-every-thursday-6/2029-03-22/
LOCATION:Zoom Meeting
END:VEVENT
BEGIN:VEVENT
DTSTART;TZID=UTC:20290324T120000
DTEND;TZID=UTC:20290324T133000
DTSTAMP:20260424T154450
CREATED:20250226T181416Z
LAST-MODIFIED:20250710T190055Z
UID:10003712-1869048000-1869053400@namifranklincounty.org
SUMMARY:NAMI Connection Every Saturday
DESCRIPTION:NAMI Connection Every Saturday – A recovery support group for adults living with a mental health condition. The support group is facilitated by those in recovery. “Talk with someone who understands\, someone just like you. \nZoom meeting ID: 824-479-7473 https://us06web.zoom.us/j/8244797473.\nContact Regina Hillman (614) 501-6264\, (9:00 a.m.-5:00 p.m.\, Monday-Friday) or email regina@namifc.org for more information.
URL:https://namifranklincounty.org/calendar/nami-connection-every-saturday-2/2029-03-24/
LOCATION:Zoom Meeting
END:VEVENT
BEGIN:VEVENT
DTSTART;TZID=UTC:20290326T183000
DTEND;TZID=UTC:20290326T200000
DTSTAMP:20260424T154450
CREATED:20250219T063456Z
LAST-MODIFIED:20250710T185545Z
UID:10004151-1869244200-1869249600@namifranklincounty.org
SUMMARY:NAMI Connection Every Monday
DESCRIPTION:NAMI Connection Every Monday – A recovery support group for adults living with a mental health condition. The support group is facilitated by those in recovery. “Talk with someone who understands\, someone just like you.” \nNew Birth Christian Ministries\, 3475 Refugee Road\, Columbus\, Ohio 43232\, Room 206. Note: If the support group falls on a holiday\, the building is closed\, or there is inclement weather\, the support group will be held on Zoom  \nZoom meeting ID: 824-479-7473 https://us06web.zoom.us/j/8244797473. \nContact Laurita Barber (614) 530-4554\, Monday-Friday (9:00 a.m.-5:00 p.m.)\, or email laurita.barber@namifc.org for more information. \n 
URL:https://namifranklincounty.org/calendar/nami-connection-every-monday-6/2029-03-26/
LOCATION:New Birth Christian Ministries\, 3475 Refugee Rd\, Columbus\, OH\, 43232\, United States
END:VEVENT
BEGIN:VEVENT
DTSTART;TZID=UTC:20290328T173000
DTEND;TZID=UTC:20290328T190000
DTSTAMP:20260424T154450
CREATED:20250428T213138Z
LAST-MODIFIED:20250710T174932Z
UID:10003146-1869413400-1869418800@namifranklincounty.org
SUMMARY:Family Support Groups 4th Wednesday of each month
DESCRIPTION:Family Support Groups – Support for adult caregivers\, family members\, and partners caring for loved ones with a mental health condition. \n\n\n\nThis is an in-person and Zoom meeting. In-person support group meets at Southeast Healthcare–Merion Village\n1455 South 4th Street—Free parking on siteMeeting ID: 960-308-8915 https://us06web.zoom.us/j/9603088915.  Contact Laurita Barber (614) 530-4554 or Omenuko Davis (614) 702-3956\, Monday-Friday (9:00 a.m.-5:00 p.m.)\, or email laurita.barber@namifc.org for more information.
URL:https://namifranklincounty.org/calendar/family-support-groups-4th-wednesday-of-each-month-8/2029-03-28/
LOCATION:Hybrid – Southeast Healthcare and Zoom
END:VEVENT
BEGIN:VEVENT
DTSTART;TZID=UTC:20290329T183000
DTEND;TZID=UTC:20290329T200000
DTSTAMP:20260424T154450
CREATED:20250219T064056Z
LAST-MODIFIED:20250710T191052Z
UID:10004412-1869503400-1869508800@namifranklincounty.org
SUMMARY:NAMI Connection Every Thursday
DESCRIPTION:NAMI Connection Every Thursday – A recovery support group for adults living with a mental health condition. The support group is facilitated by those in recovery. “Talk with someone who understands\, someone just like you. \nZoom meeting ID: 824-479-7473 https://us06web.zoom.us/j/8244797473.\nContact Regina Hillman (614) 501-6264\, (9:00 a.m.-5:00 p.m.\, Monday-Friday) or email regina@namifc.org for more information.
URL:https://namifranklincounty.org/calendar/nami-connection-every-thursday-6/2029-03-29/
LOCATION:Zoom Meeting
END:VEVENT
BEGIN:VEVENT
DTSTART;TZID=UTC:20290331T120000
DTEND;TZID=UTC:20290331T133000
DTSTAMP:20260424T154450
CREATED:20250226T181416Z
LAST-MODIFIED:20250710T190055Z
UID:10003713-1869652800-1869658200@namifranklincounty.org
SUMMARY:NAMI Connection Every Saturday
DESCRIPTION:NAMI Connection Every Saturday – A recovery support group for adults living with a mental health condition. The support group is facilitated by those in recovery. “Talk with someone who understands\, someone just like you. \nZoom meeting ID: 824-479-7473 https://us06web.zoom.us/j/8244797473.\nContact Regina Hillman (614) 501-6264\, (9:00 a.m.-5:00 p.m.\, Monday-Friday) or email regina@namifc.org for more information.
URL:https://namifranklincounty.org/calendar/nami-connection-every-saturday-2/2029-03-31/
LOCATION:Zoom Meeting
END:VEVENT
BEGIN:VEVENT
DTSTART;TZID=UTC:20290402T183000
DTEND;TZID=UTC:20290402T200000
DTSTAMP:20260424T154450
CREATED:20250219T063456Z
LAST-MODIFIED:20250710T185545Z
UID:10004152-1869849000-1869854400@namifranklincounty.org
SUMMARY:NAMI Connection Every Monday
DESCRIPTION:NAMI Connection Every Monday – A recovery support group for adults living with a mental health condition. The support group is facilitated by those in recovery. “Talk with someone who understands\, someone just like you.” \nNew Birth Christian Ministries\, 3475 Refugee Road\, Columbus\, Ohio 43232\, Room 206. Note: If the support group falls on a holiday\, the building is closed\, or there is inclement weather\, the support group will be held on Zoom  \nZoom meeting ID: 824-479-7473 https://us06web.zoom.us/j/8244797473. \nContact Laurita Barber (614) 530-4554\, Monday-Friday (9:00 a.m.-5:00 p.m.)\, or email laurita.barber@namifc.org for more information. \n 
URL:https://namifranklincounty.org/calendar/nami-connection-every-monday-6/2029-04-02/
LOCATION:New Birth Christian Ministries\, 3475 Refugee Rd\, Columbus\, OH\, 43232\, United States
END:VEVENT
BEGIN:VEVENT
DTSTART;TZID=UTC:20290404T180000
DTEND;TZID=UTC:20290404T193000
DTSTAMP:20260424T154450
CREATED:20250710T180329Z
LAST-MODIFIED:20260401T144613Z
UID:10003889-1870020000-1870025400@namifranklincounty.org
SUMMARY:Parent Support Group 1st Wednesday of each month
DESCRIPTION:Patent Support Group – Support for parents\, caregivers\, and guardians of minor children (ages 22 and younger) living with behavioral difficulties and mental health challenges. \nZoom meeting ID: 678 970 3418 \nContact Laurita Barber\, (614) 530-4554\, Monday-Friday (9:00 a.m.-5:00 p.m.)\, or email laurita.barber@namifc.org for more information. \n 
URL:https://namifranklincounty.org/calendar/parent-support-group-1st-wednesday-of-each-month/2029-04-04/
LOCATION:Zoom Meeting
END:VEVENT
BEGIN:VEVENT
DTSTART;TZID=UTC:20290404T180000
DTEND;TZID=UTC:20290404T193000
DTSTAMP:20260424T154450
CREATED:20260331T164341Z
LAST-MODIFIED:20260331T170435Z
UID:10004993-1870020000-1870025400@namifranklincounty.org
SUMMARY:Men's Connection Recovery Support Group 1st Wednesday of each month
DESCRIPTION:Men’s Connection Recovery Support Group 1st Wednesday – A recovery support group for men living with a mental health condition. The support group is facilitated by those in recovery. \n\n\n\nZoom Meeting ID: 666-903-2784 https://us06web.zoom.us/j/6669032784. \nContact Daniel Fall (614) 501-6264\, Monday-Friday (9:00 a.m.-5:00 p.m.)\, or email dan@namifc.org for more information.\n\n\n\n 
URL:https://namifranklincounty.org/calendar/mens-connection-recovery-suppt-grp-1st-wednesday-of-each-month/2029-04-04/
LOCATION:Zoom Meeting
END:VEVENT
BEGIN:VEVENT
DTSTART;TZID=UTC:20290405T183000
DTEND;TZID=UTC:20290405T200000
DTSTAMP:20260424T154450
CREATED:20250219T064056Z
LAST-MODIFIED:20250710T191052Z
UID:10004413-1870108200-1870113600@namifranklincounty.org
SUMMARY:NAMI Connection Every Thursday
DESCRIPTION:NAMI Connection Every Thursday – A recovery support group for adults living with a mental health condition. The support group is facilitated by those in recovery. “Talk with someone who understands\, someone just like you. \nZoom meeting ID: 824-479-7473 https://us06web.zoom.us/j/8244797473.\nContact Regina Hillman (614) 501-6264\, (9:00 a.m.-5:00 p.m.\, Monday-Friday) or email regina@namifc.org for more information.
URL:https://namifranklincounty.org/calendar/nami-connection-every-thursday-6/2029-04-05/
LOCATION:Zoom Meeting
END:VEVENT
BEGIN:VEVENT
DTSTART;TZID=UTC:20290407T120000
DTEND;TZID=UTC:20290407T133000
DTSTAMP:20260424T154450
CREATED:20250226T181416Z
LAST-MODIFIED:20250710T190055Z
UID:10003714-1870257600-1870263000@namifranklincounty.org
SUMMARY:NAMI Connection Every Saturday
DESCRIPTION:NAMI Connection Every Saturday – A recovery support group for adults living with a mental health condition. The support group is facilitated by those in recovery. “Talk with someone who understands\, someone just like you. \nZoom meeting ID: 824-479-7473 https://us06web.zoom.us/j/8244797473.\nContact Regina Hillman (614) 501-6264\, (9:00 a.m.-5:00 p.m.\, Monday-Friday) or email regina@namifc.org for more information.
URL:https://namifranklincounty.org/calendar/nami-connection-every-saturday-2/2029-04-07/
LOCATION:Zoom Meeting
END:VEVENT
BEGIN:VEVENT
DTSTART;TZID=UTC:20290409T183000
DTEND;TZID=UTC:20290409T200000
DTSTAMP:20260424T154451
CREATED:20250219T063456Z
LAST-MODIFIED:20250710T185545Z
UID:10004153-1870453800-1870459200@namifranklincounty.org
SUMMARY:NAMI Connection Every Monday
DESCRIPTION:NAMI Connection Every Monday – A recovery support group for adults living with a mental health condition. The support group is facilitated by those in recovery. “Talk with someone who understands\, someone just like you.” \nNew Birth Christian Ministries\, 3475 Refugee Road\, Columbus\, Ohio 43232\, Room 206. Note: If the support group falls on a holiday\, the building is closed\, or there is inclement weather\, the support group will be held on Zoom  \nZoom meeting ID: 824-479-7473 https://us06web.zoom.us/j/8244797473. \nContact Laurita Barber (614) 530-4554\, Monday-Friday (9:00 a.m.-5:00 p.m.)\, or email laurita.barber@namifc.org for more information. \n 
URL:https://namifranklincounty.org/calendar/nami-connection-every-monday-6/2029-04-09/
LOCATION:New Birth Christian Ministries\, 3475 Refugee Rd\, Columbus\, OH\, 43232\, United States
END:VEVENT
BEGIN:VEVENT
DTSTART;TZID=UTC:20290411T173000
DTEND;TZID=UTC:20290411T190000
DTSTAMP:20260424T154451
CREATED:20250428T210603Z
LAST-MODIFIED:20250710T182433Z
UID:10003091-1870623000-1870628400@namifranklincounty.org
SUMMARY:Family Support Groups 2nd Wednesday of each month
DESCRIPTION:Family Support Groups – Support for adult caregivers\, family members\, and partners caring for loved ones with a mental health condition. \nThis is an in-person and Zoom Meeting.  In-person support group meets at 1225 Dublin Rd.\, Ste 050 (park and enter at the rear of the building). \nZoom Meeting ID: 960-308-8915 Contact Laurita Barber (614) 530-4554\, Monday-Friday (9:00 a.m.-5:00 p.m.)\, or email laurita.barber@namifc.org for more information. \n 
URL:https://namifranklincounty.org/calendar/family-support-groups-2nd-wednesday-of-each-month-9/2029-04-11/
LOCATION:Hybrid – NAMI Office and Zoom
END:VEVENT
BEGIN:VEVENT
DTSTART;TZID=UTC:20290412T183000
DTEND;TZID=UTC:20290412T200000
DTSTAMP:20260424T154451
CREATED:20250219T064056Z
LAST-MODIFIED:20250710T191052Z
UID:10004414-1870713000-1870718400@namifranklincounty.org
SUMMARY:NAMI Connection Every Thursday
DESCRIPTION:NAMI Connection Every Thursday – A recovery support group for adults living with a mental health condition. The support group is facilitated by those in recovery. “Talk with someone who understands\, someone just like you. \nZoom meeting ID: 824-479-7473 https://us06web.zoom.us/j/8244797473.\nContact Regina Hillman (614) 501-6264\, (9:00 a.m.-5:00 p.m.\, Monday-Friday) or email regina@namifc.org for more information.
URL:https://namifranklincounty.org/calendar/nami-connection-every-thursday-6/2029-04-12/
LOCATION:Zoom Meeting
END:VEVENT
BEGIN:VEVENT
DTSTART;TZID=UTC:20290414T120000
DTEND;TZID=UTC:20290414T133000
DTSTAMP:20260424T154451
CREATED:20250226T181416Z
LAST-MODIFIED:20250710T190055Z
UID:10003715-1870862400-1870867800@namifranklincounty.org
SUMMARY:NAMI Connection Every Saturday
DESCRIPTION:NAMI Connection Every Saturday – A recovery support group for adults living with a mental health condition. The support group is facilitated by those in recovery. “Talk with someone who understands\, someone just like you. \nZoom meeting ID: 824-479-7473 https://us06web.zoom.us/j/8244797473.\nContact Regina Hillman (614) 501-6264\, (9:00 a.m.-5:00 p.m.\, Monday-Friday) or email regina@namifc.org for more information.
URL:https://namifranklincounty.org/calendar/nami-connection-every-saturday-2/2029-04-14/
LOCATION:Zoom Meeting
END:VEVENT
BEGIN:VEVENT
DTSTART;TZID=UTC:20290416T183000
DTEND;TZID=UTC:20290416T200000
DTSTAMP:20260424T154451
CREATED:20250219T063456Z
LAST-MODIFIED:20250710T185545Z
UID:10004154-1871058600-1871064000@namifranklincounty.org
SUMMARY:NAMI Connection Every Monday
DESCRIPTION:NAMI Connection Every Monday – A recovery support group for adults living with a mental health condition. The support group is facilitated by those in recovery. “Talk with someone who understands\, someone just like you.” \nNew Birth Christian Ministries\, 3475 Refugee Road\, Columbus\, Ohio 43232\, Room 206. Note: If the support group falls on a holiday\, the building is closed\, or there is inclement weather\, the support group will be held on Zoom  \nZoom meeting ID: 824-479-7473 https://us06web.zoom.us/j/8244797473. \nContact Laurita Barber (614) 530-4554\, Monday-Friday (9:00 a.m.-5:00 p.m.)\, or email laurita.barber@namifc.org for more information. \n 
URL:https://namifranklincounty.org/calendar/nami-connection-every-monday-6/2029-04-16/
LOCATION:New Birth Christian Ministries\, 3475 Refugee Rd\, Columbus\, OH\, 43232\, United States
END:VEVENT
BEGIN:VEVENT
DTSTART;TZID=UTC:20290417T180000
DTEND;TZID=UTC:20290417T193000
DTSTAMP:20260424T154451
CREATED:20250219T062747Z
LAST-MODIFIED:20260331T170417Z
UID:10003210-1871143200-1871148600@namifranklincounty.org
SUMMARY:Men’s Family Support Group 3rd Tuesday of each month
DESCRIPTION:Men’s Family Support Group 3rd Tuesday of each month – Support for male caregivers\, family members\, and partners caring for loved ones with a mental health condition. \n\n\n\nZoom Meeting ID: 666-903-2784 https://us06web.zoom.us/j/6669032784. \nContact Daniel Fall (614) 501-6264\, Monday-Friday (9:00 a.m.-5:00 p.m.)\, or email dan@namifc.org for more information.
URL:https://namifranklincounty.org/calendar/mens-family-support-group-3rd-tuesday-of-each-month-2/2029-04-17/
LOCATION:Zoom Meeting
END:VEVENT
BEGIN:VEVENT
DTSTART;TZID=UTC:20290419T183000
DTEND;TZID=UTC:20290419T200000
DTSTAMP:20260424T154451
CREATED:20250219T064056Z
LAST-MODIFIED:20250710T191052Z
UID:10004415-1871317800-1871323200@namifranklincounty.org
SUMMARY:NAMI Connection Every Thursday
DESCRIPTION:NAMI Connection Every Thursday – A recovery support group for adults living with a mental health condition. The support group is facilitated by those in recovery. “Talk with someone who understands\, someone just like you. \nZoom meeting ID: 824-479-7473 https://us06web.zoom.us/j/8244797473.\nContact Regina Hillman (614) 501-6264\, (9:00 a.m.-5:00 p.m.\, Monday-Friday) or email regina@namifc.org for more information.
URL:https://namifranklincounty.org/calendar/nami-connection-every-thursday-6/2029-04-19/
LOCATION:Zoom Meeting
END:VEVENT
END:VCALENDAR