BEGIN:VCALENDAR
VERSION:2.0
PRODID:-//National Alliance on Mental Illness | NAMI Franklin County - ECPv6.15.20//NONSGML v1.0//EN
CALSCALE:GREGORIAN
METHOD:PUBLISH
X-WR-CALNAME:National Alliance on Mental Illness | NAMI Franklin County
X-ORIGINAL-URL:https://namifranklincounty.org
X-WR-CALDESC:Events for National Alliance on Mental Illness | NAMI Franklin County
REFRESH-INTERVAL;VALUE=DURATION:PT1H
X-Robots-Tag:noindex
X-PUBLISHED-TTL:PT1H
BEGIN:VTIMEZONE
TZID:UTC
BEGIN:STANDARD
TZOFFSETFROM:+0000
TZOFFSETTO:+0000
TZNAME:UTC
DTSTART:20280101T000000
END:STANDARD
END:VTIMEZONE
BEGIN:VEVENT
DTSTART;TZID=UTC:20290802T183000
DTEND;TZID=UTC:20290802T200000
DTSTAMP:20260425T012608
CREATED:20250219T064056Z
LAST-MODIFIED:20250710T191052Z
UID:10004430-1880389800-1880395200@namifranklincounty.org
SUMMARY:NAMI Connection Every Thursday
DESCRIPTION:NAMI Connection Every Thursday – A recovery support group for adults living with a mental health condition. The support group is facilitated by those in recovery. “Talk with someone who understands\, someone just like you. \nZoom meeting ID: 824-479-7473 https://us06web.zoom.us/j/8244797473.\nContact Regina Hillman (614) 501-6264\, (9:00 a.m.-5:00 p.m.\, Monday-Friday) or email regina@namifc.org for more information.
URL:https://namifranklincounty.org/calendar/nami-connection-every-thursday-6/2029-08-02/
LOCATION:Zoom Meeting
END:VEVENT
BEGIN:VEVENT
DTSTART;TZID=UTC:20290804T120000
DTEND;TZID=UTC:20290804T133000
DTSTAMP:20260425T012608
CREATED:20250226T181416Z
LAST-MODIFIED:20250710T190055Z
UID:10003731-1880539200-1880544600@namifranklincounty.org
SUMMARY:NAMI Connection Every Saturday
DESCRIPTION:NAMI Connection Every Saturday – A recovery support group for adults living with a mental health condition. The support group is facilitated by those in recovery. “Talk with someone who understands\, someone just like you. \nZoom meeting ID: 824-479-7473 https://us06web.zoom.us/j/8244797473.\nContact Regina Hillman (614) 501-6264\, (9:00 a.m.-5:00 p.m.\, Monday-Friday) or email regina@namifc.org for more information.
URL:https://namifranklincounty.org/calendar/nami-connection-every-saturday-2/2029-08-04/
LOCATION:Zoom Meeting
END:VEVENT
BEGIN:VEVENT
DTSTART;TZID=UTC:20290806T183000
DTEND;TZID=UTC:20290806T200000
DTSTAMP:20260425T012608
CREATED:20250219T063456Z
LAST-MODIFIED:20250710T185545Z
UID:10004170-1880735400-1880740800@namifranklincounty.org
SUMMARY:NAMI Connection Every Monday
DESCRIPTION:NAMI Connection Every Monday – A recovery support group for adults living with a mental health condition. The support group is facilitated by those in recovery. “Talk with someone who understands\, someone just like you.” \nNew Birth Christian Ministries\, 3475 Refugee Road\, Columbus\, Ohio 43232\, Room 206. Note: If the support group falls on a holiday\, the building is closed\, or there is inclement weather\, the support group will be held on Zoom  \nZoom meeting ID: 824-479-7473 https://us06web.zoom.us/j/8244797473. \nContact Laurita Barber (614) 530-4554\, Monday-Friday (9:00 a.m.-5:00 p.m.)\, or email laurita.barber@namifc.org for more information. \n 
URL:https://namifranklincounty.org/calendar/nami-connection-every-monday-6/2029-08-06/
LOCATION:New Birth Christian Ministries\, 3475 Refugee Rd\, Columbus\, OH\, 43232\, United States
END:VEVENT
BEGIN:VEVENT
DTSTART;TZID=UTC:20290808T173000
DTEND;TZID=UTC:20290808T190000
DTSTAMP:20260425T012608
CREATED:20250428T210603Z
LAST-MODIFIED:20250710T182433Z
UID:10003095-1880904600-1880910000@namifranklincounty.org
SUMMARY:Family Support Groups 2nd Wednesday of each month
DESCRIPTION:Family Support Groups – Support for adult caregivers\, family members\, and partners caring for loved ones with a mental health condition. \nThis is an in-person and Zoom Meeting.  In-person support group meets at 1225 Dublin Rd.\, Ste 050 (park and enter at the rear of the building). \nZoom Meeting ID: 960-308-8915 Contact Laurita Barber (614) 530-4554\, Monday-Friday (9:00 a.m.-5:00 p.m.)\, or email laurita.barber@namifc.org for more information. \n 
URL:https://namifranklincounty.org/calendar/family-support-groups-2nd-wednesday-of-each-month-9/2029-08-08/
LOCATION:Hybrid – NAMI Office and Zoom
END:VEVENT
BEGIN:VEVENT
DTSTART;TZID=UTC:20290809T183000
DTEND;TZID=UTC:20290809T200000
DTSTAMP:20260425T012608
CREATED:20250219T064056Z
LAST-MODIFIED:20250710T191052Z
UID:10004431-1880994600-1881000000@namifranklincounty.org
SUMMARY:NAMI Connection Every Thursday
DESCRIPTION:NAMI Connection Every Thursday – A recovery support group for adults living with a mental health condition. The support group is facilitated by those in recovery. “Talk with someone who understands\, someone just like you. \nZoom meeting ID: 824-479-7473 https://us06web.zoom.us/j/8244797473.\nContact Regina Hillman (614) 501-6264\, (9:00 a.m.-5:00 p.m.\, Monday-Friday) or email regina@namifc.org for more information.
URL:https://namifranklincounty.org/calendar/nami-connection-every-thursday-6/2029-08-09/
LOCATION:Zoom Meeting
END:VEVENT
BEGIN:VEVENT
DTSTART;TZID=UTC:20290811T120000
DTEND;TZID=UTC:20290811T133000
DTSTAMP:20260425T012608
CREATED:20250226T181416Z
LAST-MODIFIED:20250710T190055Z
UID:10003732-1881144000-1881149400@namifranklincounty.org
SUMMARY:NAMI Connection Every Saturday
DESCRIPTION:NAMI Connection Every Saturday – A recovery support group for adults living with a mental health condition. The support group is facilitated by those in recovery. “Talk with someone who understands\, someone just like you. \nZoom meeting ID: 824-479-7473 https://us06web.zoom.us/j/8244797473.\nContact Regina Hillman (614) 501-6264\, (9:00 a.m.-5:00 p.m.\, Monday-Friday) or email regina@namifc.org for more information.
URL:https://namifranklincounty.org/calendar/nami-connection-every-saturday-2/2029-08-11/
LOCATION:Zoom Meeting
END:VEVENT
BEGIN:VEVENT
DTSTART;TZID=UTC:20290813T183000
DTEND;TZID=UTC:20290813T200000
DTSTAMP:20260425T012608
CREATED:20250219T063456Z
LAST-MODIFIED:20250710T185545Z
UID:10004171-1881340200-1881345600@namifranklincounty.org
SUMMARY:NAMI Connection Every Monday
DESCRIPTION:NAMI Connection Every Monday – A recovery support group for adults living with a mental health condition. The support group is facilitated by those in recovery. “Talk with someone who understands\, someone just like you.” \nNew Birth Christian Ministries\, 3475 Refugee Road\, Columbus\, Ohio 43232\, Room 206. Note: If the support group falls on a holiday\, the building is closed\, or there is inclement weather\, the support group will be held on Zoom  \nZoom meeting ID: 824-479-7473 https://us06web.zoom.us/j/8244797473. \nContact Laurita Barber (614) 530-4554\, Monday-Friday (9:00 a.m.-5:00 p.m.)\, or email laurita.barber@namifc.org for more information. \n 
URL:https://namifranklincounty.org/calendar/nami-connection-every-monday-6/2029-08-13/
LOCATION:New Birth Christian Ministries\, 3475 Refugee Rd\, Columbus\, OH\, 43232\, United States
END:VEVENT
BEGIN:VEVENT
DTSTART;TZID=UTC:20290816T183000
DTEND;TZID=UTC:20290816T200000
DTSTAMP:20260425T012608
CREATED:20250219T064056Z
LAST-MODIFIED:20250710T191052Z
UID:10004432-1881599400-1881604800@namifranklincounty.org
SUMMARY:NAMI Connection Every Thursday
DESCRIPTION:NAMI Connection Every Thursday – A recovery support group for adults living with a mental health condition. The support group is facilitated by those in recovery. “Talk with someone who understands\, someone just like you. \nZoom meeting ID: 824-479-7473 https://us06web.zoom.us/j/8244797473.\nContact Regina Hillman (614) 501-6264\, (9:00 a.m.-5:00 p.m.\, Monday-Friday) or email regina@namifc.org for more information.
URL:https://namifranklincounty.org/calendar/nami-connection-every-thursday-6/2029-08-16/
LOCATION:Zoom Meeting
END:VEVENT
BEGIN:VEVENT
DTSTART;TZID=UTC:20290818T120000
DTEND;TZID=UTC:20290818T133000
DTSTAMP:20260425T012608
CREATED:20250226T181416Z
LAST-MODIFIED:20250710T190055Z
UID:10003733-1881748800-1881754200@namifranklincounty.org
SUMMARY:NAMI Connection Every Saturday
DESCRIPTION:NAMI Connection Every Saturday – A recovery support group for adults living with a mental health condition. The support group is facilitated by those in recovery. “Talk with someone who understands\, someone just like you. \nZoom meeting ID: 824-479-7473 https://us06web.zoom.us/j/8244797473.\nContact Regina Hillman (614) 501-6264\, (9:00 a.m.-5:00 p.m.\, Monday-Friday) or email regina@namifc.org for more information.
URL:https://namifranklincounty.org/calendar/nami-connection-every-saturday-2/2029-08-18/
LOCATION:Zoom Meeting
END:VEVENT
BEGIN:VEVENT
DTSTART;TZID=UTC:20290820T180000
DTEND;TZID=UTC:20290820T193000
DTSTAMP:20260425T012608
CREATED:20260331T164658Z
LAST-MODIFIED:20260331T170522Z
UID:10005209-1881943200-1881948600@namifranklincounty.org
SUMMARY:Men's Connection Recovery Support Group 3rd Wednesday of each month
DESCRIPTION:Men’s Connection Recovery Support Group 3rd Wednesday– A recovery support group for men living with a mental health condition. The support group is facilitated by those in recovery. \n\n\n\nZoom Meeting ID: 666-903-2784 https://us06web.zoom.us/j/6669032784. \nContact Daniel Fall (614) 501-6264\, Monday-Friday (9:00 a.m.-5:00 p.m.)\, or email dan@namifc.org for more information.
URL:https://namifranklincounty.org/calendar/mens-connection-recovery-support-group-3rd-wednesday-of-each-month/2029-08-20/
LOCATION:Zoom Meeting
END:VEVENT
BEGIN:VEVENT
DTSTART;TZID=UTC:20290820T183000
DTEND;TZID=UTC:20290820T200000
DTSTAMP:20260425T012608
CREATED:20250219T063456Z
LAST-MODIFIED:20250710T185545Z
UID:10004172-1881945000-1881950400@namifranklincounty.org
SUMMARY:NAMI Connection Every Monday
DESCRIPTION:NAMI Connection Every Monday – A recovery support group for adults living with a mental health condition. The support group is facilitated by those in recovery. “Talk with someone who understands\, someone just like you.” \nNew Birth Christian Ministries\, 3475 Refugee Road\, Columbus\, Ohio 43232\, Room 206. Note: If the support group falls on a holiday\, the building is closed\, or there is inclement weather\, the support group will be held on Zoom  \nZoom meeting ID: 824-479-7473 https://us06web.zoom.us/j/8244797473. \nContact Laurita Barber (614) 530-4554\, Monday-Friday (9:00 a.m.-5:00 p.m.)\, or email laurita.barber@namifc.org for more information. \n 
URL:https://namifranklincounty.org/calendar/nami-connection-every-monday-6/2029-08-20/
LOCATION:New Birth Christian Ministries\, 3475 Refugee Rd\, Columbus\, OH\, 43232\, United States
END:VEVENT
BEGIN:VEVENT
DTSTART;TZID=UTC:20290821T180000
DTEND;TZID=UTC:20290821T193000
DTSTAMP:20260425T012608
CREATED:20250219T062747Z
LAST-MODIFIED:20260331T170417Z
UID:10003214-1882029600-1882035000@namifranklincounty.org
SUMMARY:Men’s Family Support Group 3rd Tuesday of each month
DESCRIPTION:Men’s Family Support Group 3rd Tuesday of each month – Support for male caregivers\, family members\, and partners caring for loved ones with a mental health condition. \n\n\n\nZoom Meeting ID: 666-903-2784 https://us06web.zoom.us/j/6669032784. \nContact Daniel Fall (614) 501-6264\, Monday-Friday (9:00 a.m.-5:00 p.m.)\, or email dan@namifc.org for more information.
URL:https://namifranklincounty.org/calendar/mens-family-support-group-3rd-tuesday-of-each-month-2/2029-08-21/
LOCATION:Zoom Meeting
END:VEVENT
BEGIN:VEVENT
DTSTART;TZID=UTC:20290822T173000
DTEND;TZID=UTC:20290822T190000
DTSTAMP:20260425T012608
CREATED:20250428T213138Z
LAST-MODIFIED:20250710T174932Z
UID:10003151-1882114200-1882119600@namifranklincounty.org
SUMMARY:Family Support Groups 4th Wednesday of each month
DESCRIPTION:Family Support Groups – Support for adult caregivers\, family members\, and partners caring for loved ones with a mental health condition. \n\n\n\nThis is an in-person and Zoom meeting. In-person support group meets at Southeast Healthcare–Merion Village\n1455 South 4th Street—Free parking on siteMeeting ID: 960-308-8915 https://us06web.zoom.us/j/9603088915.  Contact Laurita Barber (614) 530-4554 or Omenuko Davis (614) 702-3956\, Monday-Friday (9:00 a.m.-5:00 p.m.)\, or email laurita.barber@namifc.org for more information.
URL:https://namifranklincounty.org/calendar/family-support-groups-4th-wednesday-of-each-month-8/2029-08-22/
LOCATION:Hybrid – Southeast Healthcare and Zoom
END:VEVENT
BEGIN:VEVENT
DTSTART;TZID=UTC:20290823T183000
DTEND;TZID=UTC:20290823T200000
DTSTAMP:20260425T012608
CREATED:20250219T064056Z
LAST-MODIFIED:20250710T191052Z
UID:10004433-1882204200-1882209600@namifranklincounty.org
SUMMARY:NAMI Connection Every Thursday
DESCRIPTION:NAMI Connection Every Thursday – A recovery support group for adults living with a mental health condition. The support group is facilitated by those in recovery. “Talk with someone who understands\, someone just like you. \nZoom meeting ID: 824-479-7473 https://us06web.zoom.us/j/8244797473.\nContact Regina Hillman (614) 501-6264\, (9:00 a.m.-5:00 p.m.\, Monday-Friday) or email regina@namifc.org for more information.
URL:https://namifranklincounty.org/calendar/nami-connection-every-thursday-6/2029-08-23/
LOCATION:Zoom Meeting
END:VEVENT
BEGIN:VEVENT
DTSTART;TZID=UTC:20290825T120000
DTEND;TZID=UTC:20290825T133000
DTSTAMP:20260425T012608
CREATED:20250226T181416Z
LAST-MODIFIED:20250710T190055Z
UID:10003734-1882353600-1882359000@namifranklincounty.org
SUMMARY:NAMI Connection Every Saturday
DESCRIPTION:NAMI Connection Every Saturday – A recovery support group for adults living with a mental health condition. The support group is facilitated by those in recovery. “Talk with someone who understands\, someone just like you. \nZoom meeting ID: 824-479-7473 https://us06web.zoom.us/j/8244797473.\nContact Regina Hillman (614) 501-6264\, (9:00 a.m.-5:00 p.m.\, Monday-Friday) or email regina@namifc.org for more information.
URL:https://namifranklincounty.org/calendar/nami-connection-every-saturday-2/2029-08-25/
LOCATION:Zoom Meeting
END:VEVENT
BEGIN:VEVENT
DTSTART;TZID=UTC:20290827T183000
DTEND;TZID=UTC:20290827T200000
DTSTAMP:20260425T012608
CREATED:20250219T063456Z
LAST-MODIFIED:20250710T185545Z
UID:10004173-1882549800-1882555200@namifranklincounty.org
SUMMARY:NAMI Connection Every Monday
DESCRIPTION:NAMI Connection Every Monday – A recovery support group for adults living with a mental health condition. The support group is facilitated by those in recovery. “Talk with someone who understands\, someone just like you.” \nNew Birth Christian Ministries\, 3475 Refugee Road\, Columbus\, Ohio 43232\, Room 206. Note: If the support group falls on a holiday\, the building is closed\, or there is inclement weather\, the support group will be held on Zoom  \nZoom meeting ID: 824-479-7473 https://us06web.zoom.us/j/8244797473. \nContact Laurita Barber (614) 530-4554\, Monday-Friday (9:00 a.m.-5:00 p.m.)\, or email laurita.barber@namifc.org for more information. \n 
URL:https://namifranklincounty.org/calendar/nami-connection-every-monday-6/2029-08-27/
LOCATION:New Birth Christian Ministries\, 3475 Refugee Rd\, Columbus\, OH\, 43232\, United States
END:VEVENT
BEGIN:VEVENT
DTSTART;TZID=UTC:20290830T183000
DTEND;TZID=UTC:20290830T200000
DTSTAMP:20260425T012608
CREATED:20250219T064056Z
LAST-MODIFIED:20250710T191052Z
UID:10004434-1882809000-1882814400@namifranklincounty.org
SUMMARY:NAMI Connection Every Thursday
DESCRIPTION:NAMI Connection Every Thursday – A recovery support group for adults living with a mental health condition. The support group is facilitated by those in recovery. “Talk with someone who understands\, someone just like you. \nZoom meeting ID: 824-479-7473 https://us06web.zoom.us/j/8244797473.\nContact Regina Hillman (614) 501-6264\, (9:00 a.m.-5:00 p.m.\, Monday-Friday) or email regina@namifc.org for more information.
URL:https://namifranklincounty.org/calendar/nami-connection-every-thursday-6/2029-08-30/
LOCATION:Zoom Meeting
END:VEVENT
BEGIN:VEVENT
DTSTART;TZID=UTC:20290901T120000
DTEND;TZID=UTC:20290901T133000
DTSTAMP:20260425T012608
CREATED:20250226T181416Z
LAST-MODIFIED:20250710T190055Z
UID:10003735-1882958400-1882963800@namifranklincounty.org
SUMMARY:NAMI Connection Every Saturday
DESCRIPTION:NAMI Connection Every Saturday – A recovery support group for adults living with a mental health condition. The support group is facilitated by those in recovery. “Talk with someone who understands\, someone just like you. \nZoom meeting ID: 824-479-7473 https://us06web.zoom.us/j/8244797473.\nContact Regina Hillman (614) 501-6264\, (9:00 a.m.-5:00 p.m.\, Monday-Friday) or email regina@namifc.org for more information.
URL:https://namifranklincounty.org/calendar/nami-connection-every-saturday-2/2029-09-01/
LOCATION:Zoom Meeting
END:VEVENT
BEGIN:VEVENT
DTSTART;TZID=UTC:20290903T183000
DTEND;TZID=UTC:20290903T200000
DTSTAMP:20260425T012608
CREATED:20250219T063456Z
LAST-MODIFIED:20250710T185545Z
UID:10004174-1883154600-1883160000@namifranklincounty.org
SUMMARY:NAMI Connection Every Monday
DESCRIPTION:NAMI Connection Every Monday – A recovery support group for adults living with a mental health condition. The support group is facilitated by those in recovery. “Talk with someone who understands\, someone just like you.” \nNew Birth Christian Ministries\, 3475 Refugee Road\, Columbus\, Ohio 43232\, Room 206. Note: If the support group falls on a holiday\, the building is closed\, or there is inclement weather\, the support group will be held on Zoom  \nZoom meeting ID: 824-479-7473 https://us06web.zoom.us/j/8244797473. \nContact Laurita Barber (614) 530-4554\, Monday-Friday (9:00 a.m.-5:00 p.m.)\, or email laurita.barber@namifc.org for more information. \n 
URL:https://namifranklincounty.org/calendar/nami-connection-every-monday-6/2029-09-03/
LOCATION:New Birth Christian Ministries\, 3475 Refugee Rd\, Columbus\, OH\, 43232\, United States
END:VEVENT
BEGIN:VEVENT
DTSTART;TZID=UTC:20290905T180000
DTEND;TZID=UTC:20290905T193000
DTSTAMP:20260425T012608
CREATED:20250710T180329Z
LAST-MODIFIED:20260401T144613Z
UID:10003894-1883325600-1883331000@namifranklincounty.org
SUMMARY:Parent Support Group 1st Wednesday of each month
DESCRIPTION:Patent Support Group – Support for parents\, caregivers\, and guardians of minor children (ages 22 and younger) living with behavioral difficulties and mental health challenges. \nZoom meeting ID: 678 970 3418 \nContact Laurita Barber\, (614) 530-4554\, Monday-Friday (9:00 a.m.-5:00 p.m.)\, or email laurita.barber@namifc.org for more information. \n 
URL:https://namifranklincounty.org/calendar/parent-support-group-1st-wednesday-of-each-month/2029-09-05/
LOCATION:Zoom Meeting
END:VEVENT
BEGIN:VEVENT
DTSTART;TZID=UTC:20290905T180000
DTEND;TZID=UTC:20290905T193000
DTSTAMP:20260425T012608
CREATED:20260331T164341Z
LAST-MODIFIED:20260331T170435Z
UID:10004998-1883325600-1883331000@namifranklincounty.org
SUMMARY:Men's Connection Recovery Support Group 1st Wednesday of each month
DESCRIPTION:Men’s Connection Recovery Support Group 1st Wednesday – A recovery support group for men living with a mental health condition. The support group is facilitated by those in recovery. \n\n\n\nZoom Meeting ID: 666-903-2784 https://us06web.zoom.us/j/6669032784. \nContact Daniel Fall (614) 501-6264\, Monday-Friday (9:00 a.m.-5:00 p.m.)\, or email dan@namifc.org for more information.\n\n\n\n 
URL:https://namifranklincounty.org/calendar/mens-connection-recovery-suppt-grp-1st-wednesday-of-each-month/2029-09-05/
LOCATION:Zoom Meeting
END:VEVENT
BEGIN:VEVENT
DTSTART;TZID=UTC:20290906T183000
DTEND;TZID=UTC:20290906T200000
DTSTAMP:20260425T012608
CREATED:20250219T064056Z
LAST-MODIFIED:20250710T191052Z
UID:10004435-1883413800-1883419200@namifranklincounty.org
SUMMARY:NAMI Connection Every Thursday
DESCRIPTION:NAMI Connection Every Thursday – A recovery support group for adults living with a mental health condition. The support group is facilitated by those in recovery. “Talk with someone who understands\, someone just like you. \nZoom meeting ID: 824-479-7473 https://us06web.zoom.us/j/8244797473.\nContact Regina Hillman (614) 501-6264\, (9:00 a.m.-5:00 p.m.\, Monday-Friday) or email regina@namifc.org for more information.
URL:https://namifranklincounty.org/calendar/nami-connection-every-thursday-6/2029-09-06/
LOCATION:Zoom Meeting
END:VEVENT
BEGIN:VEVENT
DTSTART;TZID=UTC:20290908T120000
DTEND;TZID=UTC:20290908T133000
DTSTAMP:20260425T012608
CREATED:20250226T181416Z
LAST-MODIFIED:20250710T190055Z
UID:10003736-1883563200-1883568600@namifranklincounty.org
SUMMARY:NAMI Connection Every Saturday
DESCRIPTION:NAMI Connection Every Saturday – A recovery support group for adults living with a mental health condition. The support group is facilitated by those in recovery. “Talk with someone who understands\, someone just like you. \nZoom meeting ID: 824-479-7473 https://us06web.zoom.us/j/8244797473.\nContact Regina Hillman (614) 501-6264\, (9:00 a.m.-5:00 p.m.\, Monday-Friday) or email regina@namifc.org for more information.
URL:https://namifranklincounty.org/calendar/nami-connection-every-saturday-2/2029-09-08/
LOCATION:Zoom Meeting
END:VEVENT
BEGIN:VEVENT
DTSTART;TZID=UTC:20290910T183000
DTEND;TZID=UTC:20290910T200000
DTSTAMP:20260425T012608
CREATED:20250219T063456Z
LAST-MODIFIED:20250710T185545Z
UID:10004175-1883759400-1883764800@namifranklincounty.org
SUMMARY:NAMI Connection Every Monday
DESCRIPTION:NAMI Connection Every Monday – A recovery support group for adults living with a mental health condition. The support group is facilitated by those in recovery. “Talk with someone who understands\, someone just like you.” \nNew Birth Christian Ministries\, 3475 Refugee Road\, Columbus\, Ohio 43232\, Room 206. Note: If the support group falls on a holiday\, the building is closed\, or there is inclement weather\, the support group will be held on Zoom  \nZoom meeting ID: 824-479-7473 https://us06web.zoom.us/j/8244797473. \nContact Laurita Barber (614) 530-4554\, Monday-Friday (9:00 a.m.-5:00 p.m.)\, or email laurita.barber@namifc.org for more information. \n 
URL:https://namifranklincounty.org/calendar/nami-connection-every-monday-6/2029-09-10/
LOCATION:New Birth Christian Ministries\, 3475 Refugee Rd\, Columbus\, OH\, 43232\, United States
END:VEVENT
BEGIN:VEVENT
DTSTART;TZID=UTC:20290912T173000
DTEND;TZID=UTC:20290912T190000
DTSTAMP:20260425T012608
CREATED:20250428T210603Z
LAST-MODIFIED:20250710T182433Z
UID:10003096-1883928600-1883934000@namifranklincounty.org
SUMMARY:Family Support Groups 2nd Wednesday of each month
DESCRIPTION:Family Support Groups – Support for adult caregivers\, family members\, and partners caring for loved ones with a mental health condition. \nThis is an in-person and Zoom Meeting.  In-person support group meets at 1225 Dublin Rd.\, Ste 050 (park and enter at the rear of the building). \nZoom Meeting ID: 960-308-8915 Contact Laurita Barber (614) 530-4554\, Monday-Friday (9:00 a.m.-5:00 p.m.)\, or email laurita.barber@namifc.org for more information. \n 
URL:https://namifranklincounty.org/calendar/family-support-groups-2nd-wednesday-of-each-month-9/2029-09-12/
LOCATION:Hybrid – NAMI Office and Zoom
END:VEVENT
BEGIN:VEVENT
DTSTART;TZID=UTC:20290913T183000
DTEND;TZID=UTC:20290913T200000
DTSTAMP:20260425T012608
CREATED:20250219T064056Z
LAST-MODIFIED:20250710T191052Z
UID:10004436-1884018600-1884024000@namifranklincounty.org
SUMMARY:NAMI Connection Every Thursday
DESCRIPTION:NAMI Connection Every Thursday – A recovery support group for adults living with a mental health condition. The support group is facilitated by those in recovery. “Talk with someone who understands\, someone just like you. \nZoom meeting ID: 824-479-7473 https://us06web.zoom.us/j/8244797473.\nContact Regina Hillman (614) 501-6264\, (9:00 a.m.-5:00 p.m.\, Monday-Friday) or email regina@namifc.org for more information.
URL:https://namifranklincounty.org/calendar/nami-connection-every-thursday-6/2029-09-13/
LOCATION:Zoom Meeting
END:VEVENT
BEGIN:VEVENT
DTSTART;TZID=UTC:20290915T120000
DTEND;TZID=UTC:20290915T133000
DTSTAMP:20260425T012608
CREATED:20250226T181416Z
LAST-MODIFIED:20250710T190055Z
UID:10003737-1884168000-1884173400@namifranklincounty.org
SUMMARY:NAMI Connection Every Saturday
DESCRIPTION:NAMI Connection Every Saturday – A recovery support group for adults living with a mental health condition. The support group is facilitated by those in recovery. “Talk with someone who understands\, someone just like you. \nZoom meeting ID: 824-479-7473 https://us06web.zoom.us/j/8244797473.\nContact Regina Hillman (614) 501-6264\, (9:00 a.m.-5:00 p.m.\, Monday-Friday) or email regina@namifc.org for more information.
URL:https://namifranklincounty.org/calendar/nami-connection-every-saturday-2/2029-09-15/
LOCATION:Zoom Meeting
END:VEVENT
BEGIN:VEVENT
DTSTART;TZID=UTC:20290917T183000
DTEND;TZID=UTC:20290917T200000
DTSTAMP:20260425T012608
CREATED:20250219T063456Z
LAST-MODIFIED:20250710T185545Z
UID:10004176-1884364200-1884369600@namifranklincounty.org
SUMMARY:NAMI Connection Every Monday
DESCRIPTION:NAMI Connection Every Monday – A recovery support group for adults living with a mental health condition. The support group is facilitated by those in recovery. “Talk with someone who understands\, someone just like you.” \nNew Birth Christian Ministries\, 3475 Refugee Road\, Columbus\, Ohio 43232\, Room 206. Note: If the support group falls on a holiday\, the building is closed\, or there is inclement weather\, the support group will be held on Zoom  \nZoom meeting ID: 824-479-7473 https://us06web.zoom.us/j/8244797473. \nContact Laurita Barber (614) 530-4554\, Monday-Friday (9:00 a.m.-5:00 p.m.)\, or email laurita.barber@namifc.org for more information. \n 
URL:https://namifranklincounty.org/calendar/nami-connection-every-monday-6/2029-09-17/
LOCATION:New Birth Christian Ministries\, 3475 Refugee Rd\, Columbus\, OH\, 43232\, United States
END:VEVENT
BEGIN:VEVENT
DTSTART;TZID=UTC:20290918T180000
DTEND;TZID=UTC:20290918T193000
DTSTAMP:20260425T012608
CREATED:20250219T062747Z
LAST-MODIFIED:20260331T170417Z
UID:10003215-1884448800-1884454200@namifranklincounty.org
SUMMARY:Men’s Family Support Group 3rd Tuesday of each month
DESCRIPTION:Men’s Family Support Group 3rd Tuesday of each month – Support for male caregivers\, family members\, and partners caring for loved ones with a mental health condition. \n\n\n\nZoom Meeting ID: 666-903-2784 https://us06web.zoom.us/j/6669032784. \nContact Daniel Fall (614) 501-6264\, Monday-Friday (9:00 a.m.-5:00 p.m.)\, or email dan@namifc.org for more information.
URL:https://namifranklincounty.org/calendar/mens-family-support-group-3rd-tuesday-of-each-month-2/2029-09-18/
LOCATION:Zoom Meeting
END:VEVENT
BEGIN:VEVENT
DTSTART;TZID=UTC:20290920T180000
DTEND;TZID=UTC:20290920T193000
DTSTAMP:20260425T012608
CREATED:20260331T164658Z
LAST-MODIFIED:20260331T170522Z
UID:10005210-1884621600-1884627000@namifranklincounty.org
SUMMARY:Men's Connection Recovery Support Group 3rd Wednesday of each month
DESCRIPTION:Men’s Connection Recovery Support Group 3rd Wednesday– A recovery support group for men living with a mental health condition. The support group is facilitated by those in recovery. \n\n\n\nZoom Meeting ID: 666-903-2784 https://us06web.zoom.us/j/6669032784. \nContact Daniel Fall (614) 501-6264\, Monday-Friday (9:00 a.m.-5:00 p.m.)\, or email dan@namifc.org for more information.
URL:https://namifranklincounty.org/calendar/mens-connection-recovery-support-group-3rd-wednesday-of-each-month/2029-09-20/
LOCATION:Zoom Meeting
END:VEVENT
END:VCALENDAR