BEGIN:VCALENDAR
VERSION:2.0
PRODID:-//National Alliance on Mental Illness | NAMI Franklin County - ECPv6.15.20//NONSGML v1.0//EN
CALSCALE:GREGORIAN
METHOD:PUBLISH
X-WR-CALNAME:National Alliance on Mental Illness | NAMI Franklin County
X-ORIGINAL-URL:https://namifranklincounty.org
X-WR-CALDESC:Events for National Alliance on Mental Illness | NAMI Franklin County
REFRESH-INTERVAL;VALUE=DURATION:PT1H
X-Robots-Tag:noindex
X-PUBLISHED-TTL:PT1H
BEGIN:VTIMEZONE
TZID:UTC
BEGIN:STANDARD
TZOFFSETFROM:+0000
TZOFFSETTO:+0000
TZNAME:UTC
DTSTART:20250101T000000
END:STANDARD
END:VTIMEZONE
BEGIN:VEVENT
DTSTART;TZID=UTC:20260425T120000
DTEND;TZID=UTC:20260425T133000
DTSTAMP:20260419T133938
CREATED:20250226T181416Z
LAST-MODIFIED:20250710T190055Z
UID:10003560-1777118400-1777123800@namifranklincounty.org
SUMMARY:NAMI Connection Every Saturday
DESCRIPTION:NAMI Connection Every Saturday – A recovery support group for adults living with a mental health condition. The support group is facilitated by those in recovery. “Talk with someone who understands\, someone just like you. \nZoom meeting ID: 824-479-7473 https://us06web.zoom.us/j/8244797473.\nContact Regina Hillman (614) 501-6264\, (9:00 a.m.-5:00 p.m.\, Monday-Friday) or email regina@namifc.org for more information.
URL:https://namifranklincounty.org/calendar/nami-connection-every-saturday-2/2026-04-25/
LOCATION:Zoom Meeting
END:VEVENT
BEGIN:VEVENT
DTSTART;TZID=UTC:20260502T120000
DTEND;TZID=UTC:20260502T133000
DTSTAMP:20260419T133938
CREATED:20250226T181416Z
LAST-MODIFIED:20250710T190055Z
UID:10003561-1777723200-1777728600@namifranklincounty.org
SUMMARY:NAMI Connection Every Saturday
DESCRIPTION:NAMI Connection Every Saturday – A recovery support group for adults living with a mental health condition. The support group is facilitated by those in recovery. “Talk with someone who understands\, someone just like you. \nZoom meeting ID: 824-479-7473 https://us06web.zoom.us/j/8244797473.\nContact Regina Hillman (614) 501-6264\, (9:00 a.m.-5:00 p.m.\, Monday-Friday) or email regina@namifc.org for more information.
URL:https://namifranklincounty.org/calendar/nami-connection-every-saturday-2/2026-05-02/
LOCATION:Zoom Meeting
END:VEVENT
BEGIN:VEVENT
DTSTART;TZID=UTC:20260509T120000
DTEND;TZID=UTC:20260509T133000
DTSTAMP:20260419T133938
CREATED:20250226T181416Z
LAST-MODIFIED:20250710T190055Z
UID:10003562-1778328000-1778333400@namifranklincounty.org
SUMMARY:NAMI Connection Every Saturday
DESCRIPTION:NAMI Connection Every Saturday – A recovery support group for adults living with a mental health condition. The support group is facilitated by those in recovery. “Talk with someone who understands\, someone just like you. \nZoom meeting ID: 824-479-7473 https://us06web.zoom.us/j/8244797473.\nContact Regina Hillman (614) 501-6264\, (9:00 a.m.-5:00 p.m.\, Monday-Friday) or email regina@namifc.org for more information.
URL:https://namifranklincounty.org/calendar/nami-connection-every-saturday-2/2026-05-09/
LOCATION:Zoom Meeting
END:VEVENT
BEGIN:VEVENT
DTSTART;TZID=UTC:20260516T120000
DTEND;TZID=UTC:20260516T133000
DTSTAMP:20260419T133938
CREATED:20250226T181416Z
LAST-MODIFIED:20250710T190055Z
UID:10003563-1778932800-1778938200@namifranklincounty.org
SUMMARY:NAMI Connection Every Saturday
DESCRIPTION:NAMI Connection Every Saturday – A recovery support group for adults living with a mental health condition. The support group is facilitated by those in recovery. “Talk with someone who understands\, someone just like you. \nZoom meeting ID: 824-479-7473 https://us06web.zoom.us/j/8244797473.\nContact Regina Hillman (614) 501-6264\, (9:00 a.m.-5:00 p.m.\, Monday-Friday) or email regina@namifc.org for more information.
URL:https://namifranklincounty.org/calendar/nami-connection-every-saturday-2/2026-05-16/
LOCATION:Zoom Meeting
END:VEVENT
BEGIN:VEVENT
DTSTART;TZID=UTC:20260523T120000
DTEND;TZID=UTC:20260523T133000
DTSTAMP:20260419T133939
CREATED:20250226T181416Z
LAST-MODIFIED:20250710T190055Z
UID:10003564-1779537600-1779543000@namifranklincounty.org
SUMMARY:NAMI Connection Every Saturday
DESCRIPTION:NAMI Connection Every Saturday – A recovery support group for adults living with a mental health condition. The support group is facilitated by those in recovery. “Talk with someone who understands\, someone just like you. \nZoom meeting ID: 824-479-7473 https://us06web.zoom.us/j/8244797473.\nContact Regina Hillman (614) 501-6264\, (9:00 a.m.-5:00 p.m.\, Monday-Friday) or email regina@namifc.org for more information.
URL:https://namifranklincounty.org/calendar/nami-connection-every-saturday-2/2026-05-23/
LOCATION:Zoom Meeting
END:VEVENT
BEGIN:VEVENT
DTSTART;TZID=UTC:20260530T120000
DTEND;TZID=UTC:20260530T133000
DTSTAMP:20260419T133939
CREATED:20250226T181416Z
LAST-MODIFIED:20250710T190055Z
UID:10003565-1780142400-1780147800@namifranklincounty.org
SUMMARY:NAMI Connection Every Saturday
DESCRIPTION:NAMI Connection Every Saturday – A recovery support group for adults living with a mental health condition. The support group is facilitated by those in recovery. “Talk with someone who understands\, someone just like you. \nZoom meeting ID: 824-479-7473 https://us06web.zoom.us/j/8244797473.\nContact Regina Hillman (614) 501-6264\, (9:00 a.m.-5:00 p.m.\, Monday-Friday) or email regina@namifc.org for more information.
URL:https://namifranklincounty.org/calendar/nami-connection-every-saturday-2/2026-05-30/
LOCATION:Zoom Meeting
END:VEVENT
BEGIN:VEVENT
DTSTART;TZID=UTC:20260606T120000
DTEND;TZID=UTC:20260606T133000
DTSTAMP:20260419T133939
CREATED:20250226T181416Z
LAST-MODIFIED:20250710T190055Z
UID:10003566-1780747200-1780752600@namifranklincounty.org
SUMMARY:NAMI Connection Every Saturday
DESCRIPTION:NAMI Connection Every Saturday – A recovery support group for adults living with a mental health condition. The support group is facilitated by those in recovery. “Talk with someone who understands\, someone just like you. \nZoom meeting ID: 824-479-7473 https://us06web.zoom.us/j/8244797473.\nContact Regina Hillman (614) 501-6264\, (9:00 a.m.-5:00 p.m.\, Monday-Friday) or email regina@namifc.org for more information.
URL:https://namifranklincounty.org/calendar/nami-connection-every-saturday-2/2026-06-06/
LOCATION:Zoom Meeting
END:VEVENT
BEGIN:VEVENT
DTSTART;TZID=UTC:20260613T120000
DTEND;TZID=UTC:20260613T133000
DTSTAMP:20260419T133939
CREATED:20250226T181416Z
LAST-MODIFIED:20250710T190055Z
UID:10003567-1781352000-1781357400@namifranklincounty.org
SUMMARY:NAMI Connection Every Saturday
DESCRIPTION:NAMI Connection Every Saturday – A recovery support group for adults living with a mental health condition. The support group is facilitated by those in recovery. “Talk with someone who understands\, someone just like you. \nZoom meeting ID: 824-479-7473 https://us06web.zoom.us/j/8244797473.\nContact Regina Hillman (614) 501-6264\, (9:00 a.m.-5:00 p.m.\, Monday-Friday) or email regina@namifc.org for more information.
URL:https://namifranklincounty.org/calendar/nami-connection-every-saturday-2/2026-06-13/
LOCATION:Zoom Meeting
END:VEVENT
BEGIN:VEVENT
DTSTART;TZID=UTC:20260620T120000
DTEND;TZID=UTC:20260620T133000
DTSTAMP:20260419T133939
CREATED:20250226T181416Z
LAST-MODIFIED:20250710T190055Z
UID:10003568-1781956800-1781962200@namifranklincounty.org
SUMMARY:NAMI Connection Every Saturday
DESCRIPTION:NAMI Connection Every Saturday – A recovery support group for adults living with a mental health condition. The support group is facilitated by those in recovery. “Talk with someone who understands\, someone just like you. \nZoom meeting ID: 824-479-7473 https://us06web.zoom.us/j/8244797473.\nContact Regina Hillman (614) 501-6264\, (9:00 a.m.-5:00 p.m.\, Monday-Friday) or email regina@namifc.org for more information.
URL:https://namifranklincounty.org/calendar/nami-connection-every-saturday-2/2026-06-20/
LOCATION:Zoom Meeting
END:VEVENT
BEGIN:VEVENT
DTSTART;TZID=UTC:20260627T120000
DTEND;TZID=UTC:20260627T133000
DTSTAMP:20260419T133939
CREATED:20250226T181416Z
LAST-MODIFIED:20250710T190055Z
UID:10003569-1782561600-1782567000@namifranklincounty.org
SUMMARY:NAMI Connection Every Saturday
DESCRIPTION:NAMI Connection Every Saturday – A recovery support group for adults living with a mental health condition. The support group is facilitated by those in recovery. “Talk with someone who understands\, someone just like you. \nZoom meeting ID: 824-479-7473 https://us06web.zoom.us/j/8244797473.\nContact Regina Hillman (614) 501-6264\, (9:00 a.m.-5:00 p.m.\, Monday-Friday) or email regina@namifc.org for more information.
URL:https://namifranklincounty.org/calendar/nami-connection-every-saturday-2/2026-06-27/
LOCATION:Zoom Meeting
END:VEVENT
BEGIN:VEVENT
DTSTART;TZID=UTC:20260704T120000
DTEND;TZID=UTC:20260704T133000
DTSTAMP:20260419T133939
CREATED:20250226T181416Z
LAST-MODIFIED:20250710T190055Z
UID:10003570-1783166400-1783171800@namifranklincounty.org
SUMMARY:NAMI Connection Every Saturday
DESCRIPTION:NAMI Connection Every Saturday – A recovery support group for adults living with a mental health condition. The support group is facilitated by those in recovery. “Talk with someone who understands\, someone just like you. \nZoom meeting ID: 824-479-7473 https://us06web.zoom.us/j/8244797473.\nContact Regina Hillman (614) 501-6264\, (9:00 a.m.-5:00 p.m.\, Monday-Friday) or email regina@namifc.org for more information.
URL:https://namifranklincounty.org/calendar/nami-connection-every-saturday-2/2026-07-04/
LOCATION:Zoom Meeting
END:VEVENT
BEGIN:VEVENT
DTSTART;TZID=UTC:20260711T120000
DTEND;TZID=UTC:20260711T133000
DTSTAMP:20260419T133939
CREATED:20250226T181416Z
LAST-MODIFIED:20250710T190055Z
UID:10003571-1783771200-1783776600@namifranklincounty.org
SUMMARY:NAMI Connection Every Saturday
DESCRIPTION:NAMI Connection Every Saturday – A recovery support group for adults living with a mental health condition. The support group is facilitated by those in recovery. “Talk with someone who understands\, someone just like you. \nZoom meeting ID: 824-479-7473 https://us06web.zoom.us/j/8244797473.\nContact Regina Hillman (614) 501-6264\, (9:00 a.m.-5:00 p.m.\, Monday-Friday) or email regina@namifc.org for more information.
URL:https://namifranklincounty.org/calendar/nami-connection-every-saturday-2/2026-07-11/
LOCATION:Zoom Meeting
END:VEVENT
BEGIN:VEVENT
DTSTART;TZID=UTC:20260718T120000
DTEND;TZID=UTC:20260718T133000
DTSTAMP:20260419T133939
CREATED:20250226T181416Z
LAST-MODIFIED:20250710T190055Z
UID:10003572-1784376000-1784381400@namifranklincounty.org
SUMMARY:NAMI Connection Every Saturday
DESCRIPTION:NAMI Connection Every Saturday – A recovery support group for adults living with a mental health condition. The support group is facilitated by those in recovery. “Talk with someone who understands\, someone just like you. \nZoom meeting ID: 824-479-7473 https://us06web.zoom.us/j/8244797473.\nContact Regina Hillman (614) 501-6264\, (9:00 a.m.-5:00 p.m.\, Monday-Friday) or email regina@namifc.org for more information.
URL:https://namifranklincounty.org/calendar/nami-connection-every-saturday-2/2026-07-18/
LOCATION:Zoom Meeting
END:VEVENT
BEGIN:VEVENT
DTSTART;TZID=UTC:20260725T120000
DTEND;TZID=UTC:20260725T133000
DTSTAMP:20260419T133939
CREATED:20250226T181416Z
LAST-MODIFIED:20250710T190055Z
UID:10003573-1784980800-1784986200@namifranklincounty.org
SUMMARY:NAMI Connection Every Saturday
DESCRIPTION:NAMI Connection Every Saturday – A recovery support group for adults living with a mental health condition. The support group is facilitated by those in recovery. “Talk with someone who understands\, someone just like you. \nZoom meeting ID: 824-479-7473 https://us06web.zoom.us/j/8244797473.\nContact Regina Hillman (614) 501-6264\, (9:00 a.m.-5:00 p.m.\, Monday-Friday) or email regina@namifc.org for more information.
URL:https://namifranklincounty.org/calendar/nami-connection-every-saturday-2/2026-07-25/
LOCATION:Zoom Meeting
END:VEVENT
BEGIN:VEVENT
DTSTART;TZID=UTC:20260801T120000
DTEND;TZID=UTC:20260801T133000
DTSTAMP:20260419T133939
CREATED:20250226T181416Z
LAST-MODIFIED:20250710T190055Z
UID:10003574-1785585600-1785591000@namifranklincounty.org
SUMMARY:NAMI Connection Every Saturday
DESCRIPTION:NAMI Connection Every Saturday – A recovery support group for adults living with a mental health condition. The support group is facilitated by those in recovery. “Talk with someone who understands\, someone just like you. \nZoom meeting ID: 824-479-7473 https://us06web.zoom.us/j/8244797473.\nContact Regina Hillman (614) 501-6264\, (9:00 a.m.-5:00 p.m.\, Monday-Friday) or email regina@namifc.org for more information.
URL:https://namifranklincounty.org/calendar/nami-connection-every-saturday-2/2026-08-01/
LOCATION:Zoom Meeting
END:VEVENT
BEGIN:VEVENT
DTSTART;TZID=UTC:20260808T120000
DTEND;TZID=UTC:20260808T133000
DTSTAMP:20260419T133939
CREATED:20250226T181416Z
LAST-MODIFIED:20250710T190055Z
UID:10003575-1786190400-1786195800@namifranklincounty.org
SUMMARY:NAMI Connection Every Saturday
DESCRIPTION:NAMI Connection Every Saturday – A recovery support group for adults living with a mental health condition. The support group is facilitated by those in recovery. “Talk with someone who understands\, someone just like you. \nZoom meeting ID: 824-479-7473 https://us06web.zoom.us/j/8244797473.\nContact Regina Hillman (614) 501-6264\, (9:00 a.m.-5:00 p.m.\, Monday-Friday) or email regina@namifc.org for more information.
URL:https://namifranklincounty.org/calendar/nami-connection-every-saturday-2/2026-08-08/
LOCATION:Zoom Meeting
END:VEVENT
BEGIN:VEVENT
DTSTART;TZID=UTC:20260815T120000
DTEND;TZID=UTC:20260815T133000
DTSTAMP:20260419T133939
CREATED:20250226T181416Z
LAST-MODIFIED:20250710T190055Z
UID:10003576-1786795200-1786800600@namifranklincounty.org
SUMMARY:NAMI Connection Every Saturday
DESCRIPTION:NAMI Connection Every Saturday – A recovery support group for adults living with a mental health condition. The support group is facilitated by those in recovery. “Talk with someone who understands\, someone just like you. \nZoom meeting ID: 824-479-7473 https://us06web.zoom.us/j/8244797473.\nContact Regina Hillman (614) 501-6264\, (9:00 a.m.-5:00 p.m.\, Monday-Friday) or email regina@namifc.org for more information.
URL:https://namifranklincounty.org/calendar/nami-connection-every-saturday-2/2026-08-15/
LOCATION:Zoom Meeting
END:VEVENT
BEGIN:VEVENT
DTSTART;TZID=UTC:20260822T120000
DTEND;TZID=UTC:20260822T133000
DTSTAMP:20260419T133939
CREATED:20250226T181416Z
LAST-MODIFIED:20250710T190055Z
UID:10003577-1787400000-1787405400@namifranklincounty.org
SUMMARY:NAMI Connection Every Saturday
DESCRIPTION:NAMI Connection Every Saturday – A recovery support group for adults living with a mental health condition. The support group is facilitated by those in recovery. “Talk with someone who understands\, someone just like you. \nZoom meeting ID: 824-479-7473 https://us06web.zoom.us/j/8244797473.\nContact Regina Hillman (614) 501-6264\, (9:00 a.m.-5:00 p.m.\, Monday-Friday) or email regina@namifc.org for more information.
URL:https://namifranklincounty.org/calendar/nami-connection-every-saturday-2/2026-08-22/
LOCATION:Zoom Meeting
END:VEVENT
BEGIN:VEVENT
DTSTART;TZID=UTC:20260829T120000
DTEND;TZID=UTC:20260829T133000
DTSTAMP:20260419T133939
CREATED:20250226T181416Z
LAST-MODIFIED:20250710T190055Z
UID:10003578-1788004800-1788010200@namifranklincounty.org
SUMMARY:NAMI Connection Every Saturday
DESCRIPTION:NAMI Connection Every Saturday – A recovery support group for adults living with a mental health condition. The support group is facilitated by those in recovery. “Talk with someone who understands\, someone just like you. \nZoom meeting ID: 824-479-7473 https://us06web.zoom.us/j/8244797473.\nContact Regina Hillman (614) 501-6264\, (9:00 a.m.-5:00 p.m.\, Monday-Friday) or email regina@namifc.org for more information.
URL:https://namifranklincounty.org/calendar/nami-connection-every-saturday-2/2026-08-29/
LOCATION:Zoom Meeting
END:VEVENT
BEGIN:VEVENT
DTSTART;TZID=UTC:20260905T120000
DTEND;TZID=UTC:20260905T133000
DTSTAMP:20260419T133939
CREATED:20250226T181416Z
LAST-MODIFIED:20250710T190055Z
UID:10003579-1788609600-1788615000@namifranklincounty.org
SUMMARY:NAMI Connection Every Saturday
DESCRIPTION:NAMI Connection Every Saturday – A recovery support group for adults living with a mental health condition. The support group is facilitated by those in recovery. “Talk with someone who understands\, someone just like you. \nZoom meeting ID: 824-479-7473 https://us06web.zoom.us/j/8244797473.\nContact Regina Hillman (614) 501-6264\, (9:00 a.m.-5:00 p.m.\, Monday-Friday) or email regina@namifc.org for more information.
URL:https://namifranklincounty.org/calendar/nami-connection-every-saturday-2/2026-09-05/
LOCATION:Zoom Meeting
END:VEVENT
BEGIN:VEVENT
DTSTART;TZID=UTC:20260912T120000
DTEND;TZID=UTC:20260912T133000
DTSTAMP:20260419T133939
CREATED:20250226T181416Z
LAST-MODIFIED:20250710T190055Z
UID:10003580-1789214400-1789219800@namifranklincounty.org
SUMMARY:NAMI Connection Every Saturday
DESCRIPTION:NAMI Connection Every Saturday – A recovery support group for adults living with a mental health condition. The support group is facilitated by those in recovery. “Talk with someone who understands\, someone just like you. \nZoom meeting ID: 824-479-7473 https://us06web.zoom.us/j/8244797473.\nContact Regina Hillman (614) 501-6264\, (9:00 a.m.-5:00 p.m.\, Monday-Friday) or email regina@namifc.org for more information.
URL:https://namifranklincounty.org/calendar/nami-connection-every-saturday-2/2026-09-12/
LOCATION:Zoom Meeting
END:VEVENT
BEGIN:VEVENT
DTSTART;TZID=UTC:20260919T120000
DTEND;TZID=UTC:20260919T133000
DTSTAMP:20260419T133939
CREATED:20250226T181416Z
LAST-MODIFIED:20250710T190055Z
UID:10003581-1789819200-1789824600@namifranklincounty.org
SUMMARY:NAMI Connection Every Saturday
DESCRIPTION:NAMI Connection Every Saturday – A recovery support group for adults living with a mental health condition. The support group is facilitated by those in recovery. “Talk with someone who understands\, someone just like you. \nZoom meeting ID: 824-479-7473 https://us06web.zoom.us/j/8244797473.\nContact Regina Hillman (614) 501-6264\, (9:00 a.m.-5:00 p.m.\, Monday-Friday) or email regina@namifc.org for more information.
URL:https://namifranklincounty.org/calendar/nami-connection-every-saturday-2/2026-09-19/
LOCATION:Zoom Meeting
END:VEVENT
BEGIN:VEVENT
DTSTART;TZID=UTC:20260926T120000
DTEND;TZID=UTC:20260926T133000
DTSTAMP:20260419T133939
CREATED:20250226T181416Z
LAST-MODIFIED:20250710T190055Z
UID:10003582-1790424000-1790429400@namifranklincounty.org
SUMMARY:NAMI Connection Every Saturday
DESCRIPTION:NAMI Connection Every Saturday – A recovery support group for adults living with a mental health condition. The support group is facilitated by those in recovery. “Talk with someone who understands\, someone just like you. \nZoom meeting ID: 824-479-7473 https://us06web.zoom.us/j/8244797473.\nContact Regina Hillman (614) 501-6264\, (9:00 a.m.-5:00 p.m.\, Monday-Friday) or email regina@namifc.org for more information.
URL:https://namifranklincounty.org/calendar/nami-connection-every-saturday-2/2026-09-26/
LOCATION:Zoom Meeting
END:VEVENT
BEGIN:VEVENT
DTSTART;TZID=UTC:20261003T120000
DTEND;TZID=UTC:20261003T133000
DTSTAMP:20260419T133939
CREATED:20250226T181416Z
LAST-MODIFIED:20250710T190055Z
UID:10003583-1791028800-1791034200@namifranklincounty.org
SUMMARY:NAMI Connection Every Saturday
DESCRIPTION:NAMI Connection Every Saturday – A recovery support group for adults living with a mental health condition. The support group is facilitated by those in recovery. “Talk with someone who understands\, someone just like you. \nZoom meeting ID: 824-479-7473 https://us06web.zoom.us/j/8244797473.\nContact Regina Hillman (614) 501-6264\, (9:00 a.m.-5:00 p.m.\, Monday-Friday) or email regina@namifc.org for more information.
URL:https://namifranklincounty.org/calendar/nami-connection-every-saturday-2/2026-10-03/
LOCATION:Zoom Meeting
END:VEVENT
BEGIN:VEVENT
DTSTART;TZID=UTC:20261010T120000
DTEND;TZID=UTC:20261010T133000
DTSTAMP:20260419T133939
CREATED:20250226T181416Z
LAST-MODIFIED:20250710T190055Z
UID:10003584-1791633600-1791639000@namifranklincounty.org
SUMMARY:NAMI Connection Every Saturday
DESCRIPTION:NAMI Connection Every Saturday – A recovery support group for adults living with a mental health condition. The support group is facilitated by those in recovery. “Talk with someone who understands\, someone just like you. \nZoom meeting ID: 824-479-7473 https://us06web.zoom.us/j/8244797473.\nContact Regina Hillman (614) 501-6264\, (9:00 a.m.-5:00 p.m.\, Monday-Friday) or email regina@namifc.org for more information.
URL:https://namifranklincounty.org/calendar/nami-connection-every-saturday-2/2026-10-10/
LOCATION:Zoom Meeting
END:VEVENT
BEGIN:VEVENT
DTSTART;TZID=UTC:20261017T120000
DTEND;TZID=UTC:20261017T133000
DTSTAMP:20260419T133939
CREATED:20250226T181416Z
LAST-MODIFIED:20250710T190055Z
UID:10003585-1792238400-1792243800@namifranklincounty.org
SUMMARY:NAMI Connection Every Saturday
DESCRIPTION:NAMI Connection Every Saturday – A recovery support group for adults living with a mental health condition. The support group is facilitated by those in recovery. “Talk with someone who understands\, someone just like you. \nZoom meeting ID: 824-479-7473 https://us06web.zoom.us/j/8244797473.\nContact Regina Hillman (614) 501-6264\, (9:00 a.m.-5:00 p.m.\, Monday-Friday) or email regina@namifc.org for more information.
URL:https://namifranklincounty.org/calendar/nami-connection-every-saturday-2/2026-10-17/
LOCATION:Zoom Meeting
END:VEVENT
BEGIN:VEVENT
DTSTART;TZID=UTC:20261024T120000
DTEND;TZID=UTC:20261024T133000
DTSTAMP:20260419T133939
CREATED:20250226T181416Z
LAST-MODIFIED:20250710T190055Z
UID:10003586-1792843200-1792848600@namifranklincounty.org
SUMMARY:NAMI Connection Every Saturday
DESCRIPTION:NAMI Connection Every Saturday – A recovery support group for adults living with a mental health condition. The support group is facilitated by those in recovery. “Talk with someone who understands\, someone just like you. \nZoom meeting ID: 824-479-7473 https://us06web.zoom.us/j/8244797473.\nContact Regina Hillman (614) 501-6264\, (9:00 a.m.-5:00 p.m.\, Monday-Friday) or email regina@namifc.org for more information.
URL:https://namifranklincounty.org/calendar/nami-connection-every-saturday-2/2026-10-24/
LOCATION:Zoom Meeting
END:VEVENT
BEGIN:VEVENT
DTSTART;TZID=UTC:20261031T120000
DTEND;TZID=UTC:20261031T133000
DTSTAMP:20260419T133939
CREATED:20250226T181416Z
LAST-MODIFIED:20250710T190055Z
UID:10003587-1793448000-1793453400@namifranklincounty.org
SUMMARY:NAMI Connection Every Saturday
DESCRIPTION:NAMI Connection Every Saturday – A recovery support group for adults living with a mental health condition. The support group is facilitated by those in recovery. “Talk with someone who understands\, someone just like you. \nZoom meeting ID: 824-479-7473 https://us06web.zoom.us/j/8244797473.\nContact Regina Hillman (614) 501-6264\, (9:00 a.m.-5:00 p.m.\, Monday-Friday) or email regina@namifc.org for more information.
URL:https://namifranklincounty.org/calendar/nami-connection-every-saturday-2/2026-10-31/
LOCATION:Zoom Meeting
END:VEVENT
BEGIN:VEVENT
DTSTART;TZID=UTC:20261107T120000
DTEND;TZID=UTC:20261107T133000
DTSTAMP:20260419T133939
CREATED:20250226T181416Z
LAST-MODIFIED:20250710T190055Z
UID:10003588-1794052800-1794058200@namifranklincounty.org
SUMMARY:NAMI Connection Every Saturday
DESCRIPTION:NAMI Connection Every Saturday – A recovery support group for adults living with a mental health condition. The support group is facilitated by those in recovery. “Talk with someone who understands\, someone just like you. \nZoom meeting ID: 824-479-7473 https://us06web.zoom.us/j/8244797473.\nContact Regina Hillman (614) 501-6264\, (9:00 a.m.-5:00 p.m.\, Monday-Friday) or email regina@namifc.org for more information.
URL:https://namifranklincounty.org/calendar/nami-connection-every-saturday-2/2026-11-07/
LOCATION:Zoom Meeting
END:VEVENT
BEGIN:VEVENT
DTSTART;TZID=UTC:20261114T120000
DTEND;TZID=UTC:20261114T133000
DTSTAMP:20260419T133939
CREATED:20250226T181416Z
LAST-MODIFIED:20250710T190055Z
UID:10003589-1794657600-1794663000@namifranklincounty.org
SUMMARY:NAMI Connection Every Saturday
DESCRIPTION:NAMI Connection Every Saturday – A recovery support group for adults living with a mental health condition. The support group is facilitated by those in recovery. “Talk with someone who understands\, someone just like you. \nZoom meeting ID: 824-479-7473 https://us06web.zoom.us/j/8244797473.\nContact Regina Hillman (614) 501-6264\, (9:00 a.m.-5:00 p.m.\, Monday-Friday) or email regina@namifc.org for more information.
URL:https://namifranklincounty.org/calendar/nami-connection-every-saturday-2/2026-11-14/
LOCATION:Zoom Meeting
END:VEVENT
END:VCALENDAR