BEGIN:VCALENDAR
VERSION:2.0
PRODID:-//National Alliance on Mental Illness | NAMI Franklin County - ECPv6.15.20//NONSGML v1.0//EN
CALSCALE:GREGORIAN
METHOD:PUBLISH
X-WR-CALNAME:National Alliance on Mental Illness | NAMI Franklin County
X-ORIGINAL-URL:https://namifranklincounty.org
X-WR-CALDESC:Events for National Alliance on Mental Illness | NAMI Franklin County
REFRESH-INTERVAL;VALUE=DURATION:PT1H
X-Robots-Tag:noindex
X-PUBLISHED-TTL:PT1H
BEGIN:VTIMEZONE
TZID:UTC
BEGIN:STANDARD
TZOFFSETFROM:+0000
TZOFFSETTO:+0000
TZNAME:UTC
DTSTART:20250101T000000
END:STANDARD
END:VTIMEZONE
BEGIN:VEVENT
DTSTART;TZID=UTC:20260421T180000
DTEND;TZID=UTC:20260421T200000
DTSTAMP:20260419T133754
CREATED:20251221T174807Z
LAST-MODIFIED:20251221T174909Z
UID:10004834-1776794400-1776801600@namifranklincounty.org
SUMMARY:NAMI Peer-to-Peer Recovery Program
DESCRIPTION:NAMI Peer-to-Peer Recovery Program–This eight-week\, unique\, experiential recovery program is for people living with a mental health condition\, interested in establishing and maintaining their wellness and recovery. Contact Laurita Barber (614) 530-4554 (9:00 a.m.-5:00 p.m. Monday-Friday) or email laurita.barber@namifc.org.
URL:https://namifranklincounty.org/calendar/nami-peer-to-peer-recovery-program-2/2026-04-21/
LOCATION:Zoom—Meeting ID and Passcode will be emailed after registration and before class begins .
END:VEVENT
BEGIN:VEVENT
DTSTART;TZID=UTC:20260428T180000
DTEND;TZID=UTC:20260428T200000
DTSTAMP:20260419T133754
CREATED:20251221T174807Z
LAST-MODIFIED:20251221T174909Z
UID:10004835-1777399200-1777406400@namifranklincounty.org
SUMMARY:NAMI Peer-to-Peer Recovery Program
DESCRIPTION:NAMI Peer-to-Peer Recovery Program–This eight-week\, unique\, experiential recovery program is for people living with a mental health condition\, interested in establishing and maintaining their wellness and recovery. Contact Laurita Barber (614) 530-4554 (9:00 a.m.-5:00 p.m. Monday-Friday) or email laurita.barber@namifc.org.
URL:https://namifranklincounty.org/calendar/nami-peer-to-peer-recovery-program-2/2026-04-28/
LOCATION:Zoom—Meeting ID and Passcode will be emailed after registration and before class begins .
END:VEVENT
BEGIN:VEVENT
DTSTART;TZID=UTC:20260505T180000
DTEND;TZID=UTC:20260505T200000
DTSTAMP:20260419T133754
CREATED:20251221T174807Z
LAST-MODIFIED:20251221T174909Z
UID:10004836-1778004000-1778011200@namifranklincounty.org
SUMMARY:NAMI Peer-to-Peer Recovery Program
DESCRIPTION:NAMI Peer-to-Peer Recovery Program–This eight-week\, unique\, experiential recovery program is for people living with a mental health condition\, interested in establishing and maintaining their wellness and recovery. Contact Laurita Barber (614) 530-4554 (9:00 a.m.-5:00 p.m. Monday-Friday) or email laurita.barber@namifc.org.
URL:https://namifranklincounty.org/calendar/nami-peer-to-peer-recovery-program-2/2026-05-05/
LOCATION:Zoom—Meeting ID and Passcode will be emailed after registration and before class begins .
END:VEVENT
BEGIN:VEVENT
DTSTART;TZID=UTC:20260512T180000
DTEND;TZID=UTC:20260512T200000
DTSTAMP:20260419T133754
CREATED:20251221T174807Z
LAST-MODIFIED:20251221T174909Z
UID:10004837-1778608800-1778616000@namifranklincounty.org
SUMMARY:NAMI Peer-to-Peer Recovery Program
DESCRIPTION:NAMI Peer-to-Peer Recovery Program–This eight-week\, unique\, experiential recovery program is for people living with a mental health condition\, interested in establishing and maintaining their wellness and recovery. Contact Laurita Barber (614) 530-4554 (9:00 a.m.-5:00 p.m. Monday-Friday) or email laurita.barber@namifc.org.
URL:https://namifranklincounty.org/calendar/nami-peer-to-peer-recovery-program-2/2026-05-12/
LOCATION:Zoom—Meeting ID and Passcode will be emailed after registration and before class begins .
END:VEVENT
BEGIN:VEVENT
DTSTART;TZID=UTC:20260519T180000
DTEND;TZID=UTC:20260519T200000
DTSTAMP:20260419T133754
CREATED:20251221T174807Z
LAST-MODIFIED:20251221T174909Z
UID:10004838-1779213600-1779220800@namifranklincounty.org
SUMMARY:NAMI Peer-to-Peer Recovery Program
DESCRIPTION:NAMI Peer-to-Peer Recovery Program–This eight-week\, unique\, experiential recovery program is for people living with a mental health condition\, interested in establishing and maintaining their wellness and recovery. Contact Laurita Barber (614) 530-4554 (9:00 a.m.-5:00 p.m. Monday-Friday) or email laurita.barber@namifc.org.
URL:https://namifranklincounty.org/calendar/nami-peer-to-peer-recovery-program-2/2026-05-19/
LOCATION:Zoom—Meeting ID and Passcode will be emailed after registration and before class begins .
END:VEVENT
BEGIN:VEVENT
DTSTART;TZID=UTC:20260616T180000
DTEND;TZID=UTC:20260616T200000
DTSTAMP:20260419T133754
CREATED:20251221T175923Z
LAST-MODIFIED:20251221T175938Z
UID:10004847-1781632800-1781640000@namifranklincounty.org
SUMMARY:NAMI Peer-to-Peer Recovery Program
DESCRIPTION:NAMI Peer-to-Peer Recovery Program–This eight-week\, unique\, experiential recovery program is for people living with a mental health condition\, interested in establishing and maintaining their wellness and recovery. Contact Laurita Barber (614) 530-4554 (9:00 a.m.-5:00 p.m. Monday-Friday) or email laurita.barber@namifc.org.
URL:https://namifranklincounty.org/calendar/nami-peer-to-peer-recovery-program-4/2026-06-16/
LOCATION:Zoom—Meeting ID and Passcode will be emailed after registration and before class begins .
END:VEVENT
BEGIN:VEVENT
DTSTART;TZID=UTC:20260623T180000
DTEND;TZID=UTC:20260623T200000
DTSTAMP:20260419T133754
CREATED:20251221T175923Z
LAST-MODIFIED:20251221T175938Z
UID:10004848-1782237600-1782244800@namifranklincounty.org
SUMMARY:NAMI Peer-to-Peer Recovery Program
DESCRIPTION:NAMI Peer-to-Peer Recovery Program–This eight-week\, unique\, experiential recovery program is for people living with a mental health condition\, interested in establishing and maintaining their wellness and recovery. Contact Laurita Barber (614) 530-4554 (9:00 a.m.-5:00 p.m. Monday-Friday) or email laurita.barber@namifc.org.
URL:https://namifranklincounty.org/calendar/nami-peer-to-peer-recovery-program-4/2026-06-23/
LOCATION:Zoom—Meeting ID and Passcode will be emailed after registration and before class begins .
END:VEVENT
BEGIN:VEVENT
DTSTART;TZID=UTC:20260630T180000
DTEND;TZID=UTC:20260630T200000
DTSTAMP:20260419T133754
CREATED:20251221T175923Z
LAST-MODIFIED:20251221T175938Z
UID:10004849-1782842400-1782849600@namifranklincounty.org
SUMMARY:NAMI Peer-to-Peer Recovery Program
DESCRIPTION:NAMI Peer-to-Peer Recovery Program–This eight-week\, unique\, experiential recovery program is for people living with a mental health condition\, interested in establishing and maintaining their wellness and recovery. Contact Laurita Barber (614) 530-4554 (9:00 a.m.-5:00 p.m. Monday-Friday) or email laurita.barber@namifc.org.
URL:https://namifranklincounty.org/calendar/nami-peer-to-peer-recovery-program-4/2026-06-30/
LOCATION:Zoom—Meeting ID and Passcode will be emailed after registration and before class begins .
END:VEVENT
BEGIN:VEVENT
DTSTART;TZID=UTC:20260707T180000
DTEND;TZID=UTC:20260707T200000
DTSTAMP:20260419T133754
CREATED:20251221T175923Z
LAST-MODIFIED:20251221T175938Z
UID:10004850-1783447200-1783454400@namifranklincounty.org
SUMMARY:NAMI Peer-to-Peer Recovery Program
DESCRIPTION:NAMI Peer-to-Peer Recovery Program–This eight-week\, unique\, experiential recovery program is for people living with a mental health condition\, interested in establishing and maintaining their wellness and recovery. Contact Laurita Barber (614) 530-4554 (9:00 a.m.-5:00 p.m. Monday-Friday) or email laurita.barber@namifc.org.
URL:https://namifranklincounty.org/calendar/nami-peer-to-peer-recovery-program-4/2026-07-07/
LOCATION:Zoom—Meeting ID and Passcode will be emailed after registration and before class begins .
END:VEVENT
BEGIN:VEVENT
DTSTART;TZID=UTC:20260714T180000
DTEND;TZID=UTC:20260714T200000
DTSTAMP:20260419T133754
CREATED:20251221T175923Z
LAST-MODIFIED:20251221T175938Z
UID:10004851-1784052000-1784059200@namifranklincounty.org
SUMMARY:NAMI Peer-to-Peer Recovery Program
DESCRIPTION:NAMI Peer-to-Peer Recovery Program–This eight-week\, unique\, experiential recovery program is for people living with a mental health condition\, interested in establishing and maintaining their wellness and recovery. Contact Laurita Barber (614) 530-4554 (9:00 a.m.-5:00 p.m. Monday-Friday) or email laurita.barber@namifc.org.
URL:https://namifranklincounty.org/calendar/nami-peer-to-peer-recovery-program-4/2026-07-14/
LOCATION:Zoom—Meeting ID and Passcode will be emailed after registration and before class begins .
END:VEVENT
BEGIN:VEVENT
DTSTART;TZID=UTC:20260721T180000
DTEND;TZID=UTC:20260721T200000
DTSTAMP:20260419T133754
CREATED:20251221T175923Z
LAST-MODIFIED:20251221T175938Z
UID:10004852-1784656800-1784664000@namifranklincounty.org
SUMMARY:NAMI Peer-to-Peer Recovery Program
DESCRIPTION:NAMI Peer-to-Peer Recovery Program–This eight-week\, unique\, experiential recovery program is for people living with a mental health condition\, interested in establishing and maintaining their wellness and recovery. Contact Laurita Barber (614) 530-4554 (9:00 a.m.-5:00 p.m. Monday-Friday) or email laurita.barber@namifc.org.
URL:https://namifranklincounty.org/calendar/nami-peer-to-peer-recovery-program-4/2026-07-21/
LOCATION:Zoom—Meeting ID and Passcode will be emailed after registration and before class begins .
END:VEVENT
BEGIN:VEVENT
DTSTART;TZID=UTC:20260728T180000
DTEND;TZID=UTC:20260728T200000
DTSTAMP:20260419T133754
CREATED:20251221T175923Z
LAST-MODIFIED:20251221T175938Z
UID:10004853-1785261600-1785268800@namifranklincounty.org
SUMMARY:NAMI Peer-to-Peer Recovery Program
DESCRIPTION:NAMI Peer-to-Peer Recovery Program–This eight-week\, unique\, experiential recovery program is for people living with a mental health condition\, interested in establishing and maintaining their wellness and recovery. Contact Laurita Barber (614) 530-4554 (9:00 a.m.-5:00 p.m. Monday-Friday) or email laurita.barber@namifc.org.
URL:https://namifranklincounty.org/calendar/nami-peer-to-peer-recovery-program-4/2026-07-28/
LOCATION:Zoom—Meeting ID and Passcode will be emailed after registration and before class begins .
END:VEVENT
BEGIN:VEVENT
DTSTART;TZID=UTC:20260804T180000
DTEND;TZID=UTC:20260804T200000
DTSTAMP:20260419T133754
CREATED:20251221T175923Z
LAST-MODIFIED:20251221T175938Z
UID:10004854-1785866400-1785873600@namifranklincounty.org
SUMMARY:NAMI Peer-to-Peer Recovery Program
DESCRIPTION:NAMI Peer-to-Peer Recovery Program–This eight-week\, unique\, experiential recovery program is for people living with a mental health condition\, interested in establishing and maintaining their wellness and recovery. Contact Laurita Barber (614) 530-4554 (9:00 a.m.-5:00 p.m. Monday-Friday) or email laurita.barber@namifc.org.
URL:https://namifranklincounty.org/calendar/nami-peer-to-peer-recovery-program-4/2026-08-04/
LOCATION:Zoom—Meeting ID and Passcode will be emailed after registration and before class begins .
END:VEVENT
BEGIN:VEVENT
DTSTART;TZID=UTC:20260908T180000
DTEND;TZID=UTC:20260908T200000
DTSTAMP:20260419T133754
CREATED:20251221T180237Z
LAST-MODIFIED:20251221T181340Z
UID:10004863-1788890400-1788897600@namifranklincounty.org
SUMMARY:NAMI Peer-to-Peer Recovery Program
DESCRIPTION:NAMI Peer-to-Peer Recovery Program–This eight-week\, unique\, experiential recovery program is for people living with a mental health condition\, interested in establishing and maintaining their wellness and recovery. Contact Laurita Barber (614) 530-4554 (9:00 a.m.-5:00 p.m. Monday-Friday) or email laurita.barber@namifc.org.
URL:https://namifranklincounty.org/calendar/nami-peer-to-peer-recovery-program-5/2026-09-08/
LOCATION:Zoom—Meeting ID and Passcode will be emailed after registration and before class begins .
END:VEVENT
BEGIN:VEVENT
DTSTART;TZID=UTC:20270105T180000
DTEND;TZID=UTC:20270105T200000
DTSTAMP:20260419T133754
CREATED:20251221T181006Z
LAST-MODIFIED:20251221T181513Z
UID:10004872-1799172000-1799179200@namifranklincounty.org
SUMMARY:NAMI Peer-to-Peer Recovery Program
DESCRIPTION:NAMI Peer-to-Peer Recovery Program–This eight-week\, unique\, experiential recovery program is for people living with a mental health condition\, interested in establishing and maintaining their wellness and recovery. Contact Laurita Barber (614) 530-4554 (9:00 a.m.-5:00 p.m. Monday-Friday) or email laurita.barber@namifc.org.
URL:https://namifranklincounty.org/calendar/nami-peer-to-peer-recovery-program-6-2/2027-01-05/
LOCATION:Zoom—Meeting ID and Passcode will be emailed after registration and before class begins .
END:VEVENT
END:VCALENDAR