BEGIN:VCALENDAR
VERSION:2.0
PRODID:-//National Alliance on Mental Illness | NAMI Franklin County - ECPv6.15.20//NONSGML v1.0//EN
CALSCALE:GREGORIAN
METHOD:PUBLISH
X-WR-CALNAME:National Alliance on Mental Illness | NAMI Franklin County
X-ORIGINAL-URL:https://namifranklincounty.org
X-WR-CALDESC:Events for National Alliance on Mental Illness | NAMI Franklin County
REFRESH-INTERVAL;VALUE=DURATION:PT1H
X-Robots-Tag:noindex
X-PUBLISHED-TTL:PT1H
BEGIN:VTIMEZONE
TZID:UTC
BEGIN:STANDARD
TZOFFSETFROM:+0000
TZOFFSETTO:+0000
TZNAME:UTC
DTSTART:20280101T000000
END:STANDARD
END:VTIMEZONE
BEGIN:VEVENT
DTSTART;TZID=UTC:20290509T173000
DTEND;TZID=UTC:20290509T190000
DTSTAMP:20260419T164854
CREATED:20250428T210603Z
LAST-MODIFIED:20250710T182433Z
UID:10003092-1873042200-1873047600@namifranklincounty.org
SUMMARY:Family Support Groups 2nd Wednesday of each month
DESCRIPTION:Family Support Groups – Support for adult caregivers\, family members\, and partners caring for loved ones with a mental health condition. \nThis is an in-person and Zoom Meeting.  In-person support group meets at 1225 Dublin Rd.\, Ste 050 (park and enter at the rear of the building). \nZoom Meeting ID: 960-308-8915 Contact Laurita Barber (614) 530-4554\, Monday-Friday (9:00 a.m.-5:00 p.m.)\, or email laurita.barber@namifc.org for more information. \n 
URL:https://namifranklincounty.org/calendar/family-support-groups-2nd-wednesday-of-each-month-9/2029-05-09/
LOCATION:Hybrid – NAMI Office and Zoom
END:VEVENT
BEGIN:VEVENT
DTSTART;TZID=UTC:20290613T173000
DTEND;TZID=UTC:20290613T190000
DTSTAMP:20260419T164854
CREATED:20250428T210603Z
LAST-MODIFIED:20250710T182433Z
UID:10003093-1876066200-1876071600@namifranklincounty.org
SUMMARY:Family Support Groups 2nd Wednesday of each month
DESCRIPTION:Family Support Groups – Support for adult caregivers\, family members\, and partners caring for loved ones with a mental health condition. \nThis is an in-person and Zoom Meeting.  In-person support group meets at 1225 Dublin Rd.\, Ste 050 (park and enter at the rear of the building). \nZoom Meeting ID: 960-308-8915 Contact Laurita Barber (614) 530-4554\, Monday-Friday (9:00 a.m.-5:00 p.m.)\, or email laurita.barber@namifc.org for more information. \n 
URL:https://namifranklincounty.org/calendar/family-support-groups-2nd-wednesday-of-each-month-9/2029-06-13/
LOCATION:Hybrid – NAMI Office and Zoom
END:VEVENT
BEGIN:VEVENT
DTSTART;TZID=UTC:20290711T173000
DTEND;TZID=UTC:20290711T190000
DTSTAMP:20260419T164854
CREATED:20250428T210603Z
LAST-MODIFIED:20250710T182433Z
UID:10003094-1878485400-1878490800@namifranklincounty.org
SUMMARY:Family Support Groups 2nd Wednesday of each month
DESCRIPTION:Family Support Groups – Support for adult caregivers\, family members\, and partners caring for loved ones with a mental health condition. \nThis is an in-person and Zoom Meeting.  In-person support group meets at 1225 Dublin Rd.\, Ste 050 (park and enter at the rear of the building). \nZoom Meeting ID: 960-308-8915 Contact Laurita Barber (614) 530-4554\, Monday-Friday (9:00 a.m.-5:00 p.m.)\, or email laurita.barber@namifc.org for more information. \n 
URL:https://namifranklincounty.org/calendar/family-support-groups-2nd-wednesday-of-each-month-9/2029-07-11/
LOCATION:Hybrid – NAMI Office and Zoom
END:VEVENT
BEGIN:VEVENT
DTSTART;TZID=UTC:20290808T173000
DTEND;TZID=UTC:20290808T190000
DTSTAMP:20260419T164854
CREATED:20250428T210603Z
LAST-MODIFIED:20250710T182433Z
UID:10003095-1880904600-1880910000@namifranklincounty.org
SUMMARY:Family Support Groups 2nd Wednesday of each month
DESCRIPTION:Family Support Groups – Support for adult caregivers\, family members\, and partners caring for loved ones with a mental health condition. \nThis is an in-person and Zoom Meeting.  In-person support group meets at 1225 Dublin Rd.\, Ste 050 (park and enter at the rear of the building). \nZoom Meeting ID: 960-308-8915 Contact Laurita Barber (614) 530-4554\, Monday-Friday (9:00 a.m.-5:00 p.m.)\, or email laurita.barber@namifc.org for more information. \n 
URL:https://namifranklincounty.org/calendar/family-support-groups-2nd-wednesday-of-each-month-9/2029-08-08/
LOCATION:Hybrid – NAMI Office and Zoom
END:VEVENT
BEGIN:VEVENT
DTSTART;TZID=UTC:20290912T173000
DTEND;TZID=UTC:20290912T190000
DTSTAMP:20260419T164854
CREATED:20250428T210603Z
LAST-MODIFIED:20250710T182433Z
UID:10003096-1883928600-1883934000@namifranklincounty.org
SUMMARY:Family Support Groups 2nd Wednesday of each month
DESCRIPTION:Family Support Groups – Support for adult caregivers\, family members\, and partners caring for loved ones with a mental health condition. \nThis is an in-person and Zoom Meeting.  In-person support group meets at 1225 Dublin Rd.\, Ste 050 (park and enter at the rear of the building). \nZoom Meeting ID: 960-308-8915 Contact Laurita Barber (614) 530-4554\, Monday-Friday (9:00 a.m.-5:00 p.m.)\, or email laurita.barber@namifc.org for more information. \n 
URL:https://namifranklincounty.org/calendar/family-support-groups-2nd-wednesday-of-each-month-9/2029-09-12/
LOCATION:Hybrid – NAMI Office and Zoom
END:VEVENT
BEGIN:VEVENT
DTSTART;TZID=UTC:20291010T173000
DTEND;TZID=UTC:20291010T190000
DTSTAMP:20260419T164854
CREATED:20250428T210603Z
LAST-MODIFIED:20250710T182433Z
UID:10003097-1886347800-1886353200@namifranklincounty.org
SUMMARY:Family Support Groups 2nd Wednesday of each month
DESCRIPTION:Family Support Groups – Support for adult caregivers\, family members\, and partners caring for loved ones with a mental health condition. \nThis is an in-person and Zoom Meeting.  In-person support group meets at 1225 Dublin Rd.\, Ste 050 (park and enter at the rear of the building). \nZoom Meeting ID: 960-308-8915 Contact Laurita Barber (614) 530-4554\, Monday-Friday (9:00 a.m.-5:00 p.m.)\, or email laurita.barber@namifc.org for more information. \n 
URL:https://namifranklincounty.org/calendar/family-support-groups-2nd-wednesday-of-each-month-9/2029-10-10/
LOCATION:Hybrid – NAMI Office and Zoom
END:VEVENT
BEGIN:VEVENT
DTSTART;TZID=UTC:20291114T173000
DTEND;TZID=UTC:20291114T190000
DTSTAMP:20260419T164854
CREATED:20250428T210603Z
LAST-MODIFIED:20250710T182433Z
UID:10003098-1889371800-1889377200@namifranklincounty.org
SUMMARY:Family Support Groups 2nd Wednesday of each month
DESCRIPTION:Family Support Groups – Support for adult caregivers\, family members\, and partners caring for loved ones with a mental health condition. \nThis is an in-person and Zoom Meeting.  In-person support group meets at 1225 Dublin Rd.\, Ste 050 (park and enter at the rear of the building). \nZoom Meeting ID: 960-308-8915 Contact Laurita Barber (614) 530-4554\, Monday-Friday (9:00 a.m.-5:00 p.m.)\, or email laurita.barber@namifc.org for more information. \n 
URL:https://namifranklincounty.org/calendar/family-support-groups-2nd-wednesday-of-each-month-9/2029-11-14/
LOCATION:Hybrid – NAMI Office and Zoom
END:VEVENT
BEGIN:VEVENT
DTSTART;TZID=UTC:20291212T173000
DTEND;TZID=UTC:20291212T190000
DTSTAMP:20260419T164854
CREATED:20250428T210603Z
LAST-MODIFIED:20250710T182433Z
UID:10003099-1891791000-1891796400@namifranklincounty.org
SUMMARY:Family Support Groups 2nd Wednesday of each month
DESCRIPTION:Family Support Groups – Support for adult caregivers\, family members\, and partners caring for loved ones with a mental health condition. \nThis is an in-person and Zoom Meeting.  In-person support group meets at 1225 Dublin Rd.\, Ste 050 (park and enter at the rear of the building). \nZoom Meeting ID: 960-308-8915 Contact Laurita Barber (614) 530-4554\, Monday-Friday (9:00 a.m.-5:00 p.m.)\, or email laurita.barber@namifc.org for more information. \n 
URL:https://namifranklincounty.org/calendar/family-support-groups-2nd-wednesday-of-each-month-9/2029-12-12/
LOCATION:Hybrid – NAMI Office and Zoom
END:VEVENT
BEGIN:VEVENT
DTSTART;TZID=UTC:20300109T173000
DTEND;TZID=UTC:20300109T190000
DTSTAMP:20260419T164854
CREATED:20250428T210603Z
LAST-MODIFIED:20250710T182433Z
UID:10003100-1894210200-1894215600@namifranklincounty.org
SUMMARY:Family Support Groups 2nd Wednesday of each month
DESCRIPTION:Family Support Groups – Support for adult caregivers\, family members\, and partners caring for loved ones with a mental health condition. \nThis is an in-person and Zoom Meeting.  In-person support group meets at 1225 Dublin Rd.\, Ste 050 (park and enter at the rear of the building). \nZoom Meeting ID: 960-308-8915 Contact Laurita Barber (614) 530-4554\, Monday-Friday (9:00 a.m.-5:00 p.m.)\, or email laurita.barber@namifc.org for more information. \n 
URL:https://namifranklincounty.org/calendar/family-support-groups-2nd-wednesday-of-each-month-9/2030-01-09/
LOCATION:Hybrid – NAMI Office and Zoom
END:VEVENT
BEGIN:VEVENT
DTSTART;TZID=UTC:20300213T173000
DTEND;TZID=UTC:20300213T190000
DTSTAMP:20260419T164854
CREATED:20250428T210603Z
LAST-MODIFIED:20250710T182433Z
UID:10003101-1897234200-1897239600@namifranklincounty.org
SUMMARY:Family Support Groups 2nd Wednesday of each month
DESCRIPTION:Family Support Groups – Support for adult caregivers\, family members\, and partners caring for loved ones with a mental health condition. \nThis is an in-person and Zoom Meeting.  In-person support group meets at 1225 Dublin Rd.\, Ste 050 (park and enter at the rear of the building). \nZoom Meeting ID: 960-308-8915 Contact Laurita Barber (614) 530-4554\, Monday-Friday (9:00 a.m.-5:00 p.m.)\, or email laurita.barber@namifc.org for more information. \n 
URL:https://namifranklincounty.org/calendar/family-support-groups-2nd-wednesday-of-each-month-9/2030-02-13/
LOCATION:Hybrid – NAMI Office and Zoom
END:VEVENT
BEGIN:VEVENT
DTSTART;TZID=UTC:20300313T173000
DTEND;TZID=UTC:20300313T190000
DTSTAMP:20260419T164854
CREATED:20250428T210603Z
LAST-MODIFIED:20250710T182433Z
UID:10003102-1899653400-1899658800@namifranklincounty.org
SUMMARY:Family Support Groups 2nd Wednesday of each month
DESCRIPTION:Family Support Groups – Support for adult caregivers\, family members\, and partners caring for loved ones with a mental health condition. \nThis is an in-person and Zoom Meeting.  In-person support group meets at 1225 Dublin Rd.\, Ste 050 (park and enter at the rear of the building). \nZoom Meeting ID: 960-308-8915 Contact Laurita Barber (614) 530-4554\, Monday-Friday (9:00 a.m.-5:00 p.m.)\, or email laurita.barber@namifc.org for more information. \n 
URL:https://namifranklincounty.org/calendar/family-support-groups-2nd-wednesday-of-each-month-9/2030-03-13/
LOCATION:Hybrid – NAMI Office and Zoom
END:VEVENT
BEGIN:VEVENT
DTSTART;TZID=UTC:20300410T173000
DTEND;TZID=UTC:20300410T190000
DTSTAMP:20260419T164854
CREATED:20250428T210603Z
LAST-MODIFIED:20250710T182433Z
UID:10003103-1902072600-1902078000@namifranklincounty.org
SUMMARY:Family Support Groups 2nd Wednesday of each month
DESCRIPTION:Family Support Groups – Support for adult caregivers\, family members\, and partners caring for loved ones with a mental health condition. \nThis is an in-person and Zoom Meeting.  In-person support group meets at 1225 Dublin Rd.\, Ste 050 (park and enter at the rear of the building). \nZoom Meeting ID: 960-308-8915 Contact Laurita Barber (614) 530-4554\, Monday-Friday (9:00 a.m.-5:00 p.m.)\, or email laurita.barber@namifc.org for more information. \n 
URL:https://namifranklincounty.org/calendar/family-support-groups-2nd-wednesday-of-each-month-9/2030-04-10/
LOCATION:Hybrid – NAMI Office and Zoom
END:VEVENT
BEGIN:VEVENT
DTSTART;TZID=UTC:20300508T173000
DTEND;TZID=UTC:20300508T190000
DTSTAMP:20260419T164854
CREATED:20250428T210603Z
LAST-MODIFIED:20250710T182433Z
UID:10003104-1904491800-1904497200@namifranklincounty.org
SUMMARY:Family Support Groups 2nd Wednesday of each month
DESCRIPTION:Family Support Groups – Support for adult caregivers\, family members\, and partners caring for loved ones with a mental health condition. \nThis is an in-person and Zoom Meeting.  In-person support group meets at 1225 Dublin Rd.\, Ste 050 (park and enter at the rear of the building). \nZoom Meeting ID: 960-308-8915 Contact Laurita Barber (614) 530-4554\, Monday-Friday (9:00 a.m.-5:00 p.m.)\, or email laurita.barber@namifc.org for more information. \n 
URL:https://namifranklincounty.org/calendar/family-support-groups-2nd-wednesday-of-each-month-9/2030-05-08/
LOCATION:Hybrid – NAMI Office and Zoom
END:VEVENT
BEGIN:VEVENT
DTSTART;TZID=UTC:20300612T173000
DTEND;TZID=UTC:20300612T190000
DTSTAMP:20260419T164854
CREATED:20250428T210603Z
LAST-MODIFIED:20250710T182433Z
UID:10003105-1907515800-1907521200@namifranklincounty.org
SUMMARY:Family Support Groups 2nd Wednesday of each month
DESCRIPTION:Family Support Groups – Support for adult caregivers\, family members\, and partners caring for loved ones with a mental health condition. \nThis is an in-person and Zoom Meeting.  In-person support group meets at 1225 Dublin Rd.\, Ste 050 (park and enter at the rear of the building). \nZoom Meeting ID: 960-308-8915 Contact Laurita Barber (614) 530-4554\, Monday-Friday (9:00 a.m.-5:00 p.m.)\, or email laurita.barber@namifc.org for more information. \n 
URL:https://namifranklincounty.org/calendar/family-support-groups-2nd-wednesday-of-each-month-9/2030-06-12/
LOCATION:Hybrid – NAMI Office and Zoom
END:VEVENT
BEGIN:VEVENT
DTSTART;TZID=UTC:20300710T173000
DTEND;TZID=UTC:20300710T190000
DTSTAMP:20260419T164854
CREATED:20250428T210603Z
LAST-MODIFIED:20250710T182433Z
UID:10003106-1909935000-1909940400@namifranklincounty.org
SUMMARY:Family Support Groups 2nd Wednesday of each month
DESCRIPTION:Family Support Groups – Support for adult caregivers\, family members\, and partners caring for loved ones with a mental health condition. \nThis is an in-person and Zoom Meeting.  In-person support group meets at 1225 Dublin Rd.\, Ste 050 (park and enter at the rear of the building). \nZoom Meeting ID: 960-308-8915 Contact Laurita Barber (614) 530-4554\, Monday-Friday (9:00 a.m.-5:00 p.m.)\, or email laurita.barber@namifc.org for more information. \n 
URL:https://namifranklincounty.org/calendar/family-support-groups-2nd-wednesday-of-each-month-9/2030-07-10/
LOCATION:Hybrid – NAMI Office and Zoom
END:VEVENT
END:VCALENDAR