BEGIN:VCALENDAR
VERSION:2.0
PRODID:-//National Alliance on Mental Illness | NAMI Franklin County - ECPv6.15.20//NONSGML v1.0//EN
CALSCALE:GREGORIAN
METHOD:PUBLISH
X-WR-CALNAME:National Alliance on Mental Illness | NAMI Franklin County
X-ORIGINAL-URL:https://namifranklincounty.org
X-WR-CALDESC:Events for National Alliance on Mental Illness | NAMI Franklin County
REFRESH-INTERVAL;VALUE=DURATION:PT1H
X-Robots-Tag:noindex
X-PUBLISHED-TTL:PT1H
BEGIN:VTIMEZONE
TZID:UTC
BEGIN:STANDARD
TZOFFSETFROM:+0000
TZOFFSETTO:+0000
TZNAME:UTC
DTSTART:20270101T000000
END:STANDARD
END:VTIMEZONE
BEGIN:VEVENT
DTSTART;TZID=UTC:20280426T173000
DTEND;TZID=UTC:20280426T190000
DTSTAMP:20260419T184704
CREATED:20250428T213138Z
LAST-MODIFIED:20250710T174932Z
UID:10003135-1840383000-1840388400@namifranklincounty.org
SUMMARY:Family Support Groups 4th Wednesday of each month
DESCRIPTION:Family Support Groups – Support for adult caregivers\, family members\, and partners caring for loved ones with a mental health condition. \n\n\n\nThis is an in-person and Zoom meeting. In-person support group meets at Southeast Healthcare–Merion Village\n1455 South 4th Street—Free parking on siteMeeting ID: 960-308-8915 https://us06web.zoom.us/j/9603088915.  Contact Laurita Barber (614) 530-4554 or Omenuko Davis (614) 702-3956\, Monday-Friday (9:00 a.m.-5:00 p.m.)\, or email laurita.barber@namifc.org for more information.
URL:https://namifranklincounty.org/calendar/family-support-groups-4th-wednesday-of-each-month-8/2028-04-26/
LOCATION:Hybrid – Southeast Healthcare and Zoom
END:VEVENT
BEGIN:VEVENT
DTSTART;TZID=UTC:20280524T173000
DTEND;TZID=UTC:20280524T190000
DTSTAMP:20260419T184704
CREATED:20250428T213138Z
LAST-MODIFIED:20250710T174932Z
UID:10003136-1842802200-1842807600@namifranklincounty.org
SUMMARY:Family Support Groups 4th Wednesday of each month
DESCRIPTION:Family Support Groups – Support for adult caregivers\, family members\, and partners caring for loved ones with a mental health condition. \n\n\n\nThis is an in-person and Zoom meeting. In-person support group meets at Southeast Healthcare–Merion Village\n1455 South 4th Street—Free parking on siteMeeting ID: 960-308-8915 https://us06web.zoom.us/j/9603088915.  Contact Laurita Barber (614) 530-4554 or Omenuko Davis (614) 702-3956\, Monday-Friday (9:00 a.m.-5:00 p.m.)\, or email laurita.barber@namifc.org for more information.
URL:https://namifranklincounty.org/calendar/family-support-groups-4th-wednesday-of-each-month-8/2028-05-24/
LOCATION:Hybrid – Southeast Healthcare and Zoom
END:VEVENT
BEGIN:VEVENT
DTSTART;TZID=UTC:20280628T173000
DTEND;TZID=UTC:20280628T190000
DTSTAMP:20260419T184704
CREATED:20250428T213138Z
LAST-MODIFIED:20250710T174932Z
UID:10003137-1845826200-1845831600@namifranklincounty.org
SUMMARY:Family Support Groups 4th Wednesday of each month
DESCRIPTION:Family Support Groups – Support for adult caregivers\, family members\, and partners caring for loved ones with a mental health condition. \n\n\n\nThis is an in-person and Zoom meeting. In-person support group meets at Southeast Healthcare–Merion Village\n1455 South 4th Street—Free parking on siteMeeting ID: 960-308-8915 https://us06web.zoom.us/j/9603088915.  Contact Laurita Barber (614) 530-4554 or Omenuko Davis (614) 702-3956\, Monday-Friday (9:00 a.m.-5:00 p.m.)\, or email laurita.barber@namifc.org for more information.
URL:https://namifranklincounty.org/calendar/family-support-groups-4th-wednesday-of-each-month-8/2028-06-28/
LOCATION:Hybrid – Southeast Healthcare and Zoom
END:VEVENT
BEGIN:VEVENT
DTSTART;TZID=UTC:20280726T173000
DTEND;TZID=UTC:20280726T190000
DTSTAMP:20260419T184704
CREATED:20250428T213138Z
LAST-MODIFIED:20250710T174932Z
UID:10003138-1848245400-1848250800@namifranklincounty.org
SUMMARY:Family Support Groups 4th Wednesday of each month
DESCRIPTION:Family Support Groups – Support for adult caregivers\, family members\, and partners caring for loved ones with a mental health condition. \n\n\n\nThis is an in-person and Zoom meeting. In-person support group meets at Southeast Healthcare–Merion Village\n1455 South 4th Street—Free parking on siteMeeting ID: 960-308-8915 https://us06web.zoom.us/j/9603088915.  Contact Laurita Barber (614) 530-4554 or Omenuko Davis (614) 702-3956\, Monday-Friday (9:00 a.m.-5:00 p.m.)\, or email laurita.barber@namifc.org for more information.
URL:https://namifranklincounty.org/calendar/family-support-groups-4th-wednesday-of-each-month-8/2028-07-26/
LOCATION:Hybrid – Southeast Healthcare and Zoom
END:VEVENT
BEGIN:VEVENT
DTSTART;TZID=UTC:20280823T173000
DTEND;TZID=UTC:20280823T190000
DTSTAMP:20260419T184704
CREATED:20250428T213138Z
LAST-MODIFIED:20250710T174932Z
UID:10003139-1850664600-1850670000@namifranklincounty.org
SUMMARY:Family Support Groups 4th Wednesday of each month
DESCRIPTION:Family Support Groups – Support for adult caregivers\, family members\, and partners caring for loved ones with a mental health condition. \n\n\n\nThis is an in-person and Zoom meeting. In-person support group meets at Southeast Healthcare–Merion Village\n1455 South 4th Street—Free parking on siteMeeting ID: 960-308-8915 https://us06web.zoom.us/j/9603088915.  Contact Laurita Barber (614) 530-4554 or Omenuko Davis (614) 702-3956\, Monday-Friday (9:00 a.m.-5:00 p.m.)\, or email laurita.barber@namifc.org for more information.
URL:https://namifranklincounty.org/calendar/family-support-groups-4th-wednesday-of-each-month-8/2028-08-23/
LOCATION:Hybrid – Southeast Healthcare and Zoom
END:VEVENT
BEGIN:VEVENT
DTSTART;TZID=UTC:20280927T173000
DTEND;TZID=UTC:20280927T190000
DTSTAMP:20260419T184704
CREATED:20250428T213138Z
LAST-MODIFIED:20250710T174932Z
UID:10003140-1853688600-1853694000@namifranklincounty.org
SUMMARY:Family Support Groups 4th Wednesday of each month
DESCRIPTION:Family Support Groups – Support for adult caregivers\, family members\, and partners caring for loved ones with a mental health condition. \n\n\n\nThis is an in-person and Zoom meeting. In-person support group meets at Southeast Healthcare–Merion Village\n1455 South 4th Street—Free parking on siteMeeting ID: 960-308-8915 https://us06web.zoom.us/j/9603088915.  Contact Laurita Barber (614) 530-4554 or Omenuko Davis (614) 702-3956\, Monday-Friday (9:00 a.m.-5:00 p.m.)\, or email laurita.barber@namifc.org for more information.
URL:https://namifranklincounty.org/calendar/family-support-groups-4th-wednesday-of-each-month-8/2028-09-27/
LOCATION:Hybrid – Southeast Healthcare and Zoom
END:VEVENT
BEGIN:VEVENT
DTSTART;TZID=UTC:20281025T173000
DTEND;TZID=UTC:20281025T190000
DTSTAMP:20260419T184704
CREATED:20250428T213138Z
LAST-MODIFIED:20250710T174932Z
UID:10003141-1856107800-1856113200@namifranklincounty.org
SUMMARY:Family Support Groups 4th Wednesday of each month
DESCRIPTION:Family Support Groups – Support for adult caregivers\, family members\, and partners caring for loved ones with a mental health condition. \n\n\n\nThis is an in-person and Zoom meeting. In-person support group meets at Southeast Healthcare–Merion Village\n1455 South 4th Street—Free parking on siteMeeting ID: 960-308-8915 https://us06web.zoom.us/j/9603088915.  Contact Laurita Barber (614) 530-4554 or Omenuko Davis (614) 702-3956\, Monday-Friday (9:00 a.m.-5:00 p.m.)\, or email laurita.barber@namifc.org for more information.
URL:https://namifranklincounty.org/calendar/family-support-groups-4th-wednesday-of-each-month-8/2028-10-25/
LOCATION:Hybrid – Southeast Healthcare and Zoom
END:VEVENT
BEGIN:VEVENT
DTSTART;TZID=UTC:20281122T173000
DTEND;TZID=UTC:20281122T190000
DTSTAMP:20260419T184704
CREATED:20250428T213138Z
LAST-MODIFIED:20250710T174932Z
UID:10003142-1858527000-1858532400@namifranklincounty.org
SUMMARY:Family Support Groups 4th Wednesday of each month
DESCRIPTION:Family Support Groups – Support for adult caregivers\, family members\, and partners caring for loved ones with a mental health condition. \n\n\n\nThis is an in-person and Zoom meeting. In-person support group meets at Southeast Healthcare–Merion Village\n1455 South 4th Street—Free parking on siteMeeting ID: 960-308-8915 https://us06web.zoom.us/j/9603088915.  Contact Laurita Barber (614) 530-4554 or Omenuko Davis (614) 702-3956\, Monday-Friday (9:00 a.m.-5:00 p.m.)\, or email laurita.barber@namifc.org for more information.
URL:https://namifranklincounty.org/calendar/family-support-groups-4th-wednesday-of-each-month-8/2028-11-22/
LOCATION:Hybrid – Southeast Healthcare and Zoom
END:VEVENT
BEGIN:VEVENT
DTSTART;TZID=UTC:20281227T173000
DTEND;TZID=UTC:20281227T190000
DTSTAMP:20260419T184704
CREATED:20250428T213138Z
LAST-MODIFIED:20250710T174932Z
UID:10003143-1861551000-1861556400@namifranklincounty.org
SUMMARY:Family Support Groups 4th Wednesday of each month
DESCRIPTION:Family Support Groups – Support for adult caregivers\, family members\, and partners caring for loved ones with a mental health condition. \n\n\n\nThis is an in-person and Zoom meeting. In-person support group meets at Southeast Healthcare–Merion Village\n1455 South 4th Street—Free parking on siteMeeting ID: 960-308-8915 https://us06web.zoom.us/j/9603088915.  Contact Laurita Barber (614) 530-4554 or Omenuko Davis (614) 702-3956\, Monday-Friday (9:00 a.m.-5:00 p.m.)\, or email laurita.barber@namifc.org for more information.
URL:https://namifranklincounty.org/calendar/family-support-groups-4th-wednesday-of-each-month-8/2028-12-27/
LOCATION:Hybrid – Southeast Healthcare and Zoom
END:VEVENT
BEGIN:VEVENT
DTSTART;TZID=UTC:20290124T173000
DTEND;TZID=UTC:20290124T190000
DTSTAMP:20260419T184704
CREATED:20250428T213138Z
LAST-MODIFIED:20250710T174932Z
UID:10003144-1863970200-1863975600@namifranklincounty.org
SUMMARY:Family Support Groups 4th Wednesday of each month
DESCRIPTION:Family Support Groups – Support for adult caregivers\, family members\, and partners caring for loved ones with a mental health condition. \n\n\n\nThis is an in-person and Zoom meeting. In-person support group meets at Southeast Healthcare–Merion Village\n1455 South 4th Street—Free parking on siteMeeting ID: 960-308-8915 https://us06web.zoom.us/j/9603088915.  Contact Laurita Barber (614) 530-4554 or Omenuko Davis (614) 702-3956\, Monday-Friday (9:00 a.m.-5:00 p.m.)\, or email laurita.barber@namifc.org for more information.
URL:https://namifranklincounty.org/calendar/family-support-groups-4th-wednesday-of-each-month-8/2029-01-24/
LOCATION:Hybrid – Southeast Healthcare and Zoom
END:VEVENT
BEGIN:VEVENT
DTSTART;TZID=UTC:20290228T173000
DTEND;TZID=UTC:20290228T190000
DTSTAMP:20260419T184704
CREATED:20250428T213138Z
LAST-MODIFIED:20250710T174932Z
UID:10003145-1866994200-1866999600@namifranklincounty.org
SUMMARY:Family Support Groups 4th Wednesday of each month
DESCRIPTION:Family Support Groups – Support for adult caregivers\, family members\, and partners caring for loved ones with a mental health condition. \n\n\n\nThis is an in-person and Zoom meeting. In-person support group meets at Southeast Healthcare–Merion Village\n1455 South 4th Street—Free parking on siteMeeting ID: 960-308-8915 https://us06web.zoom.us/j/9603088915.  Contact Laurita Barber (614) 530-4554 or Omenuko Davis (614) 702-3956\, Monday-Friday (9:00 a.m.-5:00 p.m.)\, or email laurita.barber@namifc.org for more information.
URL:https://namifranklincounty.org/calendar/family-support-groups-4th-wednesday-of-each-month-8/2029-02-28/
LOCATION:Hybrid – Southeast Healthcare and Zoom
END:VEVENT
BEGIN:VEVENT
DTSTART;TZID=UTC:20290328T173000
DTEND;TZID=UTC:20290328T190000
DTSTAMP:20260419T184704
CREATED:20250428T213138Z
LAST-MODIFIED:20250710T174932Z
UID:10003146-1869413400-1869418800@namifranklincounty.org
SUMMARY:Family Support Groups 4th Wednesday of each month
DESCRIPTION:Family Support Groups – Support for adult caregivers\, family members\, and partners caring for loved ones with a mental health condition. \n\n\n\nThis is an in-person and Zoom meeting. In-person support group meets at Southeast Healthcare–Merion Village\n1455 South 4th Street—Free parking on siteMeeting ID: 960-308-8915 https://us06web.zoom.us/j/9603088915.  Contact Laurita Barber (614) 530-4554 or Omenuko Davis (614) 702-3956\, Monday-Friday (9:00 a.m.-5:00 p.m.)\, or email laurita.barber@namifc.org for more information.
URL:https://namifranklincounty.org/calendar/family-support-groups-4th-wednesday-of-each-month-8/2029-03-28/
LOCATION:Hybrid – Southeast Healthcare and Zoom
END:VEVENT
BEGIN:VEVENT
DTSTART;TZID=UTC:20290425T173000
DTEND;TZID=UTC:20290425T190000
DTSTAMP:20260419T184704
CREATED:20250428T213138Z
LAST-MODIFIED:20250710T174932Z
UID:10003147-1871832600-1871838000@namifranklincounty.org
SUMMARY:Family Support Groups 4th Wednesday of each month
DESCRIPTION:Family Support Groups – Support for adult caregivers\, family members\, and partners caring for loved ones with a mental health condition. \n\n\n\nThis is an in-person and Zoom meeting. In-person support group meets at Southeast Healthcare–Merion Village\n1455 South 4th Street—Free parking on siteMeeting ID: 960-308-8915 https://us06web.zoom.us/j/9603088915.  Contact Laurita Barber (614) 530-4554 or Omenuko Davis (614) 702-3956\, Monday-Friday (9:00 a.m.-5:00 p.m.)\, or email laurita.barber@namifc.org for more information.
URL:https://namifranklincounty.org/calendar/family-support-groups-4th-wednesday-of-each-month-8/2029-04-25/
LOCATION:Hybrid – Southeast Healthcare and Zoom
END:VEVENT
BEGIN:VEVENT
DTSTART;TZID=UTC:20290523T173000
DTEND;TZID=UTC:20290523T190000
DTSTAMP:20260419T184704
CREATED:20250428T213138Z
LAST-MODIFIED:20250710T174932Z
UID:10003148-1874251800-1874257200@namifranklincounty.org
SUMMARY:Family Support Groups 4th Wednesday of each month
DESCRIPTION:Family Support Groups – Support for adult caregivers\, family members\, and partners caring for loved ones with a mental health condition. \n\n\n\nThis is an in-person and Zoom meeting. In-person support group meets at Southeast Healthcare–Merion Village\n1455 South 4th Street—Free parking on siteMeeting ID: 960-308-8915 https://us06web.zoom.us/j/9603088915.  Contact Laurita Barber (614) 530-4554 or Omenuko Davis (614) 702-3956\, Monday-Friday (9:00 a.m.-5:00 p.m.)\, or email laurita.barber@namifc.org for more information.
URL:https://namifranklincounty.org/calendar/family-support-groups-4th-wednesday-of-each-month-8/2029-05-23/
LOCATION:Hybrid – Southeast Healthcare and Zoom
END:VEVENT
BEGIN:VEVENT
DTSTART;TZID=UTC:20290627T173000
DTEND;TZID=UTC:20290627T190000
DTSTAMP:20260419T184704
CREATED:20250428T213138Z
LAST-MODIFIED:20250710T174932Z
UID:10003149-1877275800-1877281200@namifranklincounty.org
SUMMARY:Family Support Groups 4th Wednesday of each month
DESCRIPTION:Family Support Groups – Support for adult caregivers\, family members\, and partners caring for loved ones with a mental health condition. \n\n\n\nThis is an in-person and Zoom meeting. In-person support group meets at Southeast Healthcare–Merion Village\n1455 South 4th Street—Free parking on siteMeeting ID: 960-308-8915 https://us06web.zoom.us/j/9603088915.  Contact Laurita Barber (614) 530-4554 or Omenuko Davis (614) 702-3956\, Monday-Friday (9:00 a.m.-5:00 p.m.)\, or email laurita.barber@namifc.org for more information.
URL:https://namifranklincounty.org/calendar/family-support-groups-4th-wednesday-of-each-month-8/2029-06-27/
LOCATION:Hybrid – Southeast Healthcare and Zoom
END:VEVENT
BEGIN:VEVENT
DTSTART;TZID=UTC:20290725T173000
DTEND;TZID=UTC:20290725T190000
DTSTAMP:20260419T184704
CREATED:20250428T213138Z
LAST-MODIFIED:20250710T174932Z
UID:10003150-1879695000-1879700400@namifranklincounty.org
SUMMARY:Family Support Groups 4th Wednesday of each month
DESCRIPTION:Family Support Groups – Support for adult caregivers\, family members\, and partners caring for loved ones with a mental health condition. \n\n\n\nThis is an in-person and Zoom meeting. In-person support group meets at Southeast Healthcare–Merion Village\n1455 South 4th Street—Free parking on siteMeeting ID: 960-308-8915 https://us06web.zoom.us/j/9603088915.  Contact Laurita Barber (614) 530-4554 or Omenuko Davis (614) 702-3956\, Monday-Friday (9:00 a.m.-5:00 p.m.)\, or email laurita.barber@namifc.org for more information.
URL:https://namifranklincounty.org/calendar/family-support-groups-4th-wednesday-of-each-month-8/2029-07-25/
LOCATION:Hybrid – Southeast Healthcare and Zoom
END:VEVENT
BEGIN:VEVENT
DTSTART;TZID=UTC:20290822T173000
DTEND;TZID=UTC:20290822T190000
DTSTAMP:20260419T184704
CREATED:20250428T213138Z
LAST-MODIFIED:20250710T174932Z
UID:10003151-1882114200-1882119600@namifranklincounty.org
SUMMARY:Family Support Groups 4th Wednesday of each month
DESCRIPTION:Family Support Groups – Support for adult caregivers\, family members\, and partners caring for loved ones with a mental health condition. \n\n\n\nThis is an in-person and Zoom meeting. In-person support group meets at Southeast Healthcare–Merion Village\n1455 South 4th Street—Free parking on siteMeeting ID: 960-308-8915 https://us06web.zoom.us/j/9603088915.  Contact Laurita Barber (614) 530-4554 or Omenuko Davis (614) 702-3956\, Monday-Friday (9:00 a.m.-5:00 p.m.)\, or email laurita.barber@namifc.org for more information.
URL:https://namifranklincounty.org/calendar/family-support-groups-4th-wednesday-of-each-month-8/2029-08-22/
LOCATION:Hybrid – Southeast Healthcare and Zoom
END:VEVENT
BEGIN:VEVENT
DTSTART;TZID=UTC:20290926T173000
DTEND;TZID=UTC:20290926T190000
DTSTAMP:20260419T184704
CREATED:20250428T213138Z
LAST-MODIFIED:20250710T174932Z
UID:10003152-1885138200-1885143600@namifranklincounty.org
SUMMARY:Family Support Groups 4th Wednesday of each month
DESCRIPTION:Family Support Groups – Support for adult caregivers\, family members\, and partners caring for loved ones with a mental health condition. \n\n\n\nThis is an in-person and Zoom meeting. In-person support group meets at Southeast Healthcare–Merion Village\n1455 South 4th Street—Free parking on siteMeeting ID: 960-308-8915 https://us06web.zoom.us/j/9603088915.  Contact Laurita Barber (614) 530-4554 or Omenuko Davis (614) 702-3956\, Monday-Friday (9:00 a.m.-5:00 p.m.)\, or email laurita.barber@namifc.org for more information.
URL:https://namifranklincounty.org/calendar/family-support-groups-4th-wednesday-of-each-month-8/2029-09-26/
LOCATION:Hybrid – Southeast Healthcare and Zoom
END:VEVENT
BEGIN:VEVENT
DTSTART;TZID=UTC:20291024T173000
DTEND;TZID=UTC:20291024T190000
DTSTAMP:20260419T184704
CREATED:20250428T213138Z
LAST-MODIFIED:20250710T174932Z
UID:10003153-1887557400-1887562800@namifranklincounty.org
SUMMARY:Family Support Groups 4th Wednesday of each month
DESCRIPTION:Family Support Groups – Support for adult caregivers\, family members\, and partners caring for loved ones with a mental health condition. \n\n\n\nThis is an in-person and Zoom meeting. In-person support group meets at Southeast Healthcare–Merion Village\n1455 South 4th Street—Free parking on siteMeeting ID: 960-308-8915 https://us06web.zoom.us/j/9603088915.  Contact Laurita Barber (614) 530-4554 or Omenuko Davis (614) 702-3956\, Monday-Friday (9:00 a.m.-5:00 p.m.)\, or email laurita.barber@namifc.org for more information.
URL:https://namifranklincounty.org/calendar/family-support-groups-4th-wednesday-of-each-month-8/2029-10-24/
LOCATION:Hybrid – Southeast Healthcare and Zoom
END:VEVENT
BEGIN:VEVENT
DTSTART;TZID=UTC:20291128T173000
DTEND;TZID=UTC:20291128T190000
DTSTAMP:20260419T184704
CREATED:20250428T213138Z
LAST-MODIFIED:20250710T174932Z
UID:10003154-1890581400-1890586800@namifranklincounty.org
SUMMARY:Family Support Groups 4th Wednesday of each month
DESCRIPTION:Family Support Groups – Support for adult caregivers\, family members\, and partners caring for loved ones with a mental health condition. \n\n\n\nThis is an in-person and Zoom meeting. In-person support group meets at Southeast Healthcare–Merion Village\n1455 South 4th Street—Free parking on siteMeeting ID: 960-308-8915 https://us06web.zoom.us/j/9603088915.  Contact Laurita Barber (614) 530-4554 or Omenuko Davis (614) 702-3956\, Monday-Friday (9:00 a.m.-5:00 p.m.)\, or email laurita.barber@namifc.org for more information.
URL:https://namifranklincounty.org/calendar/family-support-groups-4th-wednesday-of-each-month-8/2029-11-28/
LOCATION:Hybrid – Southeast Healthcare and Zoom
END:VEVENT
BEGIN:VEVENT
DTSTART;TZID=UTC:20291226T173000
DTEND;TZID=UTC:20291226T190000
DTSTAMP:20260419T184704
CREATED:20250428T213138Z
LAST-MODIFIED:20250710T174932Z
UID:10003155-1893000600-1893006000@namifranklincounty.org
SUMMARY:Family Support Groups 4th Wednesday of each month
DESCRIPTION:Family Support Groups – Support for adult caregivers\, family members\, and partners caring for loved ones with a mental health condition. \n\n\n\nThis is an in-person and Zoom meeting. In-person support group meets at Southeast Healthcare–Merion Village\n1455 South 4th Street—Free parking on siteMeeting ID: 960-308-8915 https://us06web.zoom.us/j/9603088915.  Contact Laurita Barber (614) 530-4554 or Omenuko Davis (614) 702-3956\, Monday-Friday (9:00 a.m.-5:00 p.m.)\, or email laurita.barber@namifc.org for more information.
URL:https://namifranklincounty.org/calendar/family-support-groups-4th-wednesday-of-each-month-8/2029-12-26/
LOCATION:Hybrid – Southeast Healthcare and Zoom
END:VEVENT
BEGIN:VEVENT
DTSTART;TZID=UTC:20300123T173000
DTEND;TZID=UTC:20300123T190000
DTSTAMP:20260419T184704
CREATED:20250428T213138Z
LAST-MODIFIED:20250710T174932Z
UID:10003156-1895419800-1895425200@namifranklincounty.org
SUMMARY:Family Support Groups 4th Wednesday of each month
DESCRIPTION:Family Support Groups – Support for adult caregivers\, family members\, and partners caring for loved ones with a mental health condition. \n\n\n\nThis is an in-person and Zoom meeting. In-person support group meets at Southeast Healthcare–Merion Village\n1455 South 4th Street—Free parking on siteMeeting ID: 960-308-8915 https://us06web.zoom.us/j/9603088915.  Contact Laurita Barber (614) 530-4554 or Omenuko Davis (614) 702-3956\, Monday-Friday (9:00 a.m.-5:00 p.m.)\, or email laurita.barber@namifc.org for more information.
URL:https://namifranklincounty.org/calendar/family-support-groups-4th-wednesday-of-each-month-8/2030-01-23/
LOCATION:Hybrid – Southeast Healthcare and Zoom
END:VEVENT
BEGIN:VEVENT
DTSTART;TZID=UTC:20300227T173000
DTEND;TZID=UTC:20300227T190000
DTSTAMP:20260419T184704
CREATED:20250428T213138Z
LAST-MODIFIED:20250710T174932Z
UID:10003157-1898443800-1898449200@namifranklincounty.org
SUMMARY:Family Support Groups 4th Wednesday of each month
DESCRIPTION:Family Support Groups – Support for adult caregivers\, family members\, and partners caring for loved ones with a mental health condition. \n\n\n\nThis is an in-person and Zoom meeting. In-person support group meets at Southeast Healthcare–Merion Village\n1455 South 4th Street—Free parking on siteMeeting ID: 960-308-8915 https://us06web.zoom.us/j/9603088915.  Contact Laurita Barber (614) 530-4554 or Omenuko Davis (614) 702-3956\, Monday-Friday (9:00 a.m.-5:00 p.m.)\, or email laurita.barber@namifc.org for more information.
URL:https://namifranklincounty.org/calendar/family-support-groups-4th-wednesday-of-each-month-8/2030-02-27/
LOCATION:Hybrid – Southeast Healthcare and Zoom
END:VEVENT
BEGIN:VEVENT
DTSTART;TZID=UTC:20300327T173000
DTEND;TZID=UTC:20300327T190000
DTSTAMP:20260419T184704
CREATED:20250428T213138Z
LAST-MODIFIED:20250710T174932Z
UID:10003158-1900863000-1900868400@namifranklincounty.org
SUMMARY:Family Support Groups 4th Wednesday of each month
DESCRIPTION:Family Support Groups – Support for adult caregivers\, family members\, and partners caring for loved ones with a mental health condition. \n\n\n\nThis is an in-person and Zoom meeting. In-person support group meets at Southeast Healthcare–Merion Village\n1455 South 4th Street—Free parking on siteMeeting ID: 960-308-8915 https://us06web.zoom.us/j/9603088915.  Contact Laurita Barber (614) 530-4554 or Omenuko Davis (614) 702-3956\, Monday-Friday (9:00 a.m.-5:00 p.m.)\, or email laurita.barber@namifc.org for more information.
URL:https://namifranklincounty.org/calendar/family-support-groups-4th-wednesday-of-each-month-8/2030-03-27/
LOCATION:Hybrid – Southeast Healthcare and Zoom
END:VEVENT
BEGIN:VEVENT
DTSTART;TZID=UTC:20300424T173000
DTEND;TZID=UTC:20300424T190000
DTSTAMP:20260419T184704
CREATED:20250428T213138Z
LAST-MODIFIED:20250710T174932Z
UID:10003159-1903282200-1903287600@namifranklincounty.org
SUMMARY:Family Support Groups 4th Wednesday of each month
DESCRIPTION:Family Support Groups – Support for adult caregivers\, family members\, and partners caring for loved ones with a mental health condition. \n\n\n\nThis is an in-person and Zoom meeting. In-person support group meets at Southeast Healthcare–Merion Village\n1455 South 4th Street—Free parking on siteMeeting ID: 960-308-8915 https://us06web.zoom.us/j/9603088915.  Contact Laurita Barber (614) 530-4554 or Omenuko Davis (614) 702-3956\, Monday-Friday (9:00 a.m.-5:00 p.m.)\, or email laurita.barber@namifc.org for more information.
URL:https://namifranklincounty.org/calendar/family-support-groups-4th-wednesday-of-each-month-8/2030-04-24/
LOCATION:Hybrid – Southeast Healthcare and Zoom
END:VEVENT
BEGIN:VEVENT
DTSTART;TZID=UTC:20300522T173000
DTEND;TZID=UTC:20300522T190000
DTSTAMP:20260419T184704
CREATED:20250428T213138Z
LAST-MODIFIED:20250710T174932Z
UID:10003160-1905701400-1905706800@namifranklincounty.org
SUMMARY:Family Support Groups 4th Wednesday of each month
DESCRIPTION:Family Support Groups – Support for adult caregivers\, family members\, and partners caring for loved ones with a mental health condition. \n\n\n\nThis is an in-person and Zoom meeting. In-person support group meets at Southeast Healthcare–Merion Village\n1455 South 4th Street—Free parking on siteMeeting ID: 960-308-8915 https://us06web.zoom.us/j/9603088915.  Contact Laurita Barber (614) 530-4554 or Omenuko Davis (614) 702-3956\, Monday-Friday (9:00 a.m.-5:00 p.m.)\, or email laurita.barber@namifc.org for more information.
URL:https://namifranklincounty.org/calendar/family-support-groups-4th-wednesday-of-each-month-8/2030-05-22/
LOCATION:Hybrid – Southeast Healthcare and Zoom
END:VEVENT
BEGIN:VEVENT
DTSTART;TZID=UTC:20300626T173000
DTEND;TZID=UTC:20300626T190000
DTSTAMP:20260419T184704
CREATED:20250428T213138Z
LAST-MODIFIED:20250710T174932Z
UID:10003161-1908725400-1908730800@namifranklincounty.org
SUMMARY:Family Support Groups 4th Wednesday of each month
DESCRIPTION:Family Support Groups – Support for adult caregivers\, family members\, and partners caring for loved ones with a mental health condition. \n\n\n\nThis is an in-person and Zoom meeting. In-person support group meets at Southeast Healthcare–Merion Village\n1455 South 4th Street—Free parking on siteMeeting ID: 960-308-8915 https://us06web.zoom.us/j/9603088915.  Contact Laurita Barber (614) 530-4554 or Omenuko Davis (614) 702-3956\, Monday-Friday (9:00 a.m.-5:00 p.m.)\, or email laurita.barber@namifc.org for more information.
URL:https://namifranklincounty.org/calendar/family-support-groups-4th-wednesday-of-each-month-8/2030-06-26/
LOCATION:Hybrid – Southeast Healthcare and Zoom
END:VEVENT
END:VCALENDAR