BEGIN:VCALENDAR
VERSION:2.0
PRODID:-//National Alliance on Mental Illness | NAMI Franklin County - ECPv6.15.20//NONSGML v1.0//EN
CALSCALE:GREGORIAN
METHOD:PUBLISH
X-WR-CALNAME:National Alliance on Mental Illness | NAMI Franklin County
X-ORIGINAL-URL:https://namifranklincounty.org
X-WR-CALDESC:Events for National Alliance on Mental Illness | NAMI Franklin County
REFRESH-INTERVAL;VALUE=DURATION:PT1H
X-Robots-Tag:noindex
X-PUBLISHED-TTL:PT1H
BEGIN:VTIMEZONE
TZID:UTC
BEGIN:STANDARD
TZOFFSETFROM:+0000
TZOFFSETTO:+0000
TZNAME:UTC
DTSTART:20240101T000000
END:STANDARD
END:VTIMEZONE
BEGIN:VEVENT
DTSTART;TZID=UTC:20251023T180000
DTEND;TZID=UTC:20251023T203000
DTSTAMP:20260419T214830
CREATED:20250815T160311Z
LAST-MODIFIED:20250815T160311Z
UID:10004818-1761242400-1761251400@namifranklincounty.org
SUMMARY:NAMI Family-to-Family Education Program
DESCRIPTION:NAMI Family-to-Family Education Program—This eight-week program is for family members\, caregivers\, and partners of individuals living with a mental health condition. Contact Karen Cousins\, (614) 501-6264\, (9:00 a.m.–5:00 p.m.\, Monday-Friday) or email karen@namifc.org.
URL:https://namifranklincounty.org/calendar/nami-family-to-family-education-program-2/2025-10-23/
LOCATION:Zoom—Meeting ID and Passcode will be emailed after registration and before class begins .
END:VEVENT
BEGIN:VEVENT
DTSTART;TZID=UTC:20251021T180000
DTEND;TZID=UTC:20251021T200000
DTSTAMP:20260419T214830
CREATED:20250815T153202Z
LAST-MODIFIED:20250815T154601Z
UID:10004488-1761069600-1761076800@namifranklincounty.org
SUMMARY:NAMI Peer-to-Peer Recovery Program
DESCRIPTION:NAMI Peer-to-Peer Recovery Program–This eight-week\, unique\, experiential recovery program is for people living with a mental health condition. interested in establishing and maintaining their wellness and recovery. Contact Laurita Barber (614) 530-4554 (9:00 a.m.-5:00 p.m. Monday-Friday) or email laurita.barber@namifc.org.
URL:https://namifranklincounty.org/calendar/peer-to-peer-class/2025-10-21/
LOCATION:Zoom—Meeting ID and Passcode will be emailed after registration and before class begins .
END:VEVENT
BEGIN:VEVENT
DTSTART;TZID=UTC:20251016T180000
DTEND;TZID=UTC:20251016T203000
DTSTAMP:20260419T214830
CREATED:20250815T160311Z
LAST-MODIFIED:20250815T160311Z
UID:10004817-1760637600-1760646600@namifranklincounty.org
SUMMARY:NAMI Family-to-Family Education Program
DESCRIPTION:NAMI Family-to-Family Education Program—This eight-week program is for family members\, caregivers\, and partners of individuals living with a mental health condition. Contact Karen Cousins\, (614) 501-6264\, (9:00 a.m.–5:00 p.m.\, Monday-Friday) or email karen@namifc.org.
URL:https://namifranklincounty.org/calendar/nami-family-to-family-education-program-2/2025-10-16/
LOCATION:Zoom—Meeting ID and Passcode will be emailed after registration and before class begins .
END:VEVENT
BEGIN:VEVENT
DTSTART;TZID=UTC:20251014T180000
DTEND;TZID=UTC:20251014T200000
DTSTAMP:20260419T214830
CREATED:20250815T153202Z
LAST-MODIFIED:20250815T154601Z
UID:10004487-1760464800-1760472000@namifranklincounty.org
SUMMARY:NAMI Peer-to-Peer Recovery Program
DESCRIPTION:NAMI Peer-to-Peer Recovery Program–This eight-week\, unique\, experiential recovery program is for people living with a mental health condition. interested in establishing and maintaining their wellness and recovery. Contact Laurita Barber (614) 530-4554 (9:00 a.m.-5:00 p.m. Monday-Friday) or email laurita.barber@namifc.org.
URL:https://namifranklincounty.org/calendar/peer-to-peer-class/2025-10-14/
LOCATION:Zoom—Meeting ID and Passcode will be emailed after registration and before class begins .
END:VEVENT
BEGIN:VEVENT
DTSTART;TZID=UTC:20251009T180000
DTEND;TZID=UTC:20251009T203000
DTSTAMP:20260419T214830
CREATED:20250815T160311Z
LAST-MODIFIED:20250815T160311Z
UID:10004816-1760032800-1760041800@namifranklincounty.org
SUMMARY:NAMI Family-to-Family Education Program
DESCRIPTION:NAMI Family-to-Family Education Program—This eight-week program is for family members\, caregivers\, and partners of individuals living with a mental health condition. Contact Karen Cousins\, (614) 501-6264\, (9:00 a.m.–5:00 p.m.\, Monday-Friday) or email karen@namifc.org.
URL:https://namifranklincounty.org/calendar/nami-family-to-family-education-program-2/2025-10-09/
LOCATION:Zoom—Meeting ID and Passcode will be emailed after registration and before class begins .
END:VEVENT
BEGIN:VEVENT
DTSTART;TZID=UTC:20251007T180000
DTEND;TZID=UTC:20251007T200000
DTSTAMP:20260419T214830
CREATED:20250815T153202Z
LAST-MODIFIED:20250815T154601Z
UID:10004486-1759860000-1759867200@namifranklincounty.org
SUMMARY:NAMI Peer-to-Peer Recovery Program
DESCRIPTION:NAMI Peer-to-Peer Recovery Program–This eight-week\, unique\, experiential recovery program is for people living with a mental health condition. interested in establishing and maintaining their wellness and recovery. Contact Laurita Barber (614) 530-4554 (9:00 a.m.-5:00 p.m. Monday-Friday) or email laurita.barber@namifc.org.
URL:https://namifranklincounty.org/calendar/peer-to-peer-class/2025-10-07/
LOCATION:Zoom—Meeting ID and Passcode will be emailed after registration and before class begins .
END:VEVENT
BEGIN:VEVENT
DTSTART;TZID=UTC:20251002T180000
DTEND;TZID=UTC:20251002T203000
DTSTAMP:20260419T214830
CREATED:20250815T160311Z
LAST-MODIFIED:20250815T160311Z
UID:10004815-1759428000-1759437000@namifranklincounty.org
SUMMARY:NAMI Family-to-Family Education Program
DESCRIPTION:NAMI Family-to-Family Education Program—This eight-week program is for family members\, caregivers\, and partners of individuals living with a mental health condition. Contact Karen Cousins\, (614) 501-6264\, (9:00 a.m.–5:00 p.m.\, Monday-Friday) or email karen@namifc.org.
URL:https://namifranklincounty.org/calendar/nami-family-to-family-education-program-2/2025-10-02/
LOCATION:Zoom—Meeting ID and Passcode will be emailed after registration and before class begins .
END:VEVENT
BEGIN:VEVENT
DTSTART;TZID=UTC:20250930T180000
DTEND;TZID=UTC:20250930T200000
DTSTAMP:20260419T214830
CREATED:20250815T153202Z
LAST-MODIFIED:20250815T154601Z
UID:10004485-1759255200-1759262400@namifranklincounty.org
SUMMARY:NAMI Peer-to-Peer Recovery Program
DESCRIPTION:NAMI Peer-to-Peer Recovery Program–This eight-week\, unique\, experiential recovery program is for people living with a mental health condition. interested in establishing and maintaining their wellness and recovery. Contact Laurita Barber (614) 530-4554 (9:00 a.m.-5:00 p.m. Monday-Friday) or email laurita.barber@namifc.org.
URL:https://namifranklincounty.org/calendar/peer-to-peer-class/2025-09-30/
LOCATION:Zoom—Meeting ID and Passcode will be emailed after registration and before class begins .
END:VEVENT
BEGIN:VEVENT
DTSTART;TZID=UTC:20250923T180000
DTEND;TZID=UTC:20250923T200000
DTSTAMP:20260419T214830
CREATED:20250815T153202Z
LAST-MODIFIED:20250815T154601Z
UID:10004484-1758650400-1758657600@namifranklincounty.org
SUMMARY:NAMI Peer-to-Peer Recovery Program
DESCRIPTION:NAMI Peer-to-Peer Recovery Program–This eight-week\, unique\, experiential recovery program is for people living with a mental health condition. interested in establishing and maintaining their wellness and recovery. Contact Laurita Barber (614) 530-4554 (9:00 a.m.-5:00 p.m. Monday-Friday) or email laurita.barber@namifc.org.
URL:https://namifranklincounty.org/calendar/peer-to-peer-class/2025-09-23/
LOCATION:Zoom—Meeting ID and Passcode will be emailed after registration and before class begins .
END:VEVENT
BEGIN:VEVENT
DTSTART;TZID=UTC:20250916T180000
DTEND;TZID=UTC:20250916T200000
DTSTAMP:20260419T214830
CREATED:20250815T153202Z
LAST-MODIFIED:20250815T154601Z
UID:10004483-1758045600-1758052800@namifranklincounty.org
SUMMARY:NAMI Peer-to-Peer Recovery Program
DESCRIPTION:NAMI Peer-to-Peer Recovery Program–This eight-week\, unique\, experiential recovery program is for people living with a mental health condition. interested in establishing and maintaining their wellness and recovery. Contact Laurita Barber (614) 530-4554 (9:00 a.m.-5:00 p.m. Monday-Friday) or email laurita.barber@namifc.org.
URL:https://namifranklincounty.org/calendar/peer-to-peer-class/2025-09-16/
LOCATION:Zoom—Meeting ID and Passcode will be emailed after registration and before class begins .
END:VEVENT
BEGIN:VEVENT
DTSTART;TZID=UTC:20250909T180000
DTEND;TZID=UTC:20250909T200000
DTSTAMP:20260419T214830
CREATED:20250815T153202Z
LAST-MODIFIED:20250815T154601Z
UID:10004482-1757440800-1757448000@namifranklincounty.org
SUMMARY:NAMI Peer-to-Peer Recovery Program
DESCRIPTION:NAMI Peer-to-Peer Recovery Program–This eight-week\, unique\, experiential recovery program is for people living with a mental health condition. interested in establishing and maintaining their wellness and recovery. Contact Laurita Barber (614) 530-4554 (9:00 a.m.-5:00 p.m. Monday-Friday) or email laurita.barber@namifc.org.
URL:https://namifranklincounty.org/calendar/peer-to-peer-class/2025-09-09/
LOCATION:Zoom—Meeting ID and Passcode will be emailed after registration and before class begins .
END:VEVENT
END:VCALENDAR